BEGIN:VCALENDAR
VERSION:2.0
PRODID:-//Brain - ECPv6.15.18//NONSGML v1.0//EN
CALSCALE:GREGORIAN
METHOD:PUBLISH
X-ORIGINAL-URL:https://brain.uci.edu
X-WR-CALDESC:Events for Brain
REFRESH-INTERVAL;VALUE=DURATION:PT1H
X-Robots-Tag:noindex
X-PUBLISHED-TTL:PT1H
BEGIN:VTIMEZONE
TZID:America/Los_Angeles
BEGIN:DAYLIGHT
TZOFFSETFROM:-0800
TZOFFSETTO:-0700
TZNAME:PDT
DTSTART:20180311T100000
END:DAYLIGHT
BEGIN:STANDARD
TZOFFSETFROM:-0700
TZOFFSETTO:-0800
TZNAME:PST
DTSTART:20181104T090000
END:STANDARD
BEGIN:DAYLIGHT
TZOFFSETFROM:-0800
TZOFFSETTO:-0700
TZNAME:PDT
DTSTART:20190310T100000
END:DAYLIGHT
BEGIN:STANDARD
TZOFFSETFROM:-0700
TZOFFSETTO:-0800
TZNAME:PST
DTSTART:20191103T090000
END:STANDARD
BEGIN:DAYLIGHT
TZOFFSETFROM:-0800
TZOFFSETTO:-0700
TZNAME:PDT
DTSTART:20200308T100000
END:DAYLIGHT
BEGIN:STANDARD
TZOFFSETFROM:-0700
TZOFFSETTO:-0800
TZNAME:PST
DTSTART:20201101T090000
END:STANDARD
END:VTIMEZONE
BEGIN:VEVENT
DTSTART;TZID=America/Los_Angeles:20190905T110000
DTEND;TZID=America/Los_Angeles:20190905T120000
DTSTAMP:20260420T183625
CREATED:20190905T174358Z
LAST-MODIFIED:20190905T174358Z
UID:10000083-1567681200-1567684800@brain.uci.edu
SUMMARY:Miranda Lim\, MD\, PhD
DESCRIPTION:“The Function of Early Life Sleep in Development: Lessons from the Prairie Vole” \n\nAbstract: Despite spending almost one third of our lives asleep\, the function of sleep remains one of biology’s greatest mysteries. Nearly all animals sleep more early in life\, suggesting a highly conserved role for sleep in development. Indeed\, disrupted sleep specifically during critical periods of early development can have significant neurobehavioral effects. Poor sleep is highly prevalent in neurodevelopmental disorders\, and is commonly viewed as a symptom of “bad brain”. However\, our recent research suggests that poor sleep may actually play a causative role in the onset of neurodevelopmental disorders. This seminar examines evidence in the prairie vole\, a highly social wild rodent\, to test the idea that sleep plays an active and crucial role in the developing social brain\, and address emerging findings of the developmental consequences of sleep disruption. This research points to potentially novel therapies using sleep-related interventions to improve outcomes in neurodevelopmental disorders such as autism spectrum disorder.
URL:https://brain.uci.edu/event/miranda-lim-md-phd/
LOCATION:Irvine\, CA\, 92697\, United States
CATEGORIES:Students, Faculty, Staff Only
ATTACH;FMTTYPE=:
END:VEVENT
END:VCALENDAR