BEGIN:VCALENDAR
VERSION:2.0
PRODID:-//Brain - ECPv6.15.18//NONSGML v1.0//EN
CALSCALE:GREGORIAN
METHOD:PUBLISH
X-ORIGINAL-URL:https://brain.uci.edu
X-WR-CALDESC:Events for Brain
REFRESH-INTERVAL;VALUE=DURATION:PT1H
X-Robots-Tag:noindex
X-PUBLISHED-TTL:PT1H
BEGIN:VTIMEZONE
TZID:America/Los_Angeles
BEGIN:DAYLIGHT
TZOFFSETFROM:-0800
TZOFFSETTO:-0700
TZNAME:PDT
DTSTART:20180311T100000
END:DAYLIGHT
BEGIN:STANDARD
TZOFFSETFROM:-0700
TZOFFSETTO:-0800
TZNAME:PST
DTSTART:20181104T090000
END:STANDARD
BEGIN:DAYLIGHT
TZOFFSETFROM:-0800
TZOFFSETTO:-0700
TZNAME:PDT
DTSTART:20190310T100000
END:DAYLIGHT
BEGIN:STANDARD
TZOFFSETFROM:-0700
TZOFFSETTO:-0800
TZNAME:PST
DTSTART:20191103T090000
END:STANDARD
BEGIN:DAYLIGHT
TZOFFSETFROM:-0800
TZOFFSETTO:-0700
TZNAME:PDT
DTSTART:20200308T100000
END:DAYLIGHT
BEGIN:STANDARD
TZOFFSETFROM:-0700
TZOFFSETTO:-0800
TZNAME:PST
DTSTART:20201101T090000
END:STANDARD
END:VTIMEZONE
BEGIN:VEVENT
DTSTART;TZID=America/Los_Angeles:20191028T120000
DTEND;TZID=America/Los_Angeles:20191028T130000
DTSTAMP:20260420T031408
CREATED:20191023T173742Z
LAST-MODIFIED:20191023T173742Z
UID:10000095-1572264000-1572267600@brain.uci.edu
SUMMARY:Learning and Using Two Languages May Change Your Mind
DESCRIPTION:Judith F. Kroll\n\nDistinguished Professor\nDepartment of Language Science\nUniversity of California\, Irvine\nMonday\, October 28\, 2019 12:00 – 1:15 pm\, Education 2010
URL:https://brain.uci.edu/event/judithkroll/
LOCATION:Irvine\, CA\, 92697\, United States
CATEGORIES:Faculty,Staff,Students
ATTACH;FMTTYPE=:
END:VEVENT
END:VCALENDAR