BEGIN:VCALENDAR
VERSION:2.0
PRODID:-//Brain - ECPv6.15.18//NONSGML v1.0//EN
CALSCALE:GREGORIAN
METHOD:PUBLISH
X-ORIGINAL-URL:https://brain.uci.edu
X-WR-CALDESC:Events for Brain
REFRESH-INTERVAL;VALUE=DURATION:PT1H
X-Robots-Tag:noindex
X-PUBLISHED-TTL:PT1H
BEGIN:VTIMEZONE
TZID:America/Los_Angeles
BEGIN:DAYLIGHT
TZOFFSETFROM:-0800
TZOFFSETTO:-0700
TZNAME:PDT
DTSTART:20190310T100000
END:DAYLIGHT
BEGIN:STANDARD
TZOFFSETFROM:-0700
TZOFFSETTO:-0800
TZNAME:PST
DTSTART:20191103T090000
END:STANDARD
BEGIN:DAYLIGHT
TZOFFSETFROM:-0800
TZOFFSETTO:-0700
TZNAME:PDT
DTSTART:20200308T100000
END:DAYLIGHT
BEGIN:STANDARD
TZOFFSETFROM:-0700
TZOFFSETTO:-0800
TZNAME:PST
DTSTART:20201101T090000
END:STANDARD
BEGIN:DAYLIGHT
TZOFFSETFROM:-0800
TZOFFSETTO:-0700
TZNAME:PDT
DTSTART:20210314T100000
END:DAYLIGHT
BEGIN:STANDARD
TZOFFSETFROM:-0700
TZOFFSETTO:-0800
TZNAME:PST
DTSTART:20211107T090000
END:STANDARD
END:VTIMEZONE
BEGIN:VEVENT
DTSTART;TZID=America/Los_Angeles:20200208T090000
DTEND;TZID=America/Los_Angeles:20200208T160000
DTSTAMP:20260420T184730
CREATED:20191024T204546Z
LAST-MODIFIED:20191024T204546Z
UID:10000096-1581152400-1581177600@brain.uci.edu
SUMMARY:The 2020 Irvine Brain Bee
DESCRIPTION:The Irvine Brain Bee is hosted by the Center for the Neurobiology of Learning and Memory at UC Irvine and is organized by a committee led by Manuella Yassa\, Director of Outreach and Education. The goal of the Irvine Brain Bee is to inspire high school students in Orange County to learn about the brain and provide opportunities for engagement with university students and professors. Upon registration\, Brain Bee participants will be matched with a mentor who will guide the student as he/she prepares for the competition. All Irvine Brain Bee competitors will have the opportunity to participate in workshops and review sessions at UC Irvine in preparation for the competition. \nThe 2020 Irvine Brain Bee Competition will take place on in February 2020 on the UC Irvine campus. In addition to the competition itself\, the day will include neuroscience demonstrations and hands-on activities as well as panel discussions and a keynote lecture. The competition is 100% free for students. \nRegistration required\nClick here!
URL:https://brain.uci.edu/event/2020brainbee/
LOCATION:Irvine\, CA\, 92697\, United States
CATEGORIES:Community
ATTACH;FMTTYPE=:
END:VEVENT
END:VCALENDAR