BEGIN:VCALENDAR
VERSION:2.0
PRODID:-//Brain - ECPv6.15.18//NONSGML v1.0//EN
CALSCALE:GREGORIAN
METHOD:PUBLISH
X-ORIGINAL-URL:https://brain.uci.edu
X-WR-CALDESC:Events for Brain
REFRESH-INTERVAL;VALUE=DURATION:PT1H
X-Robots-Tag:noindex
X-PUBLISHED-TTL:PT1H
BEGIN:VTIMEZONE
TZID:America/Los_Angeles
BEGIN:DAYLIGHT
TZOFFSETFROM:-0800
TZOFFSETTO:-0700
TZNAME:PDT
DTSTART:20200308T100000
END:DAYLIGHT
BEGIN:STANDARD
TZOFFSETFROM:-0700
TZOFFSETTO:-0800
TZNAME:PST
DTSTART:20201101T090000
END:STANDARD
BEGIN:DAYLIGHT
TZOFFSETFROM:-0800
TZOFFSETTO:-0700
TZNAME:PDT
DTSTART:20210314T100000
END:DAYLIGHT
BEGIN:STANDARD
TZOFFSETFROM:-0700
TZOFFSETTO:-0800
TZNAME:PST
DTSTART:20211107T090000
END:STANDARD
BEGIN:DAYLIGHT
TZOFFSETFROM:-0800
TZOFFSETTO:-0700
TZNAME:PDT
DTSTART:20220313T100000
END:DAYLIGHT
BEGIN:STANDARD
TZOFFSETFROM:-0700
TZOFFSETTO:-0800
TZNAME:PST
DTSTART:20221106T090000
END:STANDARD
END:VTIMEZONE
BEGIN:VEVENT
DTSTART;TZID=America/Los_Angeles:20210210T130000
DTEND;TZID=America/Los_Angeles:20210210T140000
DTSTAMP:20260420T200153
CREATED:20210202T192115Z
LAST-MODIFIED:20210202T192115Z
UID:10000207-1612962000-1612965600@brain.uci.edu
SUMMARY:Jason D. Shepherd\, PhD
DESCRIPTION:Virus-Like Intercellular Communication In The Nervous System \nHosted by: Dr. Emiliana Borrelli \nPlease join UCI School of Medicine’s Department of Microbiology & Molecular Genetics in a virtual seminar with Jason D. Shepherd\, Ph.D.\, Associate Professor and Jon M. Huntsman Presidential Endowed Chair of Neurobiology\, Biochemistry\, and Ophthalmology at the University of Utah School of Medicine\, where he will present his latest research. \n  \nFree to attend. Registration required. \n\n\n\n\n\nREGISTER NOW \n\n\n\n\n\n\n 
URL:https://brain.uci.edu/event/jason-d-shepherd-phd/
LOCATION:Irvine\, CA\, 92697\, United States
CATEGORIES:Faculty,Scientific,Students, Faculty, Staff Only
ATTACH;FMTTYPE=:
END:VEVENT
END:VCALENDAR