BEGIN:VCALENDAR
VERSION:2.0
PRODID:-//Brain - ECPv6.15.18//NONSGML v1.0//EN
CALSCALE:GREGORIAN
METHOD:PUBLISH
X-ORIGINAL-URL:https://brain.uci.edu
X-WR-CALDESC:Events for Brain
REFRESH-INTERVAL;VALUE=DURATION:PT1H
X-Robots-Tag:noindex
X-PUBLISHED-TTL:PT1H
BEGIN:VTIMEZONE
TZID:America/Los_Angeles
BEGIN:DAYLIGHT
TZOFFSETFROM:-0800
TZOFFSETTO:-0700
TZNAME:PDT
DTSTART:20200308T100000
END:DAYLIGHT
BEGIN:STANDARD
TZOFFSETFROM:-0700
TZOFFSETTO:-0800
TZNAME:PST
DTSTART:20201101T090000
END:STANDARD
BEGIN:DAYLIGHT
TZOFFSETFROM:-0800
TZOFFSETTO:-0700
TZNAME:PDT
DTSTART:20210314T100000
END:DAYLIGHT
BEGIN:STANDARD
TZOFFSETFROM:-0700
TZOFFSETTO:-0800
TZNAME:PST
DTSTART:20211107T090000
END:STANDARD
BEGIN:DAYLIGHT
TZOFFSETFROM:-0800
TZOFFSETTO:-0700
TZNAME:PDT
DTSTART:20220313T100000
END:DAYLIGHT
BEGIN:STANDARD
TZOFFSETFROM:-0700
TZOFFSETTO:-0800
TZNAME:PST
DTSTART:20221106T090000
END:STANDARD
END:VTIMEZONE
BEGIN:VEVENT
DTSTART;TZID=America/Los_Angeles:20210608T070000
DTEND;TZID=America/Los_Angeles:20210610T110000
DTSTAMP:20260420T030915
CREATED:20210527T223320Z
LAST-MODIFIED:20210816T225309Z
UID:10000242-1623135600-1623322800@brain.uci.edu
SUMMARY:Trisomy 21 Research Society 1st Virtual Conference
DESCRIPTION:The Trisomy 21 Research Society Virtual Conference (T21RS 2021) promotes scientific exchanges\, maximizing resource use and defining the most promising research at the basic\, translational and clinical levels. The rapid pace of progress that has taken place in the last few years demands effective communication between scientists and clinicians working in the field. The T21RS conference will be held virtually from June 8 to 10\, 2021 through the online platform EventsOnAir. All participants will have access by a user and a password to all sessions live from their computer\, laptop or tablet. \n  \nSchedule: From 7:00am PST and 4:00pm CET\nDuration: 4 hours approximately \n\n\n\n\nFor registration and payment information\, please visit: https://t21rs2021.com/registration-virtual/\n\n\nClick here to view the event program
URL:https://brain.uci.edu/event/trisomy-21-research-society-1st-virtual-conference/
LOCATION:Irvine\, CA\, 92697\, United States
CATEGORIES:Scientific
ATTACH;FMTTYPE=image/jpeg:https://brain.uci.edu/wp-content/uploads/sites/49/2021/05/image-1.jpeg
END:VEVENT
BEGIN:VEVENT
DTSTART;TZID=America/Los_Angeles:20210608T130000
DTEND;TZID=America/Los_Angeles:20210608T140000
DTSTAMP:20260420T030915
CREATED:20210525T172152Z
LAST-MODIFIED:20210816T225442Z
UID:10000241-1623157200-1623160800@brain.uci.edu
SUMMARY:Conte Center Seminar Series with Fabricio H. Do Monte\, DVM\, PhD
DESCRIPTION:Title: “Neural circuits regulating reward-approach vs. threat-avoidance responses” \nPlease join the Conte Center at UCI in a virtual seminar featuring Fabricio H. Do Monte\, DVM\, Phd. Dr. Do Monte is an Assistant Professor from the University of Texas Health Science Center at Houston\, Department of Neurobiology and Anatomy.
URL:https://brain.uci.edu/event/conte-center-seminar-series-with-fabricio-h-do-monte-dvm-phd/
LOCATION:Irvine\, CA\, 92697\, United States
CATEGORIES:Faculty,Scientific,Students, Faculty, Staff Only
ATTACH;FMTTYPE=image/jpeg:https://brain.uci.edu/wp-content/uploads/sites/49/2021/05/image.jpeg
END:VEVENT
END:VCALENDAR