BEGIN:VCALENDAR
VERSION:2.0
PRODID:-//Brain - ECPv6.15.18//NONSGML v1.0//EN
CALSCALE:GREGORIAN
METHOD:PUBLISH
X-ORIGINAL-URL:https://brain.uci.edu
X-WR-CALDESC:Events for Brain
REFRESH-INTERVAL;VALUE=DURATION:PT1H
X-Robots-Tag:noindex
X-PUBLISHED-TTL:PT1H
BEGIN:VTIMEZONE
TZID:UTC
BEGIN:STANDARD
TZOFFSETFROM:+0000
TZOFFSETTO:+0000
TZNAME:UTC
DTSTART:20200101T000000
END:STANDARD
END:VTIMEZONE
BEGIN:VEVENT
DTSTART;TZID=UTC:20210928T110000
DTEND;TZID=UTC:20210928T120000
DTSTAMP:20260420T211539
CREATED:20210810T002522Z
LAST-MODIFIED:20210820T214910Z
UID:10000256-1632826800-1632830400@brain.uci.edu
SUMMARY:CNLM Colloquium with Nii Addy\, Ph.D
DESCRIPTION:The CNLM will be hosting Dr. Nii Addy\,Associate Professor  of Psychiatry at the Yale School of Medicine\, in a colloquium where he will present his latest research. \nThis year\, the series will be held in a virtual format with some speakers presenting in-person as well. We will keep registered participants updated on the possibility of an in-person event as the situation with COVID-19 evolves. \n\n 
URL:https://brain.uci.edu/event/cnlm-colloquium-with-nii-addy-ph-d/
LOCATION:CNLM Herklotz Conference Center\, Irvine\, CA\, 92697\, United States
CATEGORIES:Scientific,Staff,Students,Students, Faculty, Staff Only
ATTACH;FMTTYPE=image/jpeg:https://brain.uci.edu/wp-content/uploads/sites/49/2021/08/image-2-e1628530020745.jpeg
ORGANIZER;CN="UCI Center for the Neurobiology of Learning and Memory":MAILTO:memory@uci.edu
END:VEVENT
END:VCALENDAR