BEGIN:VCALENDAR
VERSION:2.0
PRODID:-//Brain - ECPv6.15.18//NONSGML v1.0//EN
CALSCALE:GREGORIAN
METHOD:PUBLISH
X-ORIGINAL-URL:https://brain.uci.edu
X-WR-CALDESC:Events for Brain
REFRESH-INTERVAL;VALUE=DURATION:PT1H
X-Robots-Tag:noindex
X-PUBLISHED-TTL:PT1H
BEGIN:VTIMEZONE
TZID:America/Los_Angeles
BEGIN:DAYLIGHT
TZOFFSETFROM:-0800
TZOFFSETTO:-0700
TZNAME:PDT
DTSTART:20200308T100000
END:DAYLIGHT
BEGIN:STANDARD
TZOFFSETFROM:-0700
TZOFFSETTO:-0800
TZNAME:PST
DTSTART:20201101T090000
END:STANDARD
BEGIN:DAYLIGHT
TZOFFSETFROM:-0800
TZOFFSETTO:-0700
TZNAME:PDT
DTSTART:20210314T100000
END:DAYLIGHT
BEGIN:STANDARD
TZOFFSETFROM:-0700
TZOFFSETTO:-0800
TZNAME:PST
DTSTART:20211107T090000
END:STANDARD
BEGIN:DAYLIGHT
TZOFFSETFROM:-0800
TZOFFSETTO:-0700
TZNAME:PDT
DTSTART:20220313T100000
END:DAYLIGHT
BEGIN:STANDARD
TZOFFSETFROM:-0700
TZOFFSETTO:-0800
TZNAME:PST
DTSTART:20221106T090000
END:STANDARD
END:VTIMEZONE
BEGIN:VEVENT
DTSTART;TZID=America/Los_Angeles:20211021T130000
DTEND;TZID=America/Los_Angeles:20211021T140000
DTSTAMP:20260421T041748
CREATED:20211018T191631Z
LAST-MODIFIED:20211018T211212Z
UID:10000276-1634821200-1634824800@brain.uci.edu
SUMMARY:NBB Graduate Student Wellness first meeting
DESCRIPTION:First meeting for NBB Graduate Student Wellness. All NBB graduate students are welcome. This is an informal meeting as the committee wants to consolidate ideas on the topics and workshops to be discussed from the NBB graduate student community. Feel free to bring your lunch and coffee/tea/water/juice!
URL:https://brain.uci.edu/event/nbb-graduate-student-wellness-first-meeting/
LOCATION:CNLM Courtyard\, 320 Qureshey Research Lab Irvine\, CA 92697-3800\, Irvine\, 92697-3800\, United States
CATEGORIES:All,Community
ATTACH;FMTTYPE=image/jpeg:https://brain.uci.edu/wp-content/uploads/sites/49/2021/10/hal-gatewood-OgvqXGL7XO4-unsplash-scaled.jpg
END:VEVENT
END:VCALENDAR