BEGIN:VCALENDAR
VERSION:2.0
PRODID:-//Brain - ECPv6.15.18//NONSGML v1.0//EN
CALSCALE:GREGORIAN
METHOD:PUBLISH
X-ORIGINAL-URL:https://brain.uci.edu
X-WR-CALDESC:Events for Brain
REFRESH-INTERVAL;VALUE=DURATION:PT1H
X-Robots-Tag:noindex
X-PUBLISHED-TTL:PT1H
BEGIN:VTIMEZONE
TZID:America/Los_Angeles
BEGIN:DAYLIGHT
TZOFFSETFROM:-0800
TZOFFSETTO:-0700
TZNAME:PDT
DTSTART:20210314T100000
END:DAYLIGHT
BEGIN:STANDARD
TZOFFSETFROM:-0700
TZOFFSETTO:-0800
TZNAME:PST
DTSTART:20211107T090000
END:STANDARD
BEGIN:DAYLIGHT
TZOFFSETFROM:-0800
TZOFFSETTO:-0700
TZNAME:PDT
DTSTART:20220313T100000
END:DAYLIGHT
BEGIN:STANDARD
TZOFFSETFROM:-0700
TZOFFSETTO:-0800
TZNAME:PST
DTSTART:20221106T090000
END:STANDARD
BEGIN:DAYLIGHT
TZOFFSETFROM:-0800
TZOFFSETTO:-0700
TZNAME:PDT
DTSTART:20230312T100000
END:DAYLIGHT
BEGIN:STANDARD
TZOFFSETFROM:-0700
TZOFFSETTO:-0800
TZNAME:PST
DTSTART:20231105T090000
END:STANDARD
END:VTIMEZONE
BEGIN:VEVENT
DTSTART;TZID=America/Los_Angeles:20220509T160000
DTEND;TZID=America/Los_Angeles:20220509T170000
DTSTAMP:20260420T173914
CREATED:20220415T235725Z
LAST-MODIFIED:20220426T202011Z
UID:10000316-1652112000-1652115600@brain.uci.edu
SUMMARY:Conte Center Seminar Series - Mathias V. Schmidt - Max Planck Institute of Psychiatry
DESCRIPTION:Mathias V. Schmidt\, Ph.D.\nResearch Group Leader\nMax Planck Institute of Psychiatry\n\n\n\nRoutes to Enhance Stress Resilience: Manipulation of Genes or Environment\nHost: Tallie Z. Baram\, MD\, PhD \nMonday\, May 9th\, 2022\, 4 – 5 p.m. PT \nIn-person at Gross Hall 4th Floor Conference Room \nRefreshments and Pastries to be provided \nAlso will be Telecast via Zoom \n \nEvent Contact: James Weinstock | jweinsto@hs.uci.edu
URL:https://brain.uci.edu/event/conte-center-seminar-series-mathias-v-schmidt-max-planck-institute-of-psychiatry/
LOCATION:Virtual/Hybrid Event (In person at Gross Hall 4th Floor Conference Room)\, Irvine\, CA\, 92697\, United States
CATEGORIES:All
ATTACH;FMTTYPE=image/jpeg:https://brain.uci.edu/wp-content/uploads/sites/49/2022/04/Headshot.jpg
END:VEVENT
END:VCALENDAR