BEGIN:VCALENDAR
VERSION:2.0
PRODID:-//Brain - ECPv6.15.18//NONSGML v1.0//EN
CALSCALE:GREGORIAN
METHOD:PUBLISH
X-ORIGINAL-URL:https://brain.uci.edu
X-WR-CALDESC:Events for Brain
REFRESH-INTERVAL;VALUE=DURATION:PT1H
X-Robots-Tag:noindex
X-PUBLISHED-TTL:PT1H
BEGIN:VTIMEZONE
TZID:America/Los_Angeles
BEGIN:DAYLIGHT
TZOFFSETFROM:-0800
TZOFFSETTO:-0700
TZNAME:PDT
DTSTART:20210314T100000
END:DAYLIGHT
BEGIN:STANDARD
TZOFFSETFROM:-0700
TZOFFSETTO:-0800
TZNAME:PST
DTSTART:20211107T090000
END:STANDARD
BEGIN:DAYLIGHT
TZOFFSETFROM:-0800
TZOFFSETTO:-0700
TZNAME:PDT
DTSTART:20220313T100000
END:DAYLIGHT
BEGIN:STANDARD
TZOFFSETFROM:-0700
TZOFFSETTO:-0800
TZNAME:PST
DTSTART:20221106T090000
END:STANDARD
BEGIN:DAYLIGHT
TZOFFSETFROM:-0800
TZOFFSETTO:-0700
TZNAME:PDT
DTSTART:20230312T100000
END:DAYLIGHT
BEGIN:STANDARD
TZOFFSETFROM:-0700
TZOFFSETTO:-0800
TZNAME:PST
DTSTART:20231105T090000
END:STANDARD
END:VTIMEZONE
BEGIN:VEVENT
DTSTART;TZID=America/Los_Angeles:20221004T100000
DTEND;TZID=America/Los_Angeles:20221004T110000
DTSTAMP:20260420T041603
CREATED:20220929T153733Z
LAST-MODIFIED:20220929T154020Z
UID:10000350-1664877600-1664881200@brain.uci.edu
SUMMARY:Rongxin Fang\, PhD
DESCRIPTION:Analysis of Cortical Evolution with Specially Resolved Transcriptome Imaging \nJoin the UCI Center for Neural Circuit Mapping in a virtual seminar featuring Dr. Rongxin Fang. Dr. Fang is currently a Howard Hughes Medical Institute fellow of the Dameon Runyon Cancer Research Foundation at Harvard University. He received his Ph.D in Bioinformatics at the University of California\, San Diego.
URL:https://brain.uci.edu/event/rongxin-fang-phd/
LOCATION:Virtual Event
CATEGORIES:Faculty,Scientific,Staff,Students
ATTACH;FMTTYPE=image/jpeg:https://brain.uci.edu/wp-content/uploads/sites/49/2022/09/image-5.jpeg
END:VEVENT
BEGIN:VEVENT
DTSTART;TZID=America/Los_Angeles:20221004T110000
DTEND;TZID=America/Los_Angeles:20221004T120000
DTSTAMP:20260420T041603
CREATED:20220913T175619Z
LAST-MODIFIED:20220913T175640Z
UID:10000337-1664881200-1664884800@brain.uci.edu
SUMMARY:Neurobiology and Behavior Seminar with Dr. Alan Urban
DESCRIPTION:How can functional ultrasound imaging (fUSI) impact your research\, and what’s next? \nJoin the UCI Department of Neurobiology and Behavior in a hybrid seminar featuring Dr. Alan Urban\, Assistant Professor of the Department of Neurosciences of KU Leuven Research. \nAbstract: \nFunctional ultrasound imaging (fUSI) is based on Doppler ultrasound to track changes in cerebral blood volume as an indirect readout of evoked neuronal activity. It is similar to fMRI but with better spatiotemporal resolution and fewer technical constraints. Indeed\, fUSI can be performed in head-fixed or freely behaving rodents and allows volumetric images of the entire mouse brain. Proof of concept studies has been conducted in many species\, including primates and humans. fUSI has reached maturity\, and open access hardware and software solutions developed at NERF contribute to a faster and broader adoption by the neuroscience community. This seminar aims to introduce the physical basis of fUSI and present state-of-the-art in the field while providing detailed examples of the most impactful fUSI research. I will also discuss the latest capabilities of fUSI and suggest routes for improving the fUSI technology in the next few years. \nHybrid Event\nThe seminar will be live-streamed via zoom and in person.\nPlease RSVP to let us know how you will attend and receive zoom link. \nIn-Person Meeting: Dale Melbourne Herklotz Conference Room\, the Center for the Neurobiology of Learning and Memory 300 Qureshey Research Lab
URL:https://brain.uci.edu/event/neurobiology-and-behavior-seminar-with-dr-alan-urban/
LOCATION:CNLM Herklotz Conference Center and Virtually via Zoom
CATEGORIES:Faculty,Scientific,Staff,Students
ATTACH;FMTTYPE=image/jpeg:https://brain.uci.edu/wp-content/uploads/sites/49/2022/09/Alan-Urban.jpg
END:VEVENT
END:VCALENDAR