BEGIN:VCALENDAR
VERSION:2.0
PRODID:-//Brain - ECPv6.15.18//NONSGML v1.0//EN
CALSCALE:GREGORIAN
METHOD:PUBLISH
X-ORIGINAL-URL:https://brain.uci.edu
X-WR-CALDESC:Events for Brain
REFRESH-INTERVAL;VALUE=DURATION:PT1H
X-Robots-Tag:noindex
X-PUBLISHED-TTL:PT1H
BEGIN:VTIMEZONE
TZID:America/Los_Angeles
BEGIN:DAYLIGHT
TZOFFSETFROM:-0800
TZOFFSETTO:-0700
TZNAME:PDT
DTSTART:20210314T100000
END:DAYLIGHT
BEGIN:STANDARD
TZOFFSETFROM:-0700
TZOFFSETTO:-0800
TZNAME:PST
DTSTART:20211107T090000
END:STANDARD
BEGIN:DAYLIGHT
TZOFFSETFROM:-0800
TZOFFSETTO:-0700
TZNAME:PDT
DTSTART:20220313T100000
END:DAYLIGHT
BEGIN:STANDARD
TZOFFSETFROM:-0700
TZOFFSETTO:-0800
TZNAME:PST
DTSTART:20221106T090000
END:STANDARD
BEGIN:DAYLIGHT
TZOFFSETFROM:-0800
TZOFFSETTO:-0700
TZNAME:PDT
DTSTART:20230312T100000
END:DAYLIGHT
BEGIN:STANDARD
TZOFFSETFROM:-0700
TZOFFSETTO:-0800
TZNAME:PST
DTSTART:20231105T090000
END:STANDARD
END:VTIMEZONE
BEGIN:VEVENT
DTSTART;TZID=America/Los_Angeles:20221025T100000
DTEND;TZID=America/Los_Angeles:20221025T110000
DTSTAMP:20260420T112740
CREATED:20220929T155114Z
LAST-MODIFIED:20221018T171916Z
UID:10000352-1666692000-1666695600@brain.uci.edu
SUMMARY:Li Zhang\, Ph.D.
DESCRIPTION:“Neural circuits for valence coding\, emotional states\, and motivated behaviors” \nJoin the UCI Center for Neural Circuit Mapping in a hybrid seminar featuring Dr. Li Zhang of USC Medical School. \nAbstract: \nThe topic is about our recent studies on neural circuits in the medial preoptic area (MPOA) of the hypothalamus. MPOA plays a critical role in parental and prosocial behaviors via subpopulations of its GABAergic neurons. We now show that MPOA can be more generally viewed to serve as a critical hub to mediate both negative and positive emotional states and related behaviors through its glutamatergic and GABAergic neurons\, respectively\, with the former encoding extremely negative valence and mediating anxiety-like behaviors\, and the latter\, oppositely\, encoding positive valence and producing rewarding effects.  I will discuss the circuitry underlying how MPOA coordinately and antagonistically mediates behaviors related to different emotional states.
URL:https://brain.uci.edu/event/li-zhang-ph-d-2/
LOCATION:Interdisciplinary Science and Engineering Building (ISEB) and Virtually Via Zoom\, 419 Physical Sciences Quad\, Irvine\, 92697\, United States
CATEGORIES:Faculty,Scientific,Staff,Students
ATTACH;FMTTYPE=image/jpeg:https://brain.uci.edu/wp-content/uploads/sites/49/2022/09/image-7.jpeg
END:VEVENT
BEGIN:VEVENT
DTSTART;TZID=America/Los_Angeles:20221025T120000
DTEND;TZID=America/Los_Angeles:20221025T130000
DTSTAMP:20260420T112740
CREATED:20220929T163455Z
LAST-MODIFIED:20221014T155243Z
UID:10000354-1666699200-1666702800@brain.uci.edu
SUMMARY:NextGen Epilepsy Seminar: Jessie Buth and Christos Lisgaras
DESCRIPTION:Join the UCI Epilepsy Research Center in a virtual seminar of their NextGen Epilepsy Seminar Series featuring Jessie Buth\, PhD Student of the Novitch Lab at UCLA and Christos Lisgaras\, PhD\, Postdoctoral Fellow of the Scharfman Lab at the Nathan S. Kline Institute for Psychiatric Research. \nThe seminar will be hosted by Robert Hunt\, PhD and will feature Jessie Buth presenting Investigating the Role of KDM6B in Human Brain Development and Autism Spectrum Disorder Using Stem Cell Models and Christos Lisgaras presenting Deciphering the Role of Hippocampal Area CA2 in Temporal Lobe Epilepsy Using Closed-Loop Optogenetics. 
URL:https://brain.uci.edu/event/nextgen-epilepsy-seminar-jessie-buth-and-christos-lisgaras/
LOCATION:CA
CATEGORIES:Faculty,Scientific,Staff,Students
ATTACH;FMTTYPE=image/png:https://brain.uci.edu/wp-content/uploads/sites/49/2022/09/jessieButh-Christos-Lisgaras-01.png
END:VEVENT
BEGIN:VEVENT
DTSTART;TZID=America/Los_Angeles:20221025T130000
DTEND;TZID=America/Los_Angeles:20221025T140000
DTSTAMP:20260420T112740
CREATED:20220929T151034Z
LAST-MODIFIED:20220929T151034Z
UID:10000349-1666702800-1666706400@brain.uci.edu
SUMMARY:Rajendra Morey\, MD\, MS
DESCRIPTION:Leveraging Team Science at a Global Scale to Investigate the Neurobiology of PTSD \nJoin the Conte Center @ UCI for a virtual seminar featuring Dr. Rajendra Morey\, Professor of Psychiatry and Behavioral Sciences at Duke University.
URL:https://brain.uci.edu/event/rajendra-morey-md-ms/
LOCATION:Virtual Event
CATEGORIES:Faculty,Scientific,Staff,Students
ATTACH;FMTTYPE=image/jpeg:https://brain.uci.edu/wp-content/uploads/sites/49/2022/09/Rajendra-Morey-Headshot.jpg
END:VEVENT
END:VCALENDAR