BEGIN:VCALENDAR
VERSION:2.0
PRODID:-//Brain - ECPv6.15.18//NONSGML v1.0//EN
CALSCALE:GREGORIAN
METHOD:PUBLISH
X-ORIGINAL-URL:https://brain.uci.edu
X-WR-CALDESC:Events for Brain
REFRESH-INTERVAL;VALUE=DURATION:PT1H
X-Robots-Tag:noindex
X-PUBLISHED-TTL:PT1H
BEGIN:VTIMEZONE
TZID:America/Los_Angeles
BEGIN:DAYLIGHT
TZOFFSETFROM:-0800
TZOFFSETTO:-0700
TZNAME:PDT
DTSTART:20210314T100000
END:DAYLIGHT
BEGIN:STANDARD
TZOFFSETFROM:-0700
TZOFFSETTO:-0800
TZNAME:PST
DTSTART:20211107T090000
END:STANDARD
BEGIN:DAYLIGHT
TZOFFSETFROM:-0800
TZOFFSETTO:-0700
TZNAME:PDT
DTSTART:20220313T100000
END:DAYLIGHT
BEGIN:STANDARD
TZOFFSETFROM:-0700
TZOFFSETTO:-0800
TZNAME:PST
DTSTART:20221106T090000
END:STANDARD
BEGIN:DAYLIGHT
TZOFFSETFROM:-0800
TZOFFSETTO:-0700
TZNAME:PDT
DTSTART:20230312T100000
END:DAYLIGHT
BEGIN:STANDARD
TZOFFSETFROM:-0700
TZOFFSETTO:-0800
TZNAME:PST
DTSTART:20231105T090000
END:STANDARD
END:VTIMEZONE
BEGIN:VEVENT
DTSTART;TZID=America/Los_Angeles:20221118T100000
DTEND;TZID=America/Los_Angeles:20221118T110000
DTSTAMP:20260420T094111
CREATED:20221115T181607Z
LAST-MODIFIED:20221115T183134Z
UID:10000372-1668765600-1668769200@brain.uci.edu
SUMMARY:Julio Licinio\, MD\, PhD\, MBA\, MS
DESCRIPTION:Please join the Central for Neural Circuit Mapping at UCI’s Special Seminar Friday\, November 18\, at 9:00 AM PT with a presentation by Dr. Julio Licinio titled “The epigenetic reader Plant Homeodomain Finger Protein 21B (PHF21B) regulates social memory\, associated behaviors\, glutamatergic neurotransmission\, and synaptic plasticity–related genes in the hippocampus” \n  \nThis event will be held in-person in the Interdisciplinary Science and Engineering Building (ISEB) 1310 and virtually via Zoom. \n  \n 
URL:https://brain.uci.edu/event/julio-licinio-md-phd-mba-ms/
LOCATION:Interdisciplinary Science and Engineering Building (ISEB) and Virtually Via Zoom\, 419 Physical Sciences Quad\, Irvine\, 92697\, United States
CATEGORIES:Scientific,Staff,Students
ATTACH;FMTTYPE=image/png:https://brain.uci.edu/wp-content/uploads/sites/49/2022/11/Screen-Shot-2022-11-15-at-10.19.17-AM-1.png
END:VEVENT
END:VCALENDAR