BEGIN:VCALENDAR
VERSION:2.0
PRODID:-//Brain - ECPv6.15.18//NONSGML v1.0//EN
CALSCALE:GREGORIAN
METHOD:PUBLISH
X-ORIGINAL-URL:https://brain.uci.edu
X-WR-CALDESC:Events for Brain
REFRESH-INTERVAL;VALUE=DURATION:PT1H
X-Robots-Tag:noindex
X-PUBLISHED-TTL:PT1H
BEGIN:VTIMEZONE
TZID:America/Los_Angeles
BEGIN:DAYLIGHT
TZOFFSETFROM:-0800
TZOFFSETTO:-0700
TZNAME:PDT
DTSTART:20230312T100000
END:DAYLIGHT
BEGIN:STANDARD
TZOFFSETFROM:-0700
TZOFFSETTO:-0800
TZNAME:PST
DTSTART:20231105T090000
END:STANDARD
BEGIN:DAYLIGHT
TZOFFSETFROM:-0800
TZOFFSETTO:-0700
TZNAME:PDT
DTSTART:20240310T100000
END:DAYLIGHT
BEGIN:STANDARD
TZOFFSETFROM:-0700
TZOFFSETTO:-0800
TZNAME:PST
DTSTART:20241103T090000
END:STANDARD
BEGIN:DAYLIGHT
TZOFFSETFROM:-0800
TZOFFSETTO:-0700
TZNAME:PDT
DTSTART:20250309T100000
END:DAYLIGHT
BEGIN:STANDARD
TZOFFSETFROM:-0700
TZOFFSETTO:-0800
TZNAME:PST
DTSTART:20251102T090000
END:STANDARD
END:VTIMEZONE
BEGIN:VEVENT
DTSTART;TZID=America/Los_Angeles:20241209T140000
DTEND;TZID=America/Los_Angeles:20241209T180000
DTSTAMP:20260421T001312
CREATED:20241104T223324Z
LAST-MODIFIED:20241104T223324Z
UID:10000627-1733752800-1733767200@brain.uci.edu
SUMMARY:Special Symposium and Reception "Your Brain on Art"
DESCRIPTION:Join us for our special symposium and reception that will bring the scientific and creative community together to celebrate the intersection between brain science and art. This unique event aims to foster meaningful conversations about the transformative power of art and its deep connection to the self. Also we will celebrate collaborative achievements of our UCI Center for Neural Circuit Mapping during this holiday season. \nWe will showcase captivating artworks from local artists and feature engaging guest speakers who will present on topics that intertwine neuroscience and artistic expression. Attendees can also explore interactive demonstrations from ICS’s Augmented Reality Lab that will provide a hands-on experience that displays how an immersive virtual environment can amplify one’s art experience. Registration is required to attend (21+ only). \nThis special event marks the beginning of what we hope will be a series of larger-scale events that continue to inspire and educate our community. We hope to see you there!
URL:https://brain.uci.edu/event/special-symposium-and-reception-your-brain-on-art/
LOCATION:Interdisciplinary Science and Engineering Building (ISEB) 1200\, Irvine\, CA\, 92697\, United States
ATTACH;FMTTYPE=image/jpeg:https://brain.uci.edu/wp-content/uploads/sites/49/2024/11/Social-Ad.jpg
END:VEVENT
END:VCALENDAR