BEGIN:VCALENDAR
VERSION:2.0
PRODID:-//Brain - ECPv6.15.18//NONSGML v1.0//EN
CALSCALE:GREGORIAN
METHOD:PUBLISH
X-WR-CALNAME:Brain
X-ORIGINAL-URL:https://brain.uci.edu
X-WR-CALDESC:Events for Brain
REFRESH-INTERVAL;VALUE=DURATION:PT1H
X-Robots-Tag:noindex
X-PUBLISHED-TTL:PT1H
BEGIN:VTIMEZONE
TZID:UTC
BEGIN:STANDARD
TZOFFSETFROM:+0000
TZOFFSETTO:+0000
TZNAME:UTC
DTSTART:20200101T000000
END:STANDARD
END:VTIMEZONE
BEGIN:VEVENT
DTSTART;TZID=UTC:20210914T130000
DTEND;TZID=UTC:20210914T143000
DTSTAMP:20260421T104654
CREATED:20210805T052222Z
LAST-MODIFIED:20210805T052222Z
UID:10000254-1631624400-1631629800@brain.uci.edu
SUMMARY:Conte Center Seminar Series with Alicia K. Smith\, PhD
DESCRIPTION:Epigenetic Consequences of Trauma Exposure Across the Lifespan \nJoin the Conte Center @ UCI in a virtual seminar featuring Alicia K. Smith\, PhD. Dr. Smith is an Associate Professor from Emory University School of Medicine\, Department of Gynecology and Obstetrics. \nZoom Link: https://ucihealth.zoom.us/j/91917001244?pwd=R1NRaGE0Q01RYnpqay9LWm04OWcxZz09
URL:https://brain.uci.edu/event/conte-center-seminar-series-with-alicia-k-smith-phd/
LOCATION:Virtual Event
CATEGORIES:All,Community,Scientific
ATTACH;FMTTYPE=image/png:https://brain.uci.edu/wp-content/uploads/sites/49/2021/08/image-1.png
END:VEVENT
END:VCALENDAR