BEGIN:VCALENDAR
VERSION:2.0
PRODID:-//Brain - ECPv6.15.18//NONSGML v1.0//EN
CALSCALE:GREGORIAN
METHOD:PUBLISH
X-ORIGINAL-URL:https://brain.uci.edu
X-WR-CALDESC:Events for Brain
REFRESH-INTERVAL;VALUE=DURATION:PT1H
X-Robots-Tag:noindex
X-PUBLISHED-TTL:PT1H
BEGIN:VTIMEZONE
TZID:America/Los_Angeles
BEGIN:DAYLIGHT
TZOFFSETFROM:-0800
TZOFFSETTO:-0700
TZNAME:PDT
DTSTART:20210314T100000
END:DAYLIGHT
BEGIN:STANDARD
TZOFFSETFROM:-0700
TZOFFSETTO:-0800
TZNAME:PST
DTSTART:20211107T090000
END:STANDARD
BEGIN:DAYLIGHT
TZOFFSETFROM:-0800
TZOFFSETTO:-0700
TZNAME:PDT
DTSTART:20220313T100000
END:DAYLIGHT
BEGIN:STANDARD
TZOFFSETFROM:-0700
TZOFFSETTO:-0800
TZNAME:PST
DTSTART:20221106T090000
END:STANDARD
BEGIN:DAYLIGHT
TZOFFSETFROM:-0800
TZOFFSETTO:-0700
TZNAME:PDT
DTSTART:20230312T100000
END:DAYLIGHT
BEGIN:STANDARD
TZOFFSETFROM:-0700
TZOFFSETTO:-0800
TZNAME:PST
DTSTART:20231105T090000
END:STANDARD
END:VTIMEZONE
BEGIN:VEVENT
DTSTART;TZID=America/Los_Angeles:20220615T120000
DTEND;TZID=America/Los_Angeles:20220615T130000
DTSTAMP:20260421T074136
CREATED:20220524T203020Z
LAST-MODIFIED:20220524T203148Z
UID:10000330-1655294400-1655298000@brain.uci.edu
SUMMARY:Virtual Lunch and Learn: Turning the Page as a Scientific Editor
DESCRIPTION:  \n\n\n\n  \nGeorge Inglis\, PhD\nAssociate Editor at Communications Biology\n\n\n\nVirtual Lunch and Learn:\nTurning the Page as a Scientific Editor \nWednesday\, June 15\, 2022\n12 PM PT\nTelecast via Zoom \nFree to attend. Registration required. \n \nDr. Inglis is available for 1:1 meetings with any faculty or trainees interested in talking about their work. If interested\, please feel free to contact Dr. Inglis directly at george.inglis@us.nature.com or complete the journal’s meet-the-editor form via this link. \nSpeaker Bio:\nDr. George Inglis is an Associate Editor at Communications Biology\, an open-access journal in the Nature Portfolio that considers research articles\, reviews and commentary in all areas of the biological sciences. In this session\, Dr. Inglis will demystify the life science publishing landscape\, the role of an editor in the publication process\, and the career path to becoming an academic editor. He will also discuss the daily life of a research editor and ways to get involved in the editing or peer review process. Dr. Inglis received his BS in Biology from Pennsylvania State University in 2014\, and PhD in Genetics and Molecular Biology from Emory University in 2020. While at Emory\, he studied epigenomics\, mouse models of voltage-gated sodium channel dysfunction\, and in vitro models of neuronal development. George joined Communications Biology as an Associate Editor in September 2020 and is based in the New York office. \nEvent Contact: Robert Hunt\, PhD | robert.hunt@uci.edu \n  \nCo-Sponsored by
URL:https://brain.uci.edu/event/virtual-lunch-and-learn-turning-the-page-as-a-scientific-editor/
LOCATION:Virtual Event
CATEGORIES:Community
ATTACH;FMTTYPE=image/jpeg:https://brain.uci.edu/wp-content/uploads/sites/49/2022/05/George-Inglis-PhD-06.15.22-1.jpg
ORGANIZER;CN="UCI School of Medicine%2C Department of Anatomy &amp%3B Neurobiology":MAILTO:jdiazalo@uci.edu, lgng@hs.uci.edu
END:VEVENT
END:VCALENDAR