BEGIN:VCALENDAR
VERSION:2.0
PRODID:-//Brain - ECPv6.15.18//NONSGML v1.0//EN
CALSCALE:GREGORIAN
METHOD:PUBLISH
X-WR-CALNAME:Brain
X-ORIGINAL-URL:https://brain.uci.edu
X-WR-CALDESC:Events for Brain
REFRESH-INTERVAL;VALUE=DURATION:PT1H
X-Robots-Tag:noindex
X-PUBLISHED-TTL:PT1H
BEGIN:VTIMEZONE
TZID:UTC
BEGIN:STANDARD
TZOFFSETFROM:+0000
TZOFFSETTO:+0000
TZNAME:UTC
DTSTART:20200101T000000
END:STANDARD
END:VTIMEZONE
BEGIN:VTIMEZONE
TZID:America/Los_Angeles
BEGIN:DAYLIGHT
TZOFFSETFROM:-0800
TZOFFSETTO:-0700
TZNAME:PDT
DTSTART:20200308T100000
END:DAYLIGHT
BEGIN:STANDARD
TZOFFSETFROM:-0700
TZOFFSETTO:-0800
TZNAME:PST
DTSTART:20201101T090000
END:STANDARD
BEGIN:DAYLIGHT
TZOFFSETFROM:-0800
TZOFFSETTO:-0700
TZNAME:PDT
DTSTART:20210314T100000
END:DAYLIGHT
BEGIN:STANDARD
TZOFFSETFROM:-0700
TZOFFSETTO:-0800
TZNAME:PST
DTSTART:20211107T090000
END:STANDARD
BEGIN:DAYLIGHT
TZOFFSETFROM:-0800
TZOFFSETTO:-0700
TZNAME:PDT
DTSTART:20220313T100000
END:DAYLIGHT
BEGIN:STANDARD
TZOFFSETFROM:-0700
TZOFFSETTO:-0800
TZNAME:PST
DTSTART:20221106T090000
END:STANDARD
END:VTIMEZONE
BEGIN:VEVENT
DTSTART;TZID=UTC:20210907T190000
DTEND;TZID=UTC:20210907T200000
DTSTAMP:20260421T083759
CREATED:20210804T224851Z
LAST-MODIFIED:20210804T224851Z
UID:10000253-1631041200-1631044800@brain.uci.edu
SUMMARY:“Lab-Grown Brains: New Models to Study Neurological Disorders”
DESCRIPTION:Join the Sue & Bill Gross Stem Cell Research Center for their community lecture series where physician scientists and basic science researchers provide an opportunity to learn more about stem cells\, including current research\, clinical trials\, therapies\, and the future of regenerative medicine. September’s lecture is by Momoko Watanabe\, PhD\, and Claire Henchcliffe\, MD\, DPhil. \nThis event will be held in person and live-streamed on Zoom. \n 
URL:https://brain.uci.edu/event/lab-grown-brains-new-models-to-study-neurological-disorders/
LOCATION:Gross Hall\, 4th Floor in room #4001\, UC Irvine\, Irvine\, CA\, 92697\, United States
CATEGORIES:Community
ATTACH;FMTTYPE=image/jpeg:https://brain.uci.edu/wp-content/uploads/sites/49/2021/08/image-1.jpeg
END:VEVENT
BEGIN:VEVENT
DTSTART;TZID=America/Los_Angeles:20210910T080000
DTEND;TZID=America/Los_Angeles:20210910T120000
DTSTAMP:20260421T083759
CREATED:20210831T220947Z
LAST-MODIFIED:20210831T220947Z
UID:10000266-1631260800-1631275200@brain.uci.edu
SUMMARY:32nd Annual SoCal Alzheimer’s Disease Research Conference
DESCRIPTION:Join Alzheimer’s Orange County and UCI MIND for the 32nd Annual Southern California Alzheimer’s Disease Research Conference. This free\, half-day\, virtual conference will cover a wide range of topics concerning Alzheimer’s disease\, from updates on research\, to treatments\, diagnostics\, risk factors\, and genetic resilience. The impact of the COVID-19 pandemic on brain health will also be discussed. \n\nHalf-day educational conference free and open to the public\nEvent will be livestreamed on Facebook and YouTube\nSponsorship opportunities are available\n\nTo register\, please visit: https://conference.mind.uci.edu/register/
URL:https://brain.uci.edu/event/32nd-annual-socal-alzheimers-disease-research-conference/
LOCATION:Virtual Event
CATEGORIES:All,Community,Faculty,Scientific,Staff,Students
ATTACH;FMTTYPE=image/png:https://brain.uci.edu/wp-content/uploads/sites/49/2021/08/image-7.png
END:VEVENT
END:VCALENDAR