BEGIN:VCALENDAR
VERSION:2.0
PRODID:-//Brain - ECPv6.15.18//NONSGML v1.0//EN
CALSCALE:GREGORIAN
METHOD:PUBLISH
X-WR-CALNAME:Brain
X-ORIGINAL-URL:https://brain.uci.edu
X-WR-CALDESC:Events for Brain
REFRESH-INTERVAL;VALUE=DURATION:PT1H
X-Robots-Tag:noindex
X-PUBLISHED-TTL:PT1H
BEGIN:VTIMEZONE
TZID:America/Los_Angeles
BEGIN:DAYLIGHT
TZOFFSETFROM:-0800
TZOFFSETTO:-0700
TZNAME:PDT
DTSTART:20200308T100000
END:DAYLIGHT
BEGIN:STANDARD
TZOFFSETFROM:-0700
TZOFFSETTO:-0800
TZNAME:PST
DTSTART:20201101T090000
END:STANDARD
BEGIN:DAYLIGHT
TZOFFSETFROM:-0800
TZOFFSETTO:-0700
TZNAME:PDT
DTSTART:20210314T100000
END:DAYLIGHT
BEGIN:STANDARD
TZOFFSETFROM:-0700
TZOFFSETTO:-0800
TZNAME:PST
DTSTART:20211107T090000
END:STANDARD
BEGIN:DAYLIGHT
TZOFFSETFROM:-0800
TZOFFSETTO:-0700
TZNAME:PDT
DTSTART:20220313T100000
END:DAYLIGHT
BEGIN:STANDARD
TZOFFSETFROM:-0700
TZOFFSETTO:-0800
TZNAME:PST
DTSTART:20221106T090000
END:STANDARD
END:VTIMEZONE
BEGIN:VEVENT
DTSTART;TZID=America/Los_Angeles:20211115T033000
DTEND;TZID=America/Los_Angeles:20211115T163000
DTSTAMP:20260420T210545
CREATED:20211110T200433Z
LAST-MODIFIED:20211110T200433Z
UID:10000281-1636947000-1636993800@brain.uci.edu
SUMMARY:UCI MSTP Distinguished Lecture Series Talk\, Speaker: Jack Clifford\, M.D.
DESCRIPTION:The Medical Scientist Training Program will be hosting an exciting talk with an accomplished clinician-scientist\, Dr. Jack Clifford on Monday\, November 15th\, 2021. Event details are below: \n  \nClifford R. Jack\, Jr.\, MD\nProfessor of Radiology\nMayo Clinic College of Medicine and Science \nA Biological Definition of Alzheimer’s Disease: NIA-AA Research Framework Present and Future \n  \nMonday\, November 15\, 2021\n3:30 – 4:30 p.m. PT \nTelecast via Zoom \n \nOrganized by: MSTP students Dhruba Banerjee\, Jacob Deyell\, Gianna Fote\, John Hong\, Heechul Jun\, Cassandra Kooiker and Yueqi Ren \nEvent Contacts: Yueqi Ren | yueqir@uci.edu\nHeechul Jun | heechulj@hs.uci.edu \nmstp.uci.edu
URL:https://brain.uci.edu/event/uci-mstp-distinguished-lecture-series-talk-speaker-jack-clifford-m-d/
CATEGORIES:Community
ATTACH;FMTTYPE=image/jpeg:https://brain.uci.edu/wp-content/uploads/sites/49/2021/11/UCI-MSTP-Distinguished-Lecture-Series-Talk-Speaker_-Jack-Clifford-M.D.-on-Monday-November-15th-2021.jpg
ORGANIZER;CN="UCI School of Medicine%2C Department of Anatomy &amp%3B Neurobiology":MAILTO:jdiazalo@uci.edu, lgng@hs.uci.edu
END:VEVENT
BEGIN:VEVENT
DTSTART;TZID=America/Los_Angeles:20211119T161000
DTEND;TZID=America/Los_Angeles:20211119T170000
DTSTAMP:20260420T210545
CREATED:20211026T165823Z
LAST-MODIFIED:20211026T165823Z
UID:10000277-1637338200-1637341200@brain.uci.edu
SUMMARY:Conte Center Seminar: Greg Duncan\, PhD and Sonya Troller-Renfree\, PhD
DESCRIPTION:The Conte Center@UCI will be hosting\, Dr. Duncan\, Distinguished Professor of Education at UCI\, and Dr. Troller-Renfree\, Postdoctoral Research Associate at Columbia University\, where they will be presenting their latest research on the impact of a poverty reduction intervention on infant brain activity. The series will be held in a virtual format. Zoom Link: https://ucihealth.zoom.us/j/91917001244?pwd=R1NRaGE0Q01RYnpqay9LWm04OWcxZz09
URL:https://brain.uci.edu/event/conte-center-seminar-greg-duncan-phd-and-sonya-troller-renfree-phd/
LOCATION:Virtual Event
CATEGORIES:Community
ATTACH;FMTTYPE=image/png:https://brain.uci.edu/wp-content/uploads/sites/49/2021/10/Conte-Center-Seminar-Greg-Duncan-PhD-and-Sonya-Troller-Renfree-PhD.png
END:VEVENT
END:VCALENDAR