BEGIN:VCALENDAR
VERSION:2.0
PRODID:-//Brain - ECPv6.15.18//NONSGML v1.0//EN
CALSCALE:GREGORIAN
METHOD:PUBLISH
X-ORIGINAL-URL:https://brain.uci.edu
X-WR-CALDESC:Events for Brain
REFRESH-INTERVAL;VALUE=DURATION:PT1H
X-Robots-Tag:noindex
X-PUBLISHED-TTL:PT1H
BEGIN:VTIMEZONE
TZID:America/Los_Angeles
BEGIN:DAYLIGHT
TZOFFSETFROM:-0800
TZOFFSETTO:-0700
TZNAME:PDT
DTSTART:20200308T100000
END:DAYLIGHT
BEGIN:STANDARD
TZOFFSETFROM:-0700
TZOFFSETTO:-0800
TZNAME:PST
DTSTART:20201101T090000
END:STANDARD
BEGIN:DAYLIGHT
TZOFFSETFROM:-0800
TZOFFSETTO:-0700
TZNAME:PDT
DTSTART:20210314T100000
END:DAYLIGHT
BEGIN:STANDARD
TZOFFSETFROM:-0700
TZOFFSETTO:-0800
TZNAME:PST
DTSTART:20211107T090000
END:STANDARD
BEGIN:DAYLIGHT
TZOFFSETFROM:-0800
TZOFFSETTO:-0700
TZNAME:PDT
DTSTART:20220313T100000
END:DAYLIGHT
BEGIN:STANDARD
TZOFFSETFROM:-0700
TZOFFSETTO:-0800
TZNAME:PST
DTSTART:20221106T090000
END:STANDARD
END:VTIMEZONE
BEGIN:VEVENT
DTSTART;TZID=America/Los_Angeles:20210415T110000
DTEND;TZID=America/Los_Angeles:20210415T120000
DTSTAMP:20260421T200848
CREATED:20210311T200144Z
LAST-MODIFIED:20210311T200144Z
UID:10000219-1618484400-1618488000@brain.uci.edu
SUMMARY:ICAN Seminar -Dr. Arif Hamid
DESCRIPTION:Dopamine waves as a mechanism for spatiotemporal credit assignment. \nJoin the UC Irvine Center for Addiction Neuroscience in a virtual ICAN Seminar featuring Arif Hamid\, PhD\, from Brown University. \nAbstract\nSignificant evidence supports the view that dopamine shapes reward-learning by encoding prediction errors. However\, it is unknown whether dopamine decision-signals are tailored to the functional specialization of target regions. In this talk\, I will report on a novel set of wave-like spatiotemporal activation patterns in dopamine axons (and release) across the dorsal striatum that switch between different activational motifs. At reward delivery\, waves are altered by task demands\, propagating from dorsomedial to dorsolateral striatum during instrumental contingencies\, and in the opponent direction when rewards are independent of animal behavior. I will demonstrate that our results are consistent with a computational architecture in which striatal dopamine signals are sculpted by inference about agency\, and provide evidence for a spatiotemporally “vectorized” role of dopamine in credit assignment directed toward specialized “expert” striatal subregions.
URL:https://brain.uci.edu/event/ican-seminar-dr-arif-hamid/
LOCATION:Irvine\, CA\, 92697\, United States
CATEGORIES:Faculty,Scientific,Students, Faculty, Staff Only
ATTACH;FMTTYPE=:
END:VEVENT
END:VCALENDAR