BEGIN:VCALENDAR
VERSION:2.0
PRODID:-//Brain - ECPv6.15.18//NONSGML v1.0//EN
CALSCALE:GREGORIAN
METHOD:PUBLISH
X-ORIGINAL-URL:https://brain.uci.edu
X-WR-CALDESC:Events for Brain
REFRESH-INTERVAL;VALUE=DURATION:PT1H
X-Robots-Tag:noindex
X-PUBLISHED-TTL:PT1H
BEGIN:VTIMEZONE
TZID:America/Los_Angeles
BEGIN:DAYLIGHT
TZOFFSETFROM:-0800
TZOFFSETTO:-0700
TZNAME:PDT
DTSTART:20200308T100000
END:DAYLIGHT
BEGIN:STANDARD
TZOFFSETFROM:-0700
TZOFFSETTO:-0800
TZNAME:PST
DTSTART:20201101T090000
END:STANDARD
BEGIN:DAYLIGHT
TZOFFSETFROM:-0800
TZOFFSETTO:-0700
TZNAME:PDT
DTSTART:20210314T100000
END:DAYLIGHT
BEGIN:STANDARD
TZOFFSETFROM:-0700
TZOFFSETTO:-0800
TZNAME:PST
DTSTART:20211107T090000
END:STANDARD
BEGIN:DAYLIGHT
TZOFFSETFROM:-0800
TZOFFSETTO:-0700
TZNAME:PDT
DTSTART:20220313T100000
END:DAYLIGHT
BEGIN:STANDARD
TZOFFSETFROM:-0700
TZOFFSETTO:-0800
TZNAME:PST
DTSTART:20221106T090000
END:STANDARD
END:VTIMEZONE
BEGIN:VEVENT
DTSTART;TZID=America/Los_Angeles:20210518T150000
DTEND;TZID=America/Los_Angeles:20210518T170000
DTSTAMP:20260421T171715
CREATED:20210305T182541Z
LAST-MODIFIED:20210816T225959Z
UID:10000218-1621350000-1621357200@brain.uci.edu
SUMMARY:2021 CNLM Awards Ceremony
DESCRIPTION:Join the Center for the Neurobiology of Learning and Memory (CNLM) for the 2021 CNLM Awards Ceremony The CNLM offers awards to exceptional postdoctoral researchers\, graduate trainees\, and undergraduates students.  Awardees will be presented with a plaque and $1\,000 stipend and will be invited to present their work in brief Elevator Pitch format to the UCI academic community and the public at our annual CNLM Awards Ceremony. \n  \nApplications for the 2021 CNLM Awards are due Monday\, March 29 at 5:00PM PST.\nFor more information\, please visit: https://cnlm.uci.edu/awards/ \n 
URL:https://brain.uci.edu/event/2021-cnlm-awards-ceremony/
LOCATION:Irvine\, CA\, 92697\, United States
CATEGORIES:All,Community,Faculty,Scientific,Staff,Students
ATTACH;FMTTYPE=image/jpeg:https://brain.uci.edu/wp-content/uploads/sites/49/2021/03/image-1.jpeg
END:VEVENT
END:VCALENDAR