BEGIN:VCALENDAR
VERSION:2.0
PRODID:-//Brain - ECPv6.15.18//NONSGML v1.0//EN
CALSCALE:GREGORIAN
METHOD:PUBLISH
X-WR-CALNAME:Brain
X-ORIGINAL-URL:https://brain.uci.edu
X-WR-CALDESC:Events for Brain
REFRESH-INTERVAL;VALUE=DURATION:PT1H
X-Robots-Tag:noindex
X-PUBLISHED-TTL:PT1H
BEGIN:VTIMEZONE
TZID:America/Los_Angeles
BEGIN:DAYLIGHT
TZOFFSETFROM:-0800
TZOFFSETTO:-0700
TZNAME:PDT
DTSTART:20200308T100000
END:DAYLIGHT
BEGIN:STANDARD
TZOFFSETFROM:-0700
TZOFFSETTO:-0800
TZNAME:PST
DTSTART:20201101T090000
END:STANDARD
BEGIN:DAYLIGHT
TZOFFSETFROM:-0800
TZOFFSETTO:-0700
TZNAME:PDT
DTSTART:20210314T100000
END:DAYLIGHT
BEGIN:STANDARD
TZOFFSETFROM:-0700
TZOFFSETTO:-0800
TZNAME:PST
DTSTART:20211107T090000
END:STANDARD
BEGIN:DAYLIGHT
TZOFFSETFROM:-0800
TZOFFSETTO:-0700
TZNAME:PDT
DTSTART:20220313T100000
END:DAYLIGHT
BEGIN:STANDARD
TZOFFSETFROM:-0700
TZOFFSETTO:-0800
TZNAME:PST
DTSTART:20221106T090000
END:STANDARD
END:VTIMEZONE
BEGIN:VEVENT
DTSTART;TZID=America/Los_Angeles:20210526T113000
DTEND;TZID=America/Los_Angeles:20210526T123000
DTSTAMP:20260419T083751
CREATED:20210524T195057Z
LAST-MODIFIED:20210816T225720Z
UID:10000240-1622028600-1622032200@brain.uci.edu
SUMMARY:PharmSci Seminar with Amal Alachkar\, Ph.D.
DESCRIPTION:Department of Pharmaceutical Sciences Research Seminar Series:  \nIntergenerational Trauma: Two-hit Mechanism and Early Preventive Interventions \nPlease join the Department of Pharmaceutical Sciences in a research seminar featuring UC Irvine Associate Professor\, Dr. Amal Alachkar. \nAbstract: \nThe deleterious impacts of existential trauma during pregnancy are doubled as they affect the mental health of two generations (the mothers’ and the unborn offspring). In my lab we try to establish early biomarkers for identifying individuals at risk\, and for predicting novel treatment targets at the earliest practicable ages. Our studies show that trauma exposure in mice during pregnancy induces in the offspring social deficits and depressive-like behavior through divergent and convergent mechanisms of both in utero and early-life parenting environments. Molecular mechanisms of intergenerational trauma transmission involve stress- and hypoxia-response energy pathways\, especially mitochondrial ATP production\, and epigenetic processes. We establish 2-Hydroxyglutaric acid as an early predictive biomarker for trauma-induced behavioral deficits. Early but not late pharmacological interventions with acetyl-L-carnitine supplementation\, produces long-lasting protection against the behavioral deficits associated with intergenerational trauma.
URL:https://brain.uci.edu/event/pharmsci-seminar-with-amal-alachkar-ph-d/
LOCATION:Irvine\, CA\, 92697\, United States
CATEGORIES:Faculty,Scientific,Students, Faculty, Staff Only
ATTACH;FMTTYPE=image/png:https://brain.uci.edu/wp-content/uploads/sites/49/2021/05/image-3.png
END:VEVENT
END:VCALENDAR