BEGIN:VCALENDAR
VERSION:2.0
PRODID:-//Brain - ECPv6.15.18//NONSGML v1.0//EN
CALSCALE:GREGORIAN
METHOD:PUBLISH
X-WR-CALNAME:Brain
X-ORIGINAL-URL:https://brain.uci.edu
X-WR-CALDESC:Events for Brain
REFRESH-INTERVAL;VALUE=DURATION:PT1H
X-Robots-Tag:noindex
X-PUBLISHED-TTL:PT1H
BEGIN:VTIMEZONE
TZID:America/Los_Angeles
BEGIN:DAYLIGHT
TZOFFSETFROM:-0800
TZOFFSETTO:-0700
TZNAME:PDT
DTSTART:20220313T100000
END:DAYLIGHT
BEGIN:STANDARD
TZOFFSETFROM:-0700
TZOFFSETTO:-0800
TZNAME:PST
DTSTART:20221106T090000
END:STANDARD
BEGIN:DAYLIGHT
TZOFFSETFROM:-0800
TZOFFSETTO:-0700
TZNAME:PDT
DTSTART:20230312T100000
END:DAYLIGHT
BEGIN:STANDARD
TZOFFSETFROM:-0700
TZOFFSETTO:-0800
TZNAME:PST
DTSTART:20231105T090000
END:STANDARD
BEGIN:DAYLIGHT
TZOFFSETFROM:-0800
TZOFFSETTO:-0700
TZNAME:PDT
DTSTART:20240310T100000
END:DAYLIGHT
BEGIN:STANDARD
TZOFFSETFROM:-0700
TZOFFSETTO:-0800
TZNAME:PST
DTSTART:20241103T090000
END:STANDARD
END:VTIMEZONE
BEGIN:VEVENT
DTSTART;TZID=America/Los_Angeles:20230404T110000
DTEND;TZID=America/Los_Angeles:20230404T120000
DTSTAMP:20260419T120633
CREATED:20220926T155054Z
LAST-MODIFIED:20230320T182242Z
UID:10000348-1680606000-1680609600@brain.uci.edu
SUMMARY:Megan Peters\, Ph.D.
DESCRIPTION:CNLM Colloquium UCI Spotlight Series \nJoin the CNLM in a hybrid colloquium featuring Dr. Megan Peters\, Assistant Professor of Cognitive Science at UC Irvine. \nNeurocomputational approaches to the study of perceptual awareness \nDescription: When our brains process sensory information\, they transform it into a coherent\, conscious experience that we use to drive adaptive decisions and learning. In this talk I will describe several ongoing lines of research in my group that focus on understanding the neural and computational substrates of our subjective sense of the world around us. Specifically\, separating the study of phenomenology from the study of signal processing capacity is challenging\, so our group has been focusing on how the study of metacognitive evaluation (confidence judgements in our perceptual decisions) may shine light on these processes. Using a combination of behavior/psychophysics\, computational modeling\, noninvasive neuroimaging\, and machine learning in humans\, we seek to understand how the brain is capable of efficiently using sensory information and how this ability relates to our qualitative\, phenomenal experiences. \nThis event will be held in-person in the Herklotz Conference Center and virtually via Zoom.
URL:https://brain.uci.edu/event/megan-peters-ph-d/
LOCATION:CNLM Herklotz Conference Center and Virtually via Zoom
CATEGORIES:Faculty,Scientific,Staff,Students
ATTACH;FMTTYPE=image/png:https://brain.uci.edu/wp-content/uploads/sites/49/2021/08/Megan-Peters.png
ORGANIZER;CN="UCI Center for the Neurobiology of Learning and Memory":MAILTO:memory@uci.edu
END:VEVENT
END:VCALENDAR