BEGIN:VCALENDAR
VERSION:2.0
PRODID:-//Brain - ECPv6.15.18//NONSGML v1.0//EN
CALSCALE:GREGORIAN
METHOD:PUBLISH
X-ORIGINAL-URL:https://brain.uci.edu
X-WR-CALDESC:Events for Brain
REFRESH-INTERVAL;VALUE=DURATION:PT1H
X-Robots-Tag:noindex
X-PUBLISHED-TTL:PT1H
BEGIN:VTIMEZONE
TZID:America/Los_Angeles
BEGIN:DAYLIGHT
TZOFFSETFROM:-0800
TZOFFSETTO:-0700
TZNAME:PDT
DTSTART:20220313T100000
END:DAYLIGHT
BEGIN:STANDARD
TZOFFSETFROM:-0700
TZOFFSETTO:-0800
TZNAME:PST
DTSTART:20221106T090000
END:STANDARD
BEGIN:DAYLIGHT
TZOFFSETFROM:-0800
TZOFFSETTO:-0700
TZNAME:PDT
DTSTART:20230312T100000
END:DAYLIGHT
BEGIN:STANDARD
TZOFFSETFROM:-0700
TZOFFSETTO:-0800
TZNAME:PST
DTSTART:20231105T090000
END:STANDARD
BEGIN:DAYLIGHT
TZOFFSETFROM:-0800
TZOFFSETTO:-0700
TZNAME:PDT
DTSTART:20240310T100000
END:DAYLIGHT
BEGIN:STANDARD
TZOFFSETFROM:-0700
TZOFFSETTO:-0800
TZNAME:PST
DTSTART:20241103T090000
END:STANDARD
END:VTIMEZONE
BEGIN:VEVENT
DTSTART;TZID=America/Los_Angeles:20230426T080000
DTEND;TZID=America/Los_Angeles:20230430T170000
DTSTAMP:20260421T220020
CREATED:20230329T164104Z
LAST-MODIFIED:20230329T164104Z
UID:10000398-1682496000-1682874000@brain.uci.edu
SUMMARY:LEARNMEM2023
DESCRIPTION:Join the Center for the Neurobiology of Learning and Memory for the 2023 International Conference on Learning and Memory (LEARNMEM™2023) on April 26-30\, 2023 in Huntington Beach\, CA. The Conference will be held in celebration of the 40th Anniversary of the Center for the Neurobiology of Learning and Memory (CNLM). \nLEARNMEM™2023 will feature keynote talks by distinguished speakers\, scientific symposia\, lightning talks\, open papers\, poster sessions as well as professional development and networking opportunities. \nThe conference will have a substantial impact on the field by accelerating the pace of team science and providing a unique networking opportunity for the next generation of leaders in neuroscience.
URL:https://brain.uci.edu/event/learnmem2023/
LOCATION:Waterfront Beach Resort\, 21100 Pacific Coast Highway\, Huntington Beach\, CA\, 92648\, United States
CATEGORIES:Faculty,Scientific,Staff,Students,Students, Faculty, Staff Only
ATTACH;FMTTYPE=image/jpeg:https://brain.uci.edu/wp-content/uploads/sites/49/2023/03/LearnMem2023RegistrationBanner-01-1536x831-1.jpg
ORGANIZER;CN="UCI Center for the Neurobiology of Learning and Memory":MAILTO:memory@uci.edu
END:VEVENT
END:VCALENDAR