BEGIN:VCALENDAR
VERSION:2.0
PRODID:-//Brain - ECPv6.15.18//NONSGML v1.0//EN
CALSCALE:GREGORIAN
METHOD:PUBLISH
X-WR-CALNAME:Brain
X-ORIGINAL-URL:https://brain.uci.edu
X-WR-CALDESC:Events for Brain
REFRESH-INTERVAL;VALUE=DURATION:PT1H
X-Robots-Tag:noindex
X-PUBLISHED-TTL:PT1H
BEGIN:VTIMEZONE
TZID:America/Los_Angeles
BEGIN:DAYLIGHT
TZOFFSETFROM:-0800
TZOFFSETTO:-0700
TZNAME:PDT
DTSTART:20220313T100000
END:DAYLIGHT
BEGIN:STANDARD
TZOFFSETFROM:-0700
TZOFFSETTO:-0800
TZNAME:PST
DTSTART:20221106T090000
END:STANDARD
BEGIN:DAYLIGHT
TZOFFSETFROM:-0800
TZOFFSETTO:-0700
TZNAME:PDT
DTSTART:20230312T100000
END:DAYLIGHT
BEGIN:STANDARD
TZOFFSETFROM:-0700
TZOFFSETTO:-0800
TZNAME:PST
DTSTART:20231105T090000
END:STANDARD
BEGIN:DAYLIGHT
TZOFFSETFROM:-0800
TZOFFSETTO:-0700
TZNAME:PDT
DTSTART:20240310T100000
END:DAYLIGHT
BEGIN:STANDARD
TZOFFSETFROM:-0700
TZOFFSETTO:-0800
TZNAME:PST
DTSTART:20241103T090000
END:STANDARD
END:VTIMEZONE
BEGIN:VEVENT
DTSTART;TZID=America/Los_Angeles:20231009T093000
DTEND;TZID=America/Los_Angeles:20231009T190000
DTSTAMP:20260419T100554
CREATED:20230804T180405Z
LAST-MODIFIED:20230804T181633Z
UID:10000416-1696843800-1696878000@brain.uci.edu
SUMMARY:AI & Biomedicine Symposium: AI and Neuroscience
DESCRIPTION:This year’s annual Southern California AI and Biomedicine Symposium will focus on AI and Neuroscience.  The event is co-sponsored by the UCI Institute for Genomics and Bioinformatics and the UCI Center for the Neurobiology of Learning and Memory. The free event includes a full day of talks\, lunch\, and reception. RSVP soon as space is limited. \nDownload Event Flyer
URL:https://brain.uci.edu/event/ai-biomedicine-symposium-ai-and-neuroscience/
LOCATION:Calit2 Auditorium\, 4100 Calit2 Building\, Irvine\, Irvine
CATEGORIES:Faculty,Scientific,Staff,Students,Students, Faculty, Staff Only
ATTACH;FMTTYPE=image/jpeg:https://brain.uci.edu/wp-content/uploads/sites/49/2023/08/ai-biomedical-symposium.jpg
END:VEVENT
END:VCALENDAR