BEGIN:VCALENDAR
VERSION:2.0
PRODID:-//Brain - ECPv6.15.18//NONSGML v1.0//EN
CALSCALE:GREGORIAN
METHOD:PUBLISH
X-ORIGINAL-URL:https://brain.uci.edu
X-WR-CALDESC:Events for Brain
REFRESH-INTERVAL;VALUE=DURATION:PT1H
X-Robots-Tag:noindex
X-PUBLISHED-TTL:PT1H
BEGIN:VTIMEZONE
TZID:America/Los_Angeles
BEGIN:DAYLIGHT
TZOFFSETFROM:-0800
TZOFFSETTO:-0700
TZNAME:PDT
DTSTART:20200308T100000
END:DAYLIGHT
BEGIN:STANDARD
TZOFFSETFROM:-0700
TZOFFSETTO:-0800
TZNAME:PST
DTSTART:20201101T090000
END:STANDARD
BEGIN:DAYLIGHT
TZOFFSETFROM:-0800
TZOFFSETTO:-0700
TZNAME:PDT
DTSTART:20210314T100000
END:DAYLIGHT
BEGIN:STANDARD
TZOFFSETFROM:-0700
TZOFFSETTO:-0800
TZNAME:PST
DTSTART:20211107T090000
END:STANDARD
BEGIN:DAYLIGHT
TZOFFSETFROM:-0800
TZOFFSETTO:-0700
TZNAME:PDT
DTSTART:20220313T100000
END:DAYLIGHT
BEGIN:STANDARD
TZOFFSETFROM:-0700
TZOFFSETTO:-0800
TZNAME:PST
DTSTART:20221106T090000
END:STANDARD
END:VTIMEZONE
BEGIN:VEVENT
DTSTART;TZID=America/Los_Angeles:20210302T110000
DTEND;TZID=America/Los_Angeles:20210302T120000
DTSTAMP:20260425T201525
CREATED:20200923T202209Z
LAST-MODIFIED:20200923T202209Z
UID:10000183-1614682800-1614686400@brain.uci.edu
SUMMARY:Neurobiology and Behavior Distinguished Colloquium - Eric Nestler\, PhD
DESCRIPTION:[fusion_button link=”” text_transform=”” title=”” target=”_self” link_attributes=”” alignment_medium=”” alignment_small=”” alignment=”center” modal=”” hide_on_mobile=”small-visibility\,medium-visibility\,large-visibility” sticky_display=”normal\,sticky” class=”” id=”” color=”default” button_gradient_top_color=”” button_gradient_bottom_color=”” button_gradient_top_color_hover=”” button_gradient_bottom_color_hover=”” accent_color=”” accent_hover_color=”” type=”” bevel_color=”” border_width=”” border_radius=”” border_color=”” border_hover_color=”” size=”” stretch=”default” margin_top=”” margin_right=”” margin_bottom=”” margin_left=”” icon=”” icon_position=”left” icon_divider=”no” animation_type=”” animation_direction=”left” animation_speed=”0.3″ animation_offset=””]Save the Date[/fusion_button] \n  \nDr. Nestler is the Nash Family Professor of Neuroscience\, Director of the Friedman Brain Institute and Dean for Academic and Scientific Affairs at the ICHAN School of Medicine at Mount Sinai. His laboratory studies the molecular mechanisms of drug addiction and depression in animal models. The goal of Dr. Nestler’s research is to better understand the molecular mechanisms of addiction and depression. His laboratory uses animal models of these disorders to identify the ways in which long-term exposure to drugs of abuse or stress changes the brain to lead to addiction- or depression-like syndromes. A major focus of his work is on drug- and stress-induced changes in gene expression and chromatin structure within the brain’s reward circuitry\, and the mechanisms by which those lasting adaptations alter neuronal and circuit function to produce behavioral abnormalities. \n  \nDetails coming soon!
URL:https://brain.uci.edu/event/neurobiology-and-behavior-distinguished-colloquium-eric-nestler-phd/
LOCATION:Irvine\, 92697\, United States
CATEGORIES:Scientific,Students, Faculty, Staff Only
ATTACH;FMTTYPE=:
END:VEVENT
BEGIN:VEVENT
DTSTART;TZID=America/Los_Angeles:20210309T110000
DTEND;TZID=America/Los_Angeles:20210309T120000
DTSTAMP:20260425T201525
CREATED:20201002T185010Z
LAST-MODIFIED:20201002T185010Z
UID:10000184-1615287600-1615291200@brain.uci.edu
SUMMARY:CNLM Virtual Colloquium with Dr. Alicia Izquierdo
DESCRIPTION:Frontocortical circuits in reward learning and choice under uncertainty \nJoin the Center for the Neurobiology of Learning and Memory for a virtual colloquium with Alicia Izquierdo\, Ph.D.\, Behavioral Neuroscience Professor from the UCLA Department of Psychology.
URL:https://brain.uci.edu/event/cnlm-virtual-colloquium-with-dr-alicia-izquierdo/
LOCATION:Irvine\, 92697\, United States
CATEGORIES:Scientific,Students, Faculty, Staff Only
ATTACH;FMTTYPE=:
END:VEVENT
BEGIN:VEVENT
DTSTART;TZID=America/Los_Angeles:20210311T120000
DTEND;TZID=America/Los_Angeles:20210311T123000
DTSTAMP:20260425T201525
CREATED:20210218T212112Z
LAST-MODIFIED:20210218T212112Z
UID:10000212-1615464000-1615465800@brain.uci.edu
SUMMARY:ASK THE DOC: What is frontotemporal dementia? @ Facebook & YouTube LIVE
DESCRIPTION:Presented by UCI MIND\, Ask the Doc is an informative live video series focused on the most pressing questions about frontotemporal dementia.  \nAbout the Doc: \nAhmad Sajjadi\, MD\, PhD\, MRCP\nDr. Ahmad Sajjadi is Assistant Professor of Neurology in the UCI School of Medicine. Dr. Sajjadi received his medical degree from Tehran University of Medical Sciences in Iran and his PhD from the University of Cambridge in the UK. Dr. Sajjadi is a behavioral neurologist who sees patients with memory concerns and also conducts research on Alzheimer’s disease and atypical forms of dementia\, such as frontotemporal dementia. \n 
URL:https://brain.uci.edu/event/ask-the-doc-what-is-frontotemporal-dementia-facebook-youtube-live/
LOCATION:Irvine\, 92697\, United States
CATEGORIES:Community,Scientific,Staff,Students
ATTACH;FMTTYPE=:
END:VEVENT
BEGIN:VEVENT
DTSTART;TZID=America/Los_Angeles:20210316T090000
DTEND;TZID=America/Los_Angeles:20210316T133000
DTSTAMP:20260425T201525
CREATED:20210115T182558Z
LAST-MODIFIED:20210115T182558Z
UID:10000204-1615885200-1615901400@brain.uci.edu
SUMMARY:Conte Center@UCI 8th Annual Symposium
DESCRIPTION:Mechanisms of fear\, threat and trauma memory encoding: Relevance for PTSD \n\n\n\n\nJoin the Conte Center @ UCI ‘s 8th Annual Symposium featuring Professor of Psychiatry and Chief Scientific Officer of Harvard University\, Kerry Ressler\, M.D.\, Ph.D.\, as keynote speaker. \n  \nDownload the event flyer here. \n  \n[fusion_button link=”https://cnlm.formstack.com/forms/conte_center_symposium_registration” text_transform=”none” title=”” target=”_self” link_attributes=”” alignment_medium=”” alignment_small=”” alignment=”left” modal=”” hide_on_mobile=”small-visibility\,medium-visibility\,large-visibility” sticky_display=”normal\,sticky” class=”” id=”” color=”default” button_gradient_top_color=”” button_gradient_bottom_color=”” button_gradient_top_color_hover=”” button_gradient_bottom_color_hover=”” accent_color=”” accent_hover_color=”” type=”” bevel_color=”” border_width=”” border_radius=”” border_color=”” border_hover_color=”” size=”” stretch=”default” margin_top=”” margin_right=”” margin_bottom=”” margin_left=”” icon=”” icon_position=”left” icon_divider=”no” animation_type=”” animation_direction=”left” animation_speed=”0.3″ animation_offset=””]RSVP Required[/fusion_button] \n  \n 
URL:https://brain.uci.edu/event/conte-centeruci-8th-annual-symposium/
LOCATION:Irvine\, 92697\, United States
CATEGORIES:Community,Scientific
ATTACH;FMTTYPE=:
END:VEVENT
BEGIN:VEVENT
DTSTART;TZID=America/Los_Angeles:20210317T120000
DTEND;TZID=America/Los_Angeles:20210317T130000
DTSTAMP:20260425T201525
CREATED:20210225T204048Z
LAST-MODIFIED:20210225T204048Z
UID:10000214-1615982400-1615986000@brain.uci.edu
SUMMARY:Cognitive Care Solutions Presents: Dana Greenia
DESCRIPTION:Dana Greenia is a registered nurse\, clinical researcher and co-investigator in the 90+ study\, a NIH-NIA funded population-based investigation of people over the age of 90. Initiated in 2003\, the 90+ study is based in Laguna Woods\, California and has enrolled more than 1\,960 participants making it likely the largest study of its kind in the world. Dana Greenia will discuss the study and the updates that she and her team have learned.
URL:https://brain.uci.edu/event/cognitive-care-solutions-presents-dana-greenia/
LOCATION:Irvine\, 92697\, United States
CATEGORIES:Community,Scientific
ATTACH;FMTTYPE=:
END:VEVENT
BEGIN:VEVENT
DTSTART;TZID=America/Los_Angeles:20210318T090000
DTEND;TZID=America/Los_Angeles:20210318T123000
DTSTAMP:20260425T201525
CREATED:20210217T180648Z
LAST-MODIFIED:20210217T180648Z
UID:10000210-1616058000-1616070600@brain.uci.edu
SUMMARY:12th Annual Emerging Scientists Symposium
DESCRIPTION:Please join REMIND and UCI MIND for its 12th Annual Emerging Scientists Symposium on Thursday\, March 18th on Zoom with keynote speaker\, Tony Wyss-Coray\, PhD\, D.H. Chen Professor II of Neurology & Neurological Sciences at Stanford University (see flyer below).\n\n\n\n\n\n\n\n\n\n\n\n\n\n\n\n\n\n\n\n\n\n\n  \nRegister at www.mind.uci.edu/remindsymposium. Trainee abstracts are due Friday\, February 26th. There will be cash prizes!\n  \n\n\n\n\n\n\n\n\n\n\n\n\n\n\n\n\n\n\n\n\n\n\n\n\nFor questions\, please email remind@uci.edu.
URL:https://brain.uci.edu/event/12th-annual-emerging-scientists-symposium/
LOCATION:Irvine\, 92697\, United States
CATEGORIES:Scientific,Students
ATTACH;FMTTYPE=:
END:VEVENT
BEGIN:VEVENT
DTSTART;TZID=America/Los_Angeles:20210322T183000
DTEND;TZID=America/Los_Angeles:20210322T200000
DTSTAMP:20260425T201525
CREATED:20210301T203346Z
LAST-MODIFIED:20210301T203346Z
UID:10000217-1616437800-1616443200@brain.uci.edu
SUMMARY:4C the Future: Compassion
DESCRIPTION:Join UCI Brain virtually for our inaugural UCI Brain Dialogue Series\, 4C the Future. UCI faculty from across the UCI campus will discuss Compassion. Featured speakers for this event are: \n\nNancy Guerra\, Dean of the School of Social Ecology and Professor of Psychological Science\nSherine Hamdy\, Associate Professor of Anthropology\nRichard Matthew\, Professor & Director of the Blum Center for Poverty Alleviation\nJulian Thayer\, Distinguished Professor of Psychological Science\n\nThe UCI Brain Dialogue series is a monthly forum that brings together researchers studying one phenomenon from various perspectives. Events will include 10-minutes presentations from 3-4 invited speakers\, followed by a moderated discussion and Q&A.  This series is designed for both academics and the public. \n  \nInvite your friends on Facebook! \n 
URL:https://brain.uci.edu/event/4c-the-future-compassion/
LOCATION:Irvine\, 92697\, United States
CATEGORIES:All,Community,Scientific
ATTACH;FMTTYPE=:
END:VEVENT
BEGIN:VEVENT
DTSTART;TZID=America/Los_Angeles:20210323T090000
DTEND;TZID=America/Los_Angeles:20210323T150000
DTSTAMP:20260425T201525
CREATED:20200731T215051Z
LAST-MODIFIED:20200731T215051Z
UID:10000159-1616490000-1616511600@brain.uci.edu
SUMMARY:EpiCenter Annual Symposium
DESCRIPTION:Dr. Elizabeth Thiele\, professor of neurology at Harvard Medical School\, will be the keynote speaker during the EpiCenter Annual Symposium.
URL:https://brain.uci.edu/event/epicenter-annual-symposium/
CATEGORIES:Faculty,Scientific,Staff,Students,Students, Faculty, Staff Only
ATTACH;FMTTYPE=:
END:VEVENT
BEGIN:VEVENT
DTSTART;TZID=America/Los_Angeles:20210325T170000
DTEND;TZID=America/Los_Angeles:20210325T180000
DTSTAMP:20260425T201525
CREATED:20210323T035817Z
LAST-MODIFIED:20210323T035817Z
UID:10000221-1616691600-1616695200@brain.uci.edu
SUMMARY:Visualize: Art as a Mechanism to Communicate Science
DESCRIPTION:Art and science have always formed a natural partnership. Artists have an intangible ability to help people understand complex ideas. Their works have visually described new species\, demonstrated complex natural and technological processes and concepts\, and have enabled us to see the microscopic and the cosmic. \nIn this talk\, Rae will discuss the importance of art in the sciences; how it has inspired scientific progress\, the power that it wields as a tool to communicate science\, how she has successfully collaborated with scientists to create dynamic SciComm projects and how you can too!
URL:https://brain.uci.edu/event/visualize-art-as-a-mechanism-to-communicate-science/
LOCATION:Irvine\, 92697\, United States
CATEGORIES:Faculty,Scientific,Staff,Students
ATTACH;FMTTYPE=:
END:VEVENT
BEGIN:VEVENT
DTSTART;TZID=America/Los_Angeles:20210330T110000
DTEND;TZID=America/Los_Angeles:20210330T120000
DTSTAMP:20260425T201525
CREATED:20210218T210244Z
LAST-MODIFIED:20210218T210244Z
UID:10000211-1617102000-1617105600@brain.uci.edu
SUMMARY:Wei Xu\, Ph.D.
DESCRIPTION:The UCI Center for Neural Circuit Mapping will be hosting Dr. Wei Xu\, from the Department of Neuroscience of the University of Texas Southwestern Medical Center\, in a virtual seminar where he will present his latest research.
URL:https://brain.uci.edu/event/wei-xu-ph-d/
LOCATION:Irvine\, 92697\, United States
CATEGORIES:Faculty,Scientific,Staff,Students
ATTACH;FMTTYPE=:
END:VEVENT
END:VCALENDAR