BEGIN:VCALENDAR
VERSION:2.0
PRODID:-//Brain - ECPv6.15.18//NONSGML v1.0//EN
CALSCALE:GREGORIAN
METHOD:PUBLISH
X-ORIGINAL-URL:https://brain.uci.edu
X-WR-CALDESC:Events for Brain
REFRESH-INTERVAL;VALUE=DURATION:PT1H
X-Robots-Tag:noindex
X-PUBLISHED-TTL:PT1H
BEGIN:VTIMEZONE
TZID:America/Los_Angeles
BEGIN:DAYLIGHT
TZOFFSETFROM:-0800
TZOFFSETTO:-0700
TZNAME:PDT
DTSTART:20210314T100000
END:DAYLIGHT
BEGIN:STANDARD
TZOFFSETFROM:-0700
TZOFFSETTO:-0800
TZNAME:PST
DTSTART:20211107T090000
END:STANDARD
BEGIN:DAYLIGHT
TZOFFSETFROM:-0800
TZOFFSETTO:-0700
TZNAME:PDT
DTSTART:20220313T100000
END:DAYLIGHT
BEGIN:STANDARD
TZOFFSETFROM:-0700
TZOFFSETTO:-0800
TZNAME:PST
DTSTART:20221106T090000
END:STANDARD
BEGIN:DAYLIGHT
TZOFFSETFROM:-0800
TZOFFSETTO:-0700
TZNAME:PDT
DTSTART:20230312T100000
END:DAYLIGHT
BEGIN:STANDARD
TZOFFSETFROM:-0700
TZOFFSETTO:-0800
TZNAME:PST
DTSTART:20231105T090000
END:STANDARD
END:VTIMEZONE
BEGIN:VEVENT
DTSTART;TZID=America/Los_Angeles:20220301T100000
DTEND;TZID=America/Los_Angeles:20220301T110000
DTSTAMP:20260423T111418
CREATED:20220222T165026Z
LAST-MODIFIED:20220222T165026Z
UID:10000301-1646128800-1646132400@brain.uci.edu
SUMMARY:CNCM Seminar: Dr. Edward Zagha
DESCRIPTION:Neural mechanisms of target stimulus selection and distractor stimulus suppression \nJoin the UCI Center for Neural Circuit Mapping in a Hybrid (Virtual and In-Person) Seminar featuring Edward Zagha\, MD\, PhD from UC Riverside. \nThose who wish to attend in person will receive details upon registration. \nAbstract: \n Goal-directed behavior requires the ability to respond to task-relevant target stimuli (selection) while inhibiting responses to extraneous distractor stimuli (suppression). To better understand the neural mechanisms underlying these processes\, we trained mice in an operant whisker detection task in which they learned to respond to brief stimuli in one whisker field (target) and ignore identical stimuli in the opposite whisker field (distractor). We subsequently performed a range of neuronal recording and perturbation experiments in expert mice while they were performing this selective detection task. In this talk\, I will present data from three studies related to the differential neural processing of target and distractor signals. First\, I will demonstrate the robust attenuation of distractor-evoked responses downstream of primary somatosensory cortex (Aruljothi et al.\, 2020). Second\, I will show that frontal cortex and dorsolateral striatum have highly similar task-related neuronal representations\, and yet make drastically different functional contributions to target selection and distractor suppression. Third\, I will provide evidence for a novel mechanism by which top-down signals from frontal cortex to sensory cortex contribute to target-distractor selectivity. Overall\, these studies reveal cortical and subcortical mechanisms by which sensory signals are appropriately routed according to goal direction (Zagha 2020).
URL:https://brain.uci.edu/event/cncm-seminar-dr-edward-zagha/
LOCATION:Virtual Event
CATEGORIES:Scientific,Staff,Students
ATTACH;FMTTYPE=image/jpeg:https://brain.uci.edu/wp-content/uploads/sites/49/2022/02/image-1.jpeg
END:VEVENT
BEGIN:VEVENT
DTSTART;TZID=America/Los_Angeles:20220310T120000
DTEND;TZID=America/Los_Angeles:20220310T130000
DTSTAMP:20260423T111418
CREATED:20220214T180159Z
LAST-MODIFIED:20220224T165437Z
UID:10000299-1646913600-1646917200@brain.uci.edu
SUMMARY:Anatomy & Neurobiology Seminar with Jill K Leutgeb\, PhD
DESCRIPTION:Hippocampal Network Computations for Memories and Decisions \nJoin the Department of Anatomy & Neurobiology for a virtual seminar featuring Jill K Leutgeb\, PhD\, Walter F. Heiligenberg Professor of Neuroethology and Professor of Neurobiology in the Division of Biological Sciences at UC San Diego.
URL:https://brain.uci.edu/event/anatomy-neurobiology-seminar-with-jill-k-leutgeb-phd/
LOCATION:Virtual Event
CATEGORIES:All,Scientific,Staff,Students,Students, Faculty, Staff Only
ATTACH;FMTTYPE=image/jpeg:https://brain.uci.edu/wp-content/uploads/sites/49/2022/02/jleutgeb_3-e1644861807857.jpg
END:VEVENT
BEGIN:VEVENT
DTSTART;TZID=America/Los_Angeles:20220322T160000
DTEND;TZID=America/Los_Angeles:20220322T170000
DTSTAMP:20260423T111418
CREATED:20220222T165852Z
LAST-MODIFIED:20220316T194804Z
UID:10000302-1647964800-1647968400@brain.uci.edu
SUMMARY:Jun Nagai\, PhD
DESCRIPTION:EpiCenter 2021-2022 Seminar Series \nJoin the UCI Department of Anatomy and Neurobiology in their EpiCenter Seminar Series featuring Jun Nagai\, PhD\, Team Leader of the Glia-Neuron Circuit Dynamics Lab at the RIKEN Center for Brain Science.
URL:https://brain.uci.edu/event/jun-nagai-phd/
CATEGORIES:Scientific,Staff,Students
ATTACH;FMTTYPE=image/jpeg:https://brain.uci.edu/wp-content/uploads/sites/49/2022/02/image-2.jpeg
END:VEVENT
BEGIN:VEVENT
DTSTART;TZID=America/Los_Angeles:20220323T090000
DTEND;TZID=America/Los_Angeles:20220323T150000
DTSTAMP:20260423T111418
CREATED:20220208T183410Z
LAST-MODIFIED:20220222T200859Z
UID:10000297-1648026000-1648047600@brain.uci.edu
SUMMARY:Conte Center@UCI 9th Annual Symposium\, featuring Keynote Speaker\, Dr. Diego Pizzagalli
DESCRIPTION:Join the UCI Conte Center at its 9th Annual Symposium titled\, Origins of Mental Health and Disease: Research and Reality\, happening on March 23\, 2022. The event features keynote speaker\, Diego Pizzagalli\, Ph.D.\, Professor of Psychiatry at Harvard Medical School\, and the Center Director for a Silvio O. Conte Center for Basic Translational Mental Health Research focused on the neurobiology of and novel treatment targets for depression and anxiety disorders. \nView the event flyer here. \n 
URL:https://brain.uci.edu/event/conte-center-9th-annual-symposium/
LOCATION:Beckman Center of the National Academies of Sciences & Engineering\, 100 Academy Wy\, Irvine\, CA\, 92617\, United States
CATEGORIES:All,Community,Faculty,Scientific,Staff,Students
ATTACH;FMTTYPE=image/jpeg:https://brain.uci.edu/wp-content/uploads/sites/49/2022/02/image.jpeg
END:VEVENT
BEGIN:VEVENT
DTSTART;TZID=America/Los_Angeles:20220329T110000
DTEND;TZID=America/Los_Angeles:20220329T120000
DTSTAMP:20260423T111418
CREATED:20210827T202603Z
LAST-MODIFIED:20220307T195248Z
UID:10000264-1648551600-1648555200@brain.uci.edu
SUMMARY:Chantal Stern\, D.Phil.
DESCRIPTION:Hippocampal-prefrontal interactions for context-dependent learning and memory \nThe CNLM will be hosting Dr. Chantal Stern\, Professor of Psychological & Brain Sciences at Boston University\, in a colloquium where she will present her latest research. \nThis year\, the series will be held in a virtual format with some speakers presenting in-person as well. We will keep registered participants updated on the possibility of an in-person event as the situation with COVID-19 evolves. \n 
URL:https://brain.uci.edu/event/chantal-stern-ph-d/
LOCATION:CNLM Herklotz Conference Center\, Irvine\, CA\, 92697\, United States
CATEGORIES:Scientific,Students, Faculty, Staff Only
ATTACH;FMTTYPE=image/jpeg:https://brain.uci.edu/wp-content/uploads/sites/49/2021/08/image-7.jpeg
ORGANIZER;CN="UCI Center for the Neurobiology of Learning and Memory":MAILTO:memory@uci.edu
END:VEVENT
END:VCALENDAR