BEGIN:VCALENDAR
VERSION:2.0
PRODID:-//Brain - ECPv6.15.18//NONSGML v1.0//EN
CALSCALE:GREGORIAN
METHOD:PUBLISH
X-WR-CALNAME:Brain
X-ORIGINAL-URL:https://brain.uci.edu
X-WR-CALDESC:Events for Brain
REFRESH-INTERVAL;VALUE=DURATION:PT1H
X-Robots-Tag:noindex
X-PUBLISHED-TTL:PT1H
BEGIN:VTIMEZONE
TZID:America/Los_Angeles
BEGIN:DAYLIGHT
TZOFFSETFROM:-0800
TZOFFSETTO:-0700
TZNAME:PDT
DTSTART:20190310T100000
END:DAYLIGHT
BEGIN:STANDARD
TZOFFSETFROM:-0700
TZOFFSETTO:-0800
TZNAME:PST
DTSTART:20191103T090000
END:STANDARD
BEGIN:DAYLIGHT
TZOFFSETFROM:-0800
TZOFFSETTO:-0700
TZNAME:PDT
DTSTART:20200308T100000
END:DAYLIGHT
BEGIN:STANDARD
TZOFFSETFROM:-0700
TZOFFSETTO:-0800
TZNAME:PST
DTSTART:20201101T090000
END:STANDARD
BEGIN:DAYLIGHT
TZOFFSETFROM:-0800
TZOFFSETTO:-0700
TZNAME:PDT
DTSTART:20210314T100000
END:DAYLIGHT
BEGIN:STANDARD
TZOFFSETFROM:-0700
TZOFFSETTO:-0800
TZNAME:PST
DTSTART:20211107T090000
END:STANDARD
END:VTIMEZONE
BEGIN:VEVENT
DTSTART;TZID=America/Los_Angeles:20200130T190000
DTEND;TZID=America/Los_Angeles:20200130T200000
DTSTAMP:20260421T101824
CREATED:20191126T224903Z
LAST-MODIFIED:20191126T224903Z
UID:10000110-1580410800-1580414400@brain.uci.edu
SUMMARY:Sally Temple\, Ph.D.
DESCRIPTION:I Need a New Brain. Are Stem Cells the Answer?\n\nSally Temple\, Ph.D. from the Neural Stem Cell Institute will be the featured speaker during the Stem Cell Science Symposium sponsored by the Sue and Bill Gross Stem Cell Research Center.
URL:https://brain.uci.edu/event/ineedanewbrain/
LOCATION:Irvine\, 92697\, United States
CATEGORIES:Faculty,Scientific,Students, Faculty, Staff Only
ATTACH;FMTTYPE=:
END:VEVENT
BEGIN:VEVENT
DTSTART;TZID=America/Los_Angeles:20200131T130000
DTEND;TZID=America/Los_Angeles:20200131T140000
DTSTAMP:20260421T101824
CREATED:20200129T232443Z
LAST-MODIFIED:20200129T232443Z
UID:10000121-1580475600-1580479200@brain.uci.edu
SUMMARY:IMBS Colloquium Series with Michael Yassa\, PhD
DESCRIPTION:Episodic Memory Processes and Computations\nProfessor and Chancellor’s Fellow in Neurobiology and Behavior of Learning and Medicine at UC Irvine\nMichael Yassa\, Ph.D.
URL:https://brain.uci.edu/event/imbs-colloquium-series-with-michael-yassa-phd/
LOCATION:Irvine\, 92697\, United States
CATEGORIES:Faculty,Scientific,Students, Faculty, Staff Only
ATTACH;FMTTYPE=:
END:VEVENT
END:VCALENDAR