BEGIN:VCALENDAR
VERSION:2.0
PRODID:-//Brain - ECPv6.15.18//NONSGML v1.0//EN
CALSCALE:GREGORIAN
METHOD:PUBLISH
X-WR-CALNAME:Brain
X-ORIGINAL-URL:https://brain.uci.edu
X-WR-CALDESC:Events for Brain
REFRESH-INTERVAL;VALUE=DURATION:PT1H
X-Robots-Tag:noindex
X-PUBLISHED-TTL:PT1H
BEGIN:VTIMEZONE
TZID:America/Los_Angeles
BEGIN:DAYLIGHT
TZOFFSETFROM:-0800
TZOFFSETTO:-0700
TZNAME:PDT
DTSTART:20200308T100000
END:DAYLIGHT
BEGIN:STANDARD
TZOFFSETFROM:-0700
TZOFFSETTO:-0800
TZNAME:PST
DTSTART:20201101T090000
END:STANDARD
BEGIN:DAYLIGHT
TZOFFSETFROM:-0800
TZOFFSETTO:-0700
TZNAME:PDT
DTSTART:20210314T100000
END:DAYLIGHT
BEGIN:STANDARD
TZOFFSETFROM:-0700
TZOFFSETTO:-0800
TZNAME:PST
DTSTART:20211107T090000
END:STANDARD
BEGIN:DAYLIGHT
TZOFFSETFROM:-0800
TZOFFSETTO:-0700
TZNAME:PDT
DTSTART:20220313T100000
END:DAYLIGHT
BEGIN:STANDARD
TZOFFSETFROM:-0700
TZOFFSETTO:-0800
TZNAME:PST
DTSTART:20221106T090000
END:STANDARD
END:VTIMEZONE
BEGIN:VEVENT
DTSTART;TZID=America/Los_Angeles:20210112T110000
DTEND;TZID=America/Los_Angeles:20210112T120000
DTSTAMP:20260421T030545
CREATED:20200624T201135Z
LAST-MODIFIED:20200624T201135Z
UID:10000149-1610449200-1610452800@brain.uci.edu
SUMMARY:CNLM Virtual Colloquium with Dr. Staci D. Bilbo
DESCRIPTION:Prenatal environmental stressors impair postnatal microglial function and behavior in male mice \nJoin this virtual colloquium brought by the Center for the Neurobiology of Learning and Memory\, where Staci D. Bilbo\, Ph.D.\, from Duke University\, will be presenting her research on brain science.
URL:https://brain.uci.edu/event/stacibilbo/
LOCATION:Irvine\, 92697\, United States
CATEGORIES:Faculty,Scientific,Staff,Students,Students, Faculty, Staff Only
ATTACH;FMTTYPE=:
END:VEVENT
BEGIN:VEVENT
DTSTART;TZID=America/Los_Angeles:20210114T110000
DTEND;TZID=America/Los_Angeles:20210114T120000
DTSTAMP:20260421T030545
CREATED:20210114T191338Z
LAST-MODIFIED:20210114T191338Z
UID:10000203-1610622000-1610625600@brain.uci.edu
SUMMARY:Developmental and Cell Biology Seminar Series with Irene Chiolo
DESCRIPTION:Highways for Repair: Nuclear Actin Filaments and Myosins Drive Relocalization and Repair of Heterochromatic DNA Breaks \nJoin the UCI BioSci Department of Developmental and Cell Biology in a virtual seminar with Irene Chiolo\, Associate Professor of the Department of Biological Sciences of the University of Southern California. \n\nAbstract \nPericentromeric heterochromatin accounts for ~30% of fly and human genomes and is mostly composed of repeated DNA sequences prone to aberrant recombination. Defective double-strand break (DSB) repair of heterochromatin results in widespread genome instability\, a major driving force for tumorigenesis. Genome instability is also a leading cause of aging-related diseases and contributes to developmental defects\, sterility\, and neurological and neuromuscular degeneration in several genetic syndromes. And yet\, repair mechanisms in heterochromatin have been woefully understudied. Using Drosophila cells\, our pioneering studies have identified a striking relocalization of repair sites to the nuclear periphery for ‘safe’ homologous recombination (HR) progression. SUMOylation has a pivotal role in this pathway\, by blocking HR inside the domain and promoting relocalization. We have also uncovered a remarkable network of transient nuclear actin filaments and myosins driving directed motions to the nuclear periphery\, and we have identified highly conserved pathways in mammalian cells. More recently\, we have discovered a role for nucleoporins in mobilizing repair sites ‘off pore’\, likely through phase separation. Ultimately\, we expect these studies to open new avenues for cancer treatment and for developing more effective strategies to address aging-related disorders and neurological/neuromuscular diseases.
URL:https://brain.uci.edu/event/developmental-and-cell-biology-seminar-series-with-irene-chiolo/
LOCATION:Irvine\, 92697\, United States
CATEGORIES:Scientific,Staff,Students
ATTACH;FMTTYPE=:
END:VEVENT
END:VCALENDAR