BEGIN:VCALENDAR
VERSION:2.0
PRODID:-//Brain - ECPv6.15.18//NONSGML v1.0//EN
CALSCALE:GREGORIAN
METHOD:PUBLISH
X-WR-CALNAME:Brain
X-ORIGINAL-URL:https://brain.uci.edu
X-WR-CALDESC:Events for Brain
REFRESH-INTERVAL;VALUE=DURATION:PT1H
X-Robots-Tag:noindex
X-PUBLISHED-TTL:PT1H
BEGIN:VTIMEZONE
TZID:America/Los_Angeles
BEGIN:DAYLIGHT
TZOFFSETFROM:-0800
TZOFFSETTO:-0700
TZNAME:PDT
DTSTART:20200308T100000
END:DAYLIGHT
BEGIN:STANDARD
TZOFFSETFROM:-0700
TZOFFSETTO:-0800
TZNAME:PST
DTSTART:20201101T090000
END:STANDARD
BEGIN:DAYLIGHT
TZOFFSETFROM:-0800
TZOFFSETTO:-0700
TZNAME:PDT
DTSTART:20210314T100000
END:DAYLIGHT
BEGIN:STANDARD
TZOFFSETFROM:-0700
TZOFFSETTO:-0800
TZNAME:PST
DTSTART:20211107T090000
END:STANDARD
BEGIN:DAYLIGHT
TZOFFSETFROM:-0800
TZOFFSETTO:-0700
TZNAME:PDT
DTSTART:20220313T100000
END:DAYLIGHT
BEGIN:STANDARD
TZOFFSETFROM:-0700
TZOFFSETTO:-0800
TZNAME:PST
DTSTART:20221106T090000
END:STANDARD
END:VTIMEZONE
BEGIN:VEVENT
DTSTART;TZID=America/Los_Angeles:20210202T110000
DTEND;TZID=America/Los_Angeles:20210202T120000
DTSTAMP:20260421T123840
CREATED:20210125T213546Z
LAST-MODIFIED:20210125T213546Z
UID:10000206-1612263600-1612267200@brain.uci.edu
SUMMARY:CNCM Seminar with Dr. Aaron W. McGee
DESCRIPTION:Genetic and Circuit Mechanisms to Close Critical Periods for Neural Plasticity \nPlease join the UCI Center for Neural Circuit Mapping in a virtual seminar featuring\, Aaron W. McGee Ph.D.\, of the Department of Anatomical Sciences & Neurobiology of University of Louisville School of Medicine\, where he will be presenting his latest research. \n 
URL:https://brain.uci.edu/event/cncm-seminar-with-dr-aaron-w-mcgee/
LOCATION:Irvine\, 92697\, United States
CATEGORIES:Faculty,Scientific,Students, Faculty, Staff Only
ATTACH;FMTTYPE=:
END:VEVENT
BEGIN:VEVENT
DTSTART;TZID=America/Los_Angeles:20210205T080000
DTEND;TZID=America/Los_Angeles:20210205T090000
DTSTAMP:20260421T123840
CREATED:20210204T192415Z
LAST-MODIFIED:20210204T192415Z
UID:10000209-1612512000-1612515600@brain.uci.edu
SUMMARY:UCI Neurology Grand Rounds featuring Dr. Jeanne Loring
DESCRIPTION:Development of autologous dopamine neuron replacement therapy for Parkinson’s disease. \nPlease join the Department of Neurology in their virtual Grand Rounds featuring\, Jeanne Loring\, Ph.D.\, Professor Emeritus\, Molecular Medicine – Scripps Research\, La Jolla and Founder of Aspen Neuroscience. \n 
URL:https://brain.uci.edu/event/uci-neurology-grand-rounds-featuring-dr-jeanne-loring/
LOCATION:Irvine\, 92697\, United States
CATEGORIES:Faculty,Scientific,Students, Faculty, Staff Only
ATTACH;FMTTYPE=:
END:VEVENT
END:VCALENDAR