BEGIN:VCALENDAR
VERSION:2.0
PRODID:-//Brain - ECPv6.15.18//NONSGML v1.0//EN
CALSCALE:GREGORIAN
METHOD:PUBLISH
X-WR-CALNAME:Brain
X-ORIGINAL-URL:https://brain.uci.edu
X-WR-CALDESC:Events for Brain
REFRESH-INTERVAL;VALUE=DURATION:PT1H
X-Robots-Tag:noindex
X-PUBLISHED-TTL:PT1H
BEGIN:VTIMEZONE
TZID:America/Los_Angeles
BEGIN:DAYLIGHT
TZOFFSETFROM:-0800
TZOFFSETTO:-0700
TZNAME:PDT
DTSTART:20200308T100000
END:DAYLIGHT
BEGIN:STANDARD
TZOFFSETFROM:-0700
TZOFFSETTO:-0800
TZNAME:PST
DTSTART:20201101T090000
END:STANDARD
BEGIN:DAYLIGHT
TZOFFSETFROM:-0800
TZOFFSETTO:-0700
TZNAME:PDT
DTSTART:20210314T100000
END:DAYLIGHT
BEGIN:STANDARD
TZOFFSETFROM:-0700
TZOFFSETTO:-0800
TZNAME:PST
DTSTART:20211107T090000
END:STANDARD
BEGIN:DAYLIGHT
TZOFFSETFROM:-0800
TZOFFSETTO:-0700
TZNAME:PDT
DTSTART:20220313T100000
END:DAYLIGHT
BEGIN:STANDARD
TZOFFSETFROM:-0700
TZOFFSETTO:-0800
TZNAME:PST
DTSTART:20221106T090000
END:STANDARD
END:VTIMEZONE
BEGIN:VEVENT
DTSTART;TZID=America/Los_Angeles:20210621T183000
DTEND;TZID=America/Los_Angeles:20210621T200000
DTSTAMP:20260421T101636
CREATED:20210408T221209Z
LAST-MODIFIED:20210816T225051Z
UID:10000228-1624300200-1624305600@brain.uci.edu
SUMMARY:4C the Future: Creativity
DESCRIPTION:Join UCI Brain virtually for our UCI Brain Dialogue Series\, 4C the Future. UCI faculty from across the UCI campus will discuss Creativity. Featured speakers for this event are: \n\nLinda Palmer\, Project Scientist\, School of Biological Sciences\nBryan Reynolds\, Chancellor’s Professor & Claire Trevor Professor\nS. Ama Wray\,  Associate Professor of Dance\n\nThe UCI Brain Dialogue series is a monthly forum that brings together researchers studying one phenomenon from various perspectives. Events will include 10-minute presentations from 3-4 invited speakers\, followed by a moderated discussion and Q&A.  This series is designed for both academics and the public. \n  \n  \n \nInvite your friends on Facebook!
URL:https://brain.uci.edu/event/4c-the-future-creativity/
LOCATION:Irvine\, 92697\, United States
CATEGORIES:All,Community,Scientific
ATTACH;FMTTYPE=image/png:https://brain.uci.edu/wp-content/uploads/sites/49/2021/04/image.png
END:VEVENT
BEGIN:VEVENT
DTSTART;TZID=America/Los_Angeles:20210622T160000
DTEND;TZID=America/Los_Angeles:20210622T170000
DTSTAMP:20260421T101636
CREATED:20210528T220204Z
LAST-MODIFIED:20210816T224945Z
UID:10000244-1624377600-1624381200@brain.uci.edu
SUMMARY:EpiCenter Seminar Series with Yu Wang\, MD\, PhD
DESCRIPTION:Models\, Mechanisms\, and Therapeutics of DEPDC5-Related Malformation of Cortical Development \nJoin the UCI Epilepsy Research Center in their virtual EpiCenter Seminar Series featuring Dr. Yu Wang\, Assistant Professor of Neurology of University of Michigan Medical School.
URL:https://brain.uci.edu/event/epicenter-seminar-series-with-yu-wang-md-phd/
LOCATION:Irvine\, 92697\, United States
CATEGORIES:Scientific
ATTACH;FMTTYPE=image/png:https://brain.uci.edu/wp-content/uploads/sites/49/2021/05/image-2.png
END:VEVENT
END:VCALENDAR