BEGIN:VCALENDAR
VERSION:2.0
PRODID:-//Brain - ECPv6.15.18//NONSGML v1.0//EN
CALSCALE:GREGORIAN
METHOD:PUBLISH
X-WR-CALNAME:Brain
X-ORIGINAL-URL:https://brain.uci.edu
X-WR-CALDESC:Events for Brain
REFRESH-INTERVAL;VALUE=DURATION:PT1H
X-Robots-Tag:noindex
X-PUBLISHED-TTL:PT1H
BEGIN:VTIMEZONE
TZID:America/Los_Angeles
BEGIN:DAYLIGHT
TZOFFSETFROM:-0800
TZOFFSETTO:-0700
TZNAME:PDT
DTSTART:20200308T100000
END:DAYLIGHT
BEGIN:STANDARD
TZOFFSETFROM:-0700
TZOFFSETTO:-0800
TZNAME:PST
DTSTART:20201101T090000
END:STANDARD
BEGIN:DAYLIGHT
TZOFFSETFROM:-0800
TZOFFSETTO:-0700
TZNAME:PDT
DTSTART:20210314T100000
END:DAYLIGHT
BEGIN:STANDARD
TZOFFSETFROM:-0700
TZOFFSETTO:-0800
TZNAME:PST
DTSTART:20211107T090000
END:STANDARD
BEGIN:DAYLIGHT
TZOFFSETFROM:-0800
TZOFFSETTO:-0700
TZNAME:PDT
DTSTART:20220313T100000
END:DAYLIGHT
BEGIN:STANDARD
TZOFFSETFROM:-0700
TZOFFSETTO:-0800
TZNAME:PST
DTSTART:20221106T090000
END:STANDARD
END:VTIMEZONE
BEGIN:VEVENT
DTSTART;TZID=America/Los_Angeles:20210727T110000
DTEND;TZID=America/Los_Angeles:20210727T120000
DTSTAMP:20260421T000852
CREATED:20210630T193350Z
LAST-MODIFIED:20210816T223948Z
UID:10000248-1627383600-1627387200@brain.uci.edu
SUMMARY:Gyorgy Lur\, Ph.D.
DESCRIPTION:Sex Dependent Short- and Long-term Effects of Stress on the Parietal Circuit \nThe 2021 CNLM Summer Seminar Series is hosted by the Irvine Summer Institute in Neuroscience\, a Research Experiences for Undergraduates (REU) Program funded by the National Science Foundation and Department of Defense. The program is directed by Dr. Luis Colon-Perez and Manuella Oliveira Yassa and provides an intensive research training and professional development experience for undergraduates interested in interdisciplinary neuroscience research. \nGyorgy Lur\, Ph.D.\, Assistant Professor of Neurobiology and Behavior at UC Irvine’s School of Biological Sciences\, is one of the speakers in the 2021 Virtual CNLM Seminar Series. 
URL:https://brain.uci.edu/event/gyorgy-lur-ph-d/
LOCATION:Irvine\, 92697\, United States
CATEGORIES:Community,Scientific
ATTACH;FMTTYPE=image/jpeg:https://brain.uci.edu/wp-content/uploads/sites/49/2021/06/image-1.jpeg
END:VEVENT
END:VCALENDAR