BEGIN:VCALENDAR
VERSION:2.0
PRODID:-//Brain - ECPv6.15.18//NONSGML v1.0//EN
CALSCALE:GREGORIAN
METHOD:PUBLISH
X-WR-CALNAME:Brain
X-ORIGINAL-URL:https://brain.uci.edu
X-WR-CALDESC:Events for Brain
REFRESH-INTERVAL;VALUE=DURATION:PT1H
X-Robots-Tag:noindex
X-PUBLISHED-TTL:PT1H
BEGIN:VTIMEZONE
TZID:America/Los_Angeles
BEGIN:DAYLIGHT
TZOFFSETFROM:-0800
TZOFFSETTO:-0700
TZNAME:PDT
DTSTART:20200308T100000
END:DAYLIGHT
BEGIN:STANDARD
TZOFFSETFROM:-0700
TZOFFSETTO:-0800
TZNAME:PST
DTSTART:20201101T090000
END:STANDARD
BEGIN:DAYLIGHT
TZOFFSETFROM:-0800
TZOFFSETTO:-0700
TZNAME:PDT
DTSTART:20210314T100000
END:DAYLIGHT
BEGIN:STANDARD
TZOFFSETFROM:-0700
TZOFFSETTO:-0800
TZNAME:PST
DTSTART:20211107T090000
END:STANDARD
BEGIN:DAYLIGHT
TZOFFSETFROM:-0800
TZOFFSETTO:-0700
TZNAME:PDT
DTSTART:20220313T100000
END:DAYLIGHT
BEGIN:STANDARD
TZOFFSETFROM:-0700
TZOFFSETTO:-0800
TZNAME:PST
DTSTART:20221106T090000
END:STANDARD
END:VTIMEZONE
BEGIN:VEVENT
DTSTART;TZID=America/Los_Angeles:20211202T110000
DTEND;TZID=America/Los_Angeles:20211202T120000
DTSTAMP:20260421T192706
CREATED:20211103T213904Z
LAST-MODIFIED:20211103T214548Z
UID:10000280-1638442800-1638446400@brain.uci.edu
SUMMARY:UCI MIND Seminar Series: Omonigho M. Bubu\, PhD
DESCRIPTION:Obstructive Sleep Apnea\, Amyloid and Tau Burden\, and Alzheimer’s Disease Time-Dependent Progression \nGuest Speaker: Omonigho M. Bubu\, PhD \n\n\n\n\nDr. Bubu is an Assistant Professor and physician scientist at NYU Grossman School of Medicine\, in the Departments of Psychiatry and Population Health\, with a highly impactful programmatic research focus on sleep\, aging and Alzheimer’s disease (AD) in blacks. He did his Ph.D. from University of South Florida and a postdoctoral fellow at NYU. Dr. Bubu was awarded an NIA funded Columbia Center for Interdisciplinary Research on Alzheimer’s disease Disparities Pilot grant to conduct original research on the interaction of obstructive sleep apnea and race on plasma tau\, and neurofilament light protein. Dr. Bubu’s research focuses on examining how micro-and-macro architectural sleep changes\, and vascular risk\, impact AD risk in blacks. Alzheimer’s Disease (AD) is a neurodegenerative disease with multifactorial risk factors. Recent evidence implicates disturbed sleep as an important risk factor. This presentation will include evidence implicating obstructive sleep apnea (OSA) as a risk factor for AD\, as a physiologic marker associated with AD pathology/biomarkers (i.e. amyloid and tau)\, and as a modifier of AD risk. Results from our recent study examining whether OSA has a direct neurotoxic effect that is independent of amyloid or tau\, sufficient to induce a prospective clinical diagnosis of cognitive decline\, and whether OSA’s indirect effect that promotes amyloid or tau accumulation\, combine with OSA to act synergistically to significantly increase AD progression risk will be presented. OSA’s association with novel plasma AD biomarkers\, race and sex specific mechanisms underlying OSA-AD risk as well as future research directions will also be discussed. \n\n\nFor questions\, contact vswarup@uci.edu and bmander@hs.uci.edu
URL:https://brain.uci.edu/event/obstructive-sleep-apnea-amyloid-and-tau-burden-and-alzheimers-disease-time-dependent-progression-omonigho-m-bubu-phd/
LOCATION:Virtual Event
CATEGORIES:Community,Scientific
ATTACH;FMTTYPE=image/jpeg:https://brain.uci.edu/wp-content/uploads/sites/49/2021/11/Obstructive-Sleep-Apnea-Amyloid-and-Tau-Burden-and-Alzheimers-Disease-Time-Dependent-Progression-Omonigho-M.-Bubu-PhD.jpg
END:VEVENT
END:VCALENDAR