BEGIN:VCALENDAR
VERSION:2.0
PRODID:-//Brain - ECPv6.15.18//NONSGML v1.0//EN
CALSCALE:GREGORIAN
METHOD:PUBLISH
X-WR-CALNAME:Brain
X-ORIGINAL-URL:https://brain.uci.edu
X-WR-CALDESC:Events for Brain
REFRESH-INTERVAL;VALUE=DURATION:PT1H
X-Robots-Tag:noindex
X-PUBLISHED-TTL:PT1H
BEGIN:VTIMEZONE
TZID:America/Los_Angeles
BEGIN:DAYLIGHT
TZOFFSETFROM:-0800
TZOFFSETTO:-0700
TZNAME:PDT
DTSTART:20210314T100000
END:DAYLIGHT
BEGIN:STANDARD
TZOFFSETFROM:-0700
TZOFFSETTO:-0800
TZNAME:PST
DTSTART:20211107T090000
END:STANDARD
BEGIN:DAYLIGHT
TZOFFSETFROM:-0800
TZOFFSETTO:-0700
TZNAME:PDT
DTSTART:20220313T100000
END:DAYLIGHT
BEGIN:STANDARD
TZOFFSETFROM:-0700
TZOFFSETTO:-0800
TZNAME:PST
DTSTART:20221106T090000
END:STANDARD
BEGIN:DAYLIGHT
TZOFFSETFROM:-0800
TZOFFSETTO:-0700
TZNAME:PDT
DTSTART:20230312T100000
END:DAYLIGHT
BEGIN:STANDARD
TZOFFSETFROM:-0700
TZOFFSETTO:-0800
TZNAME:PST
DTSTART:20231105T090000
END:STANDARD
END:VTIMEZONE
BEGIN:VEVENT
DTSTART;TZID=America/Los_Angeles:20220411T110000
DTEND;TZID=America/Los_Angeles:20220411T120000
DTSTAMP:20260421T151524
CREATED:20220407T151154Z
LAST-MODIFIED:20220407T151507Z
UID:10000314-1649674800-1649678400@brain.uci.edu
SUMMARY:Neurobiology and Behavior Seminar: Dr. Eitan Schechtman
DESCRIPTION:Biasing memory processing during sleep to enhance cognition and improve wellbeing \nJoin the UCI Department of Neurobiology and Behavior in a hybrid seminar featuring Dr. Eitan Schechtman of the Cognitive Neuroscience Lab at Northwestern University. \nHybrid Event\nThe seminar will be live-streamed via zoom and in person.\nPlease RSVP to receive zoom link. \nIn-Person Meeting: Dale Melbourne Herklotz Conference Room\,\nthe Center for the Neurobiology of Learning and Memory 300 Qureshey Research Lab \n \nAbstract: Sleep is critical for the stabilization of memories. This process is thought to be supported by the reactivation of memories\, thereby strengthening the neural infrastructure supporting them. Theoretical accounts of this consolidation process focus on the process through which memories are independently strengthened\, but in natural settings\, individual memories never exist in a vacuum. In this talk\, I will present a series of studies exploring the extent of memory reactivation during sleep in humans\, how interactions between memories impact the consolidation process and the role of encoding context in memory processing during sleep. The main technique used to explore memory reactivation in these studies is targeted memory reactivation\, a behavioral manipulation that can selectively bias consolidation during sleep. The results demonstrate that multiple semantically related memories can be simultaneously consolidated during sleep. Additionally\, they show that memory reactivation during sleep may involve contextual reinstatement\, thereby impacting multiple contextually linked memories. These data suggest that reactivation during sleep is not limited to single memory items\, and can occur at the network or brain-state level. Relatedly\, we show that reactivating a suppression state during sleep can be used to selectively weaken memories. Taken together\, these results inform our current understanding regarding memory consolidation processes and open new avenues for translatable research to alleviate memory-related symptoms in patients suffering from psychiatric disorders.
URL:https://brain.uci.edu/event/neurobiology-and-behavior-seminar-dr-eitan-schechtman/
LOCATION:CNLM Herklotz Conference Center and Virtually via Zoom
CATEGORIES:Scientific,Staff,Students
ATTACH;FMTTYPE=image/jpeg:https://brain.uci.edu/wp-content/uploads/sites/49/2022/04/image.jpeg
END:VEVENT
BEGIN:VEVENT
DTSTART;TZID=America/Los_Angeles:20220412T120000
DTEND;TZID=America/Los_Angeles:20220412T130000
DTSTAMP:20260421T151524
CREATED:20220322T161224Z
LAST-MODIFIED:20220322T161317Z
UID:10000311-1649764800-1649768400@brain.uci.edu
SUMMARY:Wolfgang Löscher\, PhD
DESCRIPTION:EpiCenter 2021-2022 Seminar Series \nJoin the UCI Department of Anatomy and Neurobiology in their EpiCenter Seminar Series featuring Wolfgang Löscher\, PhD\, Professor\, Department of Pharmacology\, Toxicology and Pharmacy\, University of Veterinary Medicine Hannover.
URL:https://brain.uci.edu/event/wolfgang-loscher-phd/
CATEGORIES:Scientific,Staff,Students
ATTACH;FMTTYPE=image/jpeg:https://brain.uci.edu/wp-content/uploads/sites/49/2022/03/image-1-e1647965587355.jpeg
END:VEVENT
END:VCALENDAR