BEGIN:VCALENDAR
VERSION:2.0
PRODID:-//Brain - ECPv6.15.18//NONSGML v1.0//EN
CALSCALE:GREGORIAN
METHOD:PUBLISH
X-WR-CALNAME:Brain
X-ORIGINAL-URL:https://brain.uci.edu
X-WR-CALDESC:Events for Brain
REFRESH-INTERVAL;VALUE=DURATION:PT1H
X-Robots-Tag:noindex
X-PUBLISHED-TTL:PT1H
BEGIN:VTIMEZONE
TZID:America/Los_Angeles
BEGIN:DAYLIGHT
TZOFFSETFROM:-0800
TZOFFSETTO:-0700
TZNAME:PDT
DTSTART:20210314T100000
END:DAYLIGHT
BEGIN:STANDARD
TZOFFSETFROM:-0700
TZOFFSETTO:-0800
TZNAME:PST
DTSTART:20211107T090000
END:STANDARD
BEGIN:DAYLIGHT
TZOFFSETFROM:-0800
TZOFFSETTO:-0700
TZNAME:PDT
DTSTART:20220313T100000
END:DAYLIGHT
BEGIN:STANDARD
TZOFFSETFROM:-0700
TZOFFSETTO:-0800
TZNAME:PST
DTSTART:20221106T090000
END:STANDARD
BEGIN:DAYLIGHT
TZOFFSETFROM:-0800
TZOFFSETTO:-0700
TZNAME:PDT
DTSTART:20230312T100000
END:DAYLIGHT
BEGIN:STANDARD
TZOFFSETFROM:-0700
TZOFFSETTO:-0800
TZNAME:PST
DTSTART:20231105T090000
END:STANDARD
END:VTIMEZONE
BEGIN:VEVENT
DTSTART;TZID=America/Los_Angeles:20221129T090000
DTEND;TZID=America/Los_Angeles:20221129T100000
DTSTAMP:20260421T060103
CREATED:20221110T225223Z
LAST-MODIFIED:20221115T191915Z
UID:10000371-1669712400-1669716000@brain.uci.edu
SUMMARY:Dominik R. Bach\, MD\, PhD
DESCRIPTION:Please join the Conte Center at UCI’s Seminar Series Tuesday\, November 29\, at 9:00 AM PT with a presentation by Dominik R. Bach\, MD\, PhD titled Human Action Selection Under Threat: Computing Adaptive Behaviour.
URL:https://brain.uci.edu/event/dominik-r-bach-md-phd/
CATEGORIES:Scientific,Staff,Students
ATTACH;FMTTYPE=image/png:https://brain.uci.edu/wp-content/uploads/sites/49/2022/11/Screen-Shot-2022-11-10-at-3.03.16-PM.png
END:VEVENT
BEGIN:VEVENT
DTSTART;TZID=America/Los_Angeles:20221202T110000
DTEND;TZID=America/Los_Angeles:20221202T120000
DTSTAMP:20260421T060103
CREATED:20221110T183712Z
LAST-MODIFIED:20221201T175736Z
UID:10000370-1669978800-1669982400@brain.uci.edu
SUMMARY:Jonathan Santoro\, M.D.
DESCRIPTION:Neuroinflammation and Immunotherapy Responsiveness in Down Syndrome Regression Disorder \nJoin the UCI Center for Aging Research in Down Syndrome (CFAR-DS) for their seminar series featuring a presentation by Jonathan Santoro\, MD. \nDr. Santoro serves as the Director of Neuroimmunology and Demyelinating Disorders Program at Children’s Hospital Los Angeles. He is also an Assistant Professor of Neurology at the Keck School of Medicine at the University of Southern California. Dr. Santoro is a passionate clinician-scientist who has published over 50 peer-reviewed manuscripts. He is one of only a handful of national clinician-scientists who treat neurologic disorders associated with Down syndrome. His research expertise in inflammation is related to cerebrovascular disease and neurocognitive disorders such as Down syndrome regression syndrome. Dr. Santoro is a long-standing advocate for persons with disabilities and has lobbied locally in California and on Capitol Hill. \nThis event will be hybrid with an in-person option at UC Irvine in the Plumwood House Showa Denko Conference Room located at 1003 Health Sciences Rd\, Irvine\, CA 92617. If you’d like to join in person or via Zoom\, please email cghazal@hs.uci.edu.
URL:https://brain.uci.edu/event/cfar-ds-seminar-series/
LOCATION:Plumwood House\, 1003 Health Sciences Rd\, Irvine\, CA 92617\, Irvine\, CA\, 92697\, United States
CATEGORIES:Scientific
ATTACH;FMTTYPE=image/png:https://brain.uci.edu/wp-content/uploads/sites/49/2022/11/Screen-Shot-2022-11-10-at-10.41.05-AM.png
END:VEVENT
END:VCALENDAR