BEGIN:VCALENDAR
VERSION:2.0
PRODID:-//Brain - ECPv6.15.18//NONSGML v1.0//EN
CALSCALE:GREGORIAN
METHOD:PUBLISH
X-WR-CALNAME:Brain
X-ORIGINAL-URL:https://brain.uci.edu
X-WR-CALDESC:Events for Brain
REFRESH-INTERVAL;VALUE=DURATION:PT1H
X-Robots-Tag:noindex
X-PUBLISHED-TTL:PT1H
BEGIN:VTIMEZONE
TZID:America/Los_Angeles
BEGIN:DAYLIGHT
TZOFFSETFROM:-0800
TZOFFSETTO:-0700
TZNAME:PDT
DTSTART:20220313T100000
END:DAYLIGHT
BEGIN:STANDARD
TZOFFSETFROM:-0700
TZOFFSETTO:-0800
TZNAME:PST
DTSTART:20221106T090000
END:STANDARD
BEGIN:DAYLIGHT
TZOFFSETFROM:-0800
TZOFFSETTO:-0700
TZNAME:PDT
DTSTART:20230312T100000
END:DAYLIGHT
BEGIN:STANDARD
TZOFFSETFROM:-0700
TZOFFSETTO:-0800
TZNAME:PST
DTSTART:20231105T090000
END:STANDARD
BEGIN:DAYLIGHT
TZOFFSETFROM:-0800
TZOFFSETTO:-0700
TZNAME:PDT
DTSTART:20240310T100000
END:DAYLIGHT
BEGIN:STANDARD
TZOFFSETFROM:-0700
TZOFFSETTO:-0800
TZNAME:PST
DTSTART:20241103T090000
END:STANDARD
END:VTIMEZONE
BEGIN:VEVENT
DTSTART;TZID=America/Los_Angeles:20230207T110000
DTEND;TZID=America/Los_Angeles:20230207T120000
DTSTAMP:20260421T181443
CREATED:20220922T151937Z
LAST-MODIFIED:20230115T095102Z
UID:10000343-1675767600-1675771200@brain.uci.edu
SUMMARY:Aaron Bornstein\, Ph.D.
DESCRIPTION:CNLM Colloquium UCI Spotlight Series \nJoin the CNLM in a hybrid colloquium featuring Dr. Aaron Bornstein\, Assistant Professor of Cognitive Sciences at UC Irvine. This event will be held in-person in the Herklotz Conference Center and virtually via Zoom. Description: Reconciling adaptive and maladaptive responses to uncertainty: Data and theory.
URL:https://brain.uci.edu/event/aaron-bornstein-ph-d/
LOCATION:CNLM Herklotz Conference Center and Virtually via Zoom
CATEGORIES:Faculty,Scientific,Staff,Students
ATTACH;FMTTYPE=image/png:https://brain.uci.edu/wp-content/uploads/sites/49/2021/06/aaron-bornstein-01-400x267-1.png
ORGANIZER;CN="UCI Center for the Neurobiology of Learning and Memory":MAILTO:memory@uci.edu
END:VEVENT
END:VCALENDAR