BEGIN:VCALENDAR
VERSION:2.0
PRODID:-//Brain - ECPv6.15.18//NONSGML v1.0//EN
CALSCALE:GREGORIAN
METHOD:PUBLISH
X-WR-CALNAME:Brain
X-ORIGINAL-URL:https://brain.uci.edu
X-WR-CALDESC:Events for Brain
REFRESH-INTERVAL;VALUE=DURATION:PT1H
X-Robots-Tag:noindex
X-PUBLISHED-TTL:PT1H
BEGIN:VTIMEZONE
TZID:America/Los_Angeles
BEGIN:DAYLIGHT
TZOFFSETFROM:-0800
TZOFFSETTO:-0700
TZNAME:PDT
DTSTART:20220313T100000
END:DAYLIGHT
BEGIN:STANDARD
TZOFFSETFROM:-0700
TZOFFSETTO:-0800
TZNAME:PST
DTSTART:20221106T090000
END:STANDARD
BEGIN:DAYLIGHT
TZOFFSETFROM:-0800
TZOFFSETTO:-0700
TZNAME:PDT
DTSTART:20230312T100000
END:DAYLIGHT
BEGIN:STANDARD
TZOFFSETFROM:-0700
TZOFFSETTO:-0800
TZNAME:PST
DTSTART:20231105T090000
END:STANDARD
BEGIN:DAYLIGHT
TZOFFSETFROM:-0800
TZOFFSETTO:-0700
TZNAME:PDT
DTSTART:20240310T100000
END:DAYLIGHT
BEGIN:STANDARD
TZOFFSETFROM:-0700
TZOFFSETTO:-0800
TZNAME:PST
DTSTART:20241103T090000
END:STANDARD
END:VTIMEZONE
BEGIN:VEVENT
DTSTART;TZID=America/Los_Angeles:20230419T170000
DTEND;TZID=America/Los_Angeles:20230419T170000
DTSTAMP:20260421T151138
CREATED:20230221T191819Z
LAST-MODIFIED:20230221T191837Z
UID:10000393-1681923600-1681923600@brain.uci.edu
SUMMARY:The Havana Syndrome:  A Disorder of Neuropolitics?
DESCRIPTION:In one of the most extraordinary cases in the history of science\, the mating calls of insects were mistaken for a “sonic weapon” that led to a major diplomatic row. The lecture will trace the origins of the syndrome\, the response of the U.S. government\, the results of scientific investigations and opinions\, the evolution of the syndrome over time and similar phenomena that have occurred in the past. \nRobert W. Baloh\, MD is Professor of Neurology and Head and Neck Surgery (Emeritus) at the David Geffen School of Medicine at UCLA. Author of 14 books and more than 350 articles in peer-reviewed journals\, he is a pioneer in the study of the vestibular system and clinical neurotology. He has a recent book on Havana Syndrome co-authored with Robert Bartholomew\, a sociologist from New Zealand. Two other recent books are: “Medically Unexplained Symptoms” and “Exercise and the Brain”.
URL:https://brain.uci.edu/event/the-havana-syndrome-a-disorder-of-neuropolitics/
LOCATION:Virtual Event
CATEGORIES:All,Scientific,Staff,Students
ATTACH;FMTTYPE=image/jpeg:https://brain.uci.edu/wp-content/uploads/sites/49/2023/02/unnamed-1.jpeg
END:VEVENT
END:VCALENDAR