BEGIN:VCALENDAR
VERSION:2.0
PRODID:-//Brain - ECPv6.15.18//NONSGML v1.0//EN
CALSCALE:GREGORIAN
METHOD:PUBLISH
X-WR-CALNAME:Brain
X-ORIGINAL-URL:https://brain.uci.edu
X-WR-CALDESC:Events for Brain
REFRESH-INTERVAL;VALUE=DURATION:PT1H
X-Robots-Tag:noindex
X-PUBLISHED-TTL:PT1H
BEGIN:VTIMEZONE
TZID:America/Los_Angeles
BEGIN:DAYLIGHT
TZOFFSETFROM:-0800
TZOFFSETTO:-0700
TZNAME:PDT
DTSTART:20220313T100000
END:DAYLIGHT
BEGIN:STANDARD
TZOFFSETFROM:-0700
TZOFFSETTO:-0800
TZNAME:PST
DTSTART:20221106T090000
END:STANDARD
BEGIN:DAYLIGHT
TZOFFSETFROM:-0800
TZOFFSETTO:-0700
TZNAME:PDT
DTSTART:20230312T100000
END:DAYLIGHT
BEGIN:STANDARD
TZOFFSETFROM:-0700
TZOFFSETTO:-0800
TZNAME:PST
DTSTART:20231105T090000
END:STANDARD
BEGIN:DAYLIGHT
TZOFFSETFROM:-0800
TZOFFSETTO:-0700
TZNAME:PDT
DTSTART:20240310T100000
END:DAYLIGHT
BEGIN:STANDARD
TZOFFSETFROM:-0700
TZOFFSETTO:-0800
TZNAME:PST
DTSTART:20241103T090000
END:STANDARD
END:VTIMEZONE
BEGIN:VEVENT
DTSTART;TZID=America/Los_Angeles:20230630T110000
DTEND;TZID=America/Los_Angeles:20230630T120000
DTSTAMP:20260420T224110
CREATED:20230613T180620Z
LAST-MODIFIED:20230613T181255Z
UID:10000411-1688122800-1688126400@brain.uci.edu
SUMMARY:Hiruy Meharena\, PhD. - UCI Center for Aging Research in Down Syndrome (CFAR-DS) Seminar Series
DESCRIPTION:Please join us for the UCI Center for Aging Research in Down Syndrome (CFAR-DS) Seminar Series on Friday\, June 30 at 11 am Pacific Time \nHiruy Meharena\, PhD is an Assistant Professor in the Departments of Neurobiology and Molecular Biology in the School of Biological Sciences at UC San Diego. Hiruy’s group focuses on understanding how the brain develops at the molecular and cellular level to accomplish cognitive tasks. The overarching goal is to establish a comprehensive molecular map of the developing human brain in order to identify the cell-type specific gene-networks driving neurodevelopmental disorders associated with intellectual disability\, including Autism Spectrum Disorder and Down syndrome. Mouse models and human derived induced pluripotent stem cells (iPSCs) are utilized to decode the genomic and molecular signatures of intellectual disability during neurodevelopment and cognitive processing. \nPlease register here and you will be emailed the event details.
URL:https://brain.uci.edu/event/hiruy-meharena-phd-uci-center-for-aging-research-in-down-syndrome-cfar-ds-seminar-series/
LOCATION:Zoom\, Irvine\, CA\, 92697\, United States
CATEGORIES:Scientific
ATTACH;FMTTYPE=image/jpeg:https://brain.uci.edu/wp-content/uploads/sites/49/2023/06/Hiruy-Meharena.jpeg
END:VEVENT
END:VCALENDAR