BEGIN:VCALENDAR
VERSION:2.0
PRODID:-//Brain - ECPv6.15.18//NONSGML v1.0//EN
CALSCALE:GREGORIAN
METHOD:PUBLISH
X-WR-CALNAME:Brain
X-ORIGINAL-URL:https://brain.uci.edu
X-WR-CALDESC:Events for Brain
REFRESH-INTERVAL;VALUE=DURATION:PT1H
X-Robots-Tag:noindex
X-PUBLISHED-TTL:PT1H
BEGIN:VTIMEZONE
TZID:America/Los_Angeles
BEGIN:DAYLIGHT
TZOFFSETFROM:-0800
TZOFFSETTO:-0700
TZNAME:PDT
DTSTART:20220313T100000
END:DAYLIGHT
BEGIN:STANDARD
TZOFFSETFROM:-0700
TZOFFSETTO:-0800
TZNAME:PST
DTSTART:20221106T090000
END:STANDARD
BEGIN:DAYLIGHT
TZOFFSETFROM:-0800
TZOFFSETTO:-0700
TZNAME:PDT
DTSTART:20230312T100000
END:DAYLIGHT
BEGIN:STANDARD
TZOFFSETFROM:-0700
TZOFFSETTO:-0800
TZNAME:PST
DTSTART:20231105T090000
END:STANDARD
BEGIN:DAYLIGHT
TZOFFSETFROM:-0800
TZOFFSETTO:-0700
TZNAME:PDT
DTSTART:20240310T100000
END:DAYLIGHT
BEGIN:STANDARD
TZOFFSETFROM:-0700
TZOFFSETTO:-0800
TZNAME:PST
DTSTART:20241103T090000
END:STANDARD
END:VTIMEZONE
BEGIN:VEVENT
DTSTART;TZID=America/Los_Angeles:20231109T160000
DTEND;TZID=America/Los_Angeles:20231109T170000
DTSTAMP:20260421T182737
CREATED:20231027T200250Z
LAST-MODIFIED:20231027T201325Z
UID:10000445-1699545600-1699549200@brain.uci.edu
SUMMARY:Flavio Donato\, Ph.D.
DESCRIPTION:Conte Center @ UCI Seminar Series \nMemory dynamics through the divergent recruitment of developmentally-defined hippocampal traces \nJoin the Conte Center @ UCI for a seminar by Dr. Flavio Donato\, assistant professor of neurobiology at the University of Basel.
URL:https://brain.uci.edu/event/flavio-donato-ph-d/
LOCATION:Plumwood House\, 1003 Health Sciences Rd\, Irvine\, CA 92617\, Irvine\, CA\, 92697\, United States
CATEGORIES:Faculty,Scientific,Staff,Students, Faculty, Staff Only
ATTACH;FMTTYPE=image/jpeg:https://brain.uci.edu/wp-content/uploads/sites/49/2023/10/falvio-donato.jpg
END:VEVENT
END:VCALENDAR