BEGIN:VCALENDAR
VERSION:2.0
PRODID:-//Brain - ECPv6.15.18//NONSGML v1.0//EN
CALSCALE:GREGORIAN
METHOD:PUBLISH
X-WR-CALNAME:Brain
X-ORIGINAL-URL:https://brain.uci.edu
X-WR-CALDESC:Events for Brain
REFRESH-INTERVAL;VALUE=DURATION:PT1H
X-Robots-Tag:noindex
X-PUBLISHED-TTL:PT1H
BEGIN:VTIMEZONE
TZID:America/Los_Angeles
BEGIN:DAYLIGHT
TZOFFSETFROM:-0800
TZOFFSETTO:-0700
TZNAME:PDT
DTSTART:20230312T100000
END:DAYLIGHT
BEGIN:STANDARD
TZOFFSETFROM:-0700
TZOFFSETTO:-0800
TZNAME:PST
DTSTART:20231105T090000
END:STANDARD
BEGIN:DAYLIGHT
TZOFFSETFROM:-0800
TZOFFSETTO:-0700
TZNAME:PDT
DTSTART:20240310T100000
END:DAYLIGHT
BEGIN:STANDARD
TZOFFSETFROM:-0700
TZOFFSETTO:-0800
TZNAME:PST
DTSTART:20241103T090000
END:STANDARD
BEGIN:DAYLIGHT
TZOFFSETFROM:-0800
TZOFFSETTO:-0700
TZNAME:PDT
DTSTART:20250309T100000
END:DAYLIGHT
BEGIN:STANDARD
TZOFFSETFROM:-0700
TZOFFSETTO:-0800
TZNAME:PST
DTSTART:20251102T090000
END:STANDARD
END:VTIMEZONE
BEGIN:VEVENT
DTSTART;TZID=America/Los_Angeles:20241011T130000
DTEND;TZID=America/Los_Angeles:20241011T170000
DTSTAMP:20260421T160120
CREATED:20240925T222627Z
LAST-MODIFIED:20240925T223103Z
UID:10000592-1728651600-1728666000@brain.uci.edu
SUMMARY:Masakazu Agetsuma\, Ph.D.
DESCRIPTION:The Center for Neural Circuit Mapping will host guest speaker Dr. Masakazu Agetsuma\, Associate Professor of Neuroscience at the National Institute for Physiological Sciences\, Japan \n “Activity-dependent organization of prefrontal hub-networks for associative learning and signal transformation” \nAssociative learning is crucial for adapting to environmental changes. Interactions among neuronal populations involving the dorso-medial prefrontal cortex (dmPFC) in rodents are proposed to regulate associative memory. Although neural network remodeling is generally believed to underlie learning and memory\, how this process occurs to store and process associative memory remains one of the most critical open questions in the field. To tackle this question\, we developed a pipeline for longitudinal two-photon imaging and mathematical dissection of neural population activities in mouse dmPFC during fear-conditioning procedures\, enabling us to detect learning-dependent changes in the dmPFC information coding and network topology. After confirming that the dmPFC contributes to the expression of the conditioned responses (CR) by chemogenetic silencing\, we recorded neural population activities and analyzed them by regularized regression methods and graphical modeling. We found that fear conditioning drove dmPFC reorganization to generate a neuronal ensemble encoding CR\, which was characterized by enhanced internal coactivity and functional connectivity. Importantly\, neurons strongly responding to unconditioned stimuli during fear conditioning subsequently became hubs of this novel network and revealed enhanced association with conditioned stimuli (CS) specifically in the CR ensemble\, which may work as an information-processing neural network implementing CS-triggered CR. Altogether\, we demonstrate learning-dependent dynamic modulation of population coding structured on the activity-dependent formation of the hub network within the dmPFC. features reflecting the biomechanical constraints and evolutionary origins of these motor control systems.”
URL:https://brain.uci.edu/event/masakazu-agetsuma-phd/
LOCATION:Plumwood House Room 166\, 1003 Health Sciences Rd\, Irvine\, CA 92617\, Irvine\, CA\, 92697-3800\, United States
CATEGORIES:Faculty,Scientific,Staff,Students,Students, Faculty, Staff Only
ATTACH;FMTTYPE=image/png:https://brain.uci.edu/wp-content/uploads/sites/49/2024/09/Jeffrey-Krichmar-Ph.D.-9.png
END:VEVENT
END:VCALENDAR