BEGIN:VCALENDAR
VERSION:2.0
PRODID:-//Brain - ECPv6.15.18//NONSGML v1.0//EN
CALSCALE:GREGORIAN
METHOD:PUBLISH
X-WR-CALNAME:Brain
X-ORIGINAL-URL:https://brain.uci.edu
X-WR-CALDESC:Events for Brain
REFRESH-INTERVAL;VALUE=DURATION:PT1H
X-Robots-Tag:noindex
X-PUBLISHED-TTL:PT1H
BEGIN:VTIMEZONE
TZID:America/Los_Angeles
BEGIN:DAYLIGHT
TZOFFSETFROM:-0800
TZOFFSETTO:-0700
TZNAME:PDT
DTSTART:20200308T100000
END:DAYLIGHT
BEGIN:STANDARD
TZOFFSETFROM:-0700
TZOFFSETTO:-0800
TZNAME:PST
DTSTART:20201101T090000
END:STANDARD
BEGIN:DAYLIGHT
TZOFFSETFROM:-0800
TZOFFSETTO:-0700
TZNAME:PDT
DTSTART:20210314T100000
END:DAYLIGHT
BEGIN:STANDARD
TZOFFSETFROM:-0700
TZOFFSETTO:-0800
TZNAME:PST
DTSTART:20211107T090000
END:STANDARD
BEGIN:DAYLIGHT
TZOFFSETFROM:-0800
TZOFFSETTO:-0700
TZNAME:PDT
DTSTART:20220313T100000
END:DAYLIGHT
BEGIN:STANDARD
TZOFFSETFROM:-0700
TZOFFSETTO:-0800
TZNAME:PST
DTSTART:20221106T090000
END:STANDARD
END:VTIMEZONE
BEGIN:VEVENT
DTSTART;TZID=America/Los_Angeles:20210420T160000
DTEND;TZID=America/Los_Angeles:20210420T170000
DTSTAMP:20260419T235919
CREATED:20200731T220115Z
LAST-MODIFIED:20200731T220115Z
UID:10000160-1618934400-1618938000@brain.uci.edu
SUMMARY:Steven Petrou\, Ph.D.
DESCRIPTION:Dr. Steven Petrou\, professor and director of the Florey Institute of Neuroscience and Mental Health\, is one of the speakers in the 2020/21 EpiCenter Seminar Series. \nDr. Petrou is a leader in the field of ion channel neuropathies\, with a particular focus on rare epileptic encephalopathies. These are a range of genetic epilepsies affecting infants and young children with devasting impacts for them and their families.
URL:https://brain.uci.edu/event/steven-petrou-ph-d/
LOCATION:Irvine\, 92697\, United States
CATEGORIES:Faculty,Scientific,Staff,Students, Faculty, Staff Only
ATTACH;FMTTYPE=:
END:VEVENT
BEGIN:VEVENT
DTSTART;TZID=America/Los_Angeles:20210427T110000
DTEND;TZID=America/Los_Angeles:20210427T120000
DTSTAMP:20260419T235919
CREATED:20201023T163621Z
LAST-MODIFIED:20201023T163621Z
UID:10000191-1619521200-1619524800@brain.uci.edu
SUMMARY:CNLM Virtual Colloquium  with Corey Harwell\, Ph.D.
DESCRIPTION:Development and diversity of neural cell types in the septum \nThe CNLM will be hosting Dr. Corey Harwell\, from the Department of Neurobiology of Harvard Medical School\, in a virtual colloquium where he will present his latest research. \nAbstract: The septum is ventral forebrain structure responsible for the regulation of emotional states including anxiety\, fear and depression. The septum contains an extremely diverse array of short- and long-range projecting GABAergic neurons distributed across its two histological subdivisions\, the medial and lateral septal nuclei. Both of these regions are heavily interconnected with other brain areas. It is currently unclear how septal neuronal diversity and circuit wiring are specified during development. Using molecular genetics and single-cell/nuclei RNA-seq we have begun to unravel the developmental logic for producing diverse neural cell types in the septum. Our future work is focused on understanding the specific contribution of developmentally specified neural cell types to the regulation of internal states carried out by the septum. 
URL:https://brain.uci.edu/event/cnlm-virtual-colloquium-with-corey-harwell-ph-d/
LOCATION:Irvine\, 92697\, United States
CATEGORIES:Faculty,Scientific,Staff,Students
ATTACH;FMTTYPE=:
END:VEVENT
END:VCALENDAR