BEGIN:VCALENDAR
VERSION:2.0
PRODID:-//Brain - ECPv6.15.18//NONSGML v1.0//EN
CALSCALE:GREGORIAN
METHOD:PUBLISH
X-WR-CALNAME:Brain
X-ORIGINAL-URL:https://brain.uci.edu
X-WR-CALDESC:Events for Brain
REFRESH-INTERVAL;VALUE=DURATION:PT1H
X-Robots-Tag:noindex
X-PUBLISHED-TTL:PT1H
BEGIN:VTIMEZONE
TZID:America/Los_Angeles
BEGIN:DAYLIGHT
TZOFFSETFROM:-0800
TZOFFSETTO:-0700
TZNAME:PDT
DTSTART:20190310T100000
END:DAYLIGHT
BEGIN:STANDARD
TZOFFSETFROM:-0700
TZOFFSETTO:-0800
TZNAME:PST
DTSTART:20191103T090000
END:STANDARD
BEGIN:DAYLIGHT
TZOFFSETFROM:-0800
TZOFFSETTO:-0700
TZNAME:PDT
DTSTART:20200308T100000
END:DAYLIGHT
BEGIN:STANDARD
TZOFFSETFROM:-0700
TZOFFSETTO:-0800
TZNAME:PST
DTSTART:20201101T090000
END:STANDARD
BEGIN:DAYLIGHT
TZOFFSETFROM:-0800
TZOFFSETTO:-0700
TZNAME:PDT
DTSTART:20210314T100000
END:DAYLIGHT
BEGIN:STANDARD
TZOFFSETFROM:-0700
TZOFFSETTO:-0800
TZNAME:PST
DTSTART:20211107T090000
END:STANDARD
END:VTIMEZONE
BEGIN:VEVENT
DTSTART;TZID=America/Los_Angeles:20200224T173000
DTEND;TZID=America/Los_Angeles:20200224T183000
DTSTAMP:20260422T132527
CREATED:20200130T210745Z
LAST-MODIFIED:20200130T210745Z
UID:10000122-1582565400-1582569000@brain.uci.edu
SUMMARY:Fireside Chat with Joshua Gordon\, MD\, PhD
DESCRIPTION:The Conte Center @UCI is hosting a Fireside Chat with Joshua Gordon\, Director of the National Institute of Mental Health. This evening event is part of the Conte Center @UCI’s 7th Annual Symposium on Novel Technologies and the Brain.
URL:https://brain.uci.edu/event/fireside-chat-with-joshua-gordon-md-phd/
LOCATION:Irvine\, 92697\, United States
CATEGORIES:Faculty,Scientific,Staff,Students, Faculty, Staff Only
ATTACH;FMTTYPE=:
END:VEVENT
BEGIN:VEVENT
DTSTART;TZID=America/Los_Angeles:20200229T140000
DTEND;TZID=America/Los_Angeles:20200229T180000
DTSTAMP:20260422T132527
CREATED:20200205T222516Z
LAST-MODIFIED:20200205T222516Z
UID:10000127-1582984800-1582999200@brain.uci.edu
SUMMARY:Homecoming Festival
DESCRIPTION:Visit the UCI Brain and Center for the Neurobiology of Learning and Memory booth during the UCI Homecoming Festival on Saturday\, February 29th in Aldrich Park from 2-6 p.m. Visitors will have a chance to participate in interactive demonstrations and score some brain swag.
URL:https://brain.uci.edu/event/homecoming-festival/
LOCATION:Irvine\, 92697\, United States
CATEGORIES:All,Community,Faculty,Staff,Students,Students, Faculty, Staff Only
ATTACH;FMTTYPE=:
END:VEVENT
END:VCALENDAR