BEGIN:VCALENDAR
VERSION:2.0
PRODID:-//Brain - ECPv6.15.18//NONSGML v1.0//EN
CALSCALE:GREGORIAN
METHOD:PUBLISH
X-WR-CALNAME:Brain
X-ORIGINAL-URL:https://brain.uci.edu
X-WR-CALDESC:Events for Brain
REFRESH-INTERVAL;VALUE=DURATION:PT1H
X-Robots-Tag:noindex
X-PUBLISHED-TTL:PT1H
BEGIN:VTIMEZONE
TZID:America/Los_Angeles
BEGIN:DAYLIGHT
TZOFFSETFROM:-0800
TZOFFSETTO:-0700
TZNAME:PDT
DTSTART:20200308T100000
END:DAYLIGHT
BEGIN:STANDARD
TZOFFSETFROM:-0700
TZOFFSETTO:-0800
TZNAME:PST
DTSTART:20201101T090000
END:STANDARD
BEGIN:DAYLIGHT
TZOFFSETFROM:-0800
TZOFFSETTO:-0700
TZNAME:PDT
DTSTART:20210314T100000
END:DAYLIGHT
BEGIN:STANDARD
TZOFFSETFROM:-0700
TZOFFSETTO:-0800
TZNAME:PST
DTSTART:20211107T090000
END:STANDARD
BEGIN:DAYLIGHT
TZOFFSETFROM:-0800
TZOFFSETTO:-0700
TZNAME:PDT
DTSTART:20220313T100000
END:DAYLIGHT
BEGIN:STANDARD
TZOFFSETFROM:-0700
TZOFFSETTO:-0800
TZNAME:PST
DTSTART:20221106T090000
END:STANDARD
END:VTIMEZONE
BEGIN:VEVENT
DTSTART;TZID=America/Los_Angeles:20211005T110000
DTEND;TZID=America/Los_Angeles:20211005T120000
DTSTAMP:20260421T112655
CREATED:20210929T165153Z
LAST-MODIFIED:20210929T170905Z
UID:10000272-1633431600-1633435200@brain.uci.edu
SUMMARY:Dr. Eid Lien -Neurobiology and Behavior Seminar
DESCRIPTION:Join the UCI Department of Neurobiology and Behavior for a virtual seminar featuring Dr. Eid Lien.
URL:https://brain.uci.edu/event/dr-eid-lien-neurobiology-and-behavior-seminar/
CATEGORIES:Faculty,Scientific,Staff,Students
ATTACH;FMTTYPE=image/png:https://brain.uci.edu/wp-content/uploads/sites/49/2021/09/Dr-Eid-Lien-01-e1632934359635.png
END:VEVENT
BEGIN:VEVENT
DTSTART;TZID=America/Los_Angeles:20211007T110000
DTEND;TZID=America/Los_Angeles:20211007T120000
DTSTAMP:20260421T112655
CREATED:20211005T152910Z
LAST-MODIFIED:20211005T152910Z
UID:10000273-1633604400-1633608000@brain.uci.edu
SUMMARY:UCI MIND Seminar Series: Jessica Rexach\, MD\, PhD
DESCRIPTION:Functional Genomics Approach to Neuronal-Glial Mechanisms in Neurodegenerative Dementias \nJoin UCI MIND for an in-person seminar featuring Jessica Rexach\, M.D.\, Ph.D. \nJessica Rexach\, MD\, PhD \nDr. Rexach is an Assistant Professor and board certified neurologist at University of California Los Angeles. She currently holds the John Douglas French Alzheimer’s Foundation Endowed chair. Dr. Rexach studies how molecules of the immune system contribute to neurodegenerative disease. Different neurodegenerative dementias have different causal genes\, suggesting they result from distinct causal mechanisms. This includes glial and immune genes\, whose roles in the CNS are unclear. In this talk\, Dr. Rexach will highlight her recent ongoing works with the tools of functional genomics and how her lab leverages dementia genetics and genome-wide molecular disease phenotypes to generate unbiased\, data-driven models of neural-glial mechanisms of disease.  Dr. Rexach and her team use experimental systems\, including iPSC-derived spheroids and glia\, to test data-driven hypotheses in order to advance disease mechanisms and identify candidate drug targets. \nFor questions\, contact vswarup@uci.edu and bmander@hs.uci.edu
URL:https://brain.uci.edu/event/uci-mind-seminar-series-jessica-rexach-md-phd/
LOCATION:CNLM Herklotz Conference Center\, Irvine\, CA\, 92697\, United States
CATEGORIES:Scientific,Staff,Students
ATTACH;FMTTYPE=image/jpeg:https://brain.uci.edu/wp-content/uploads/sites/49/2021/10/image.jpeg
END:VEVENT
END:VCALENDAR