BEGIN:VCALENDAR
VERSION:2.0
PRODID:-//Brain - ECPv6.15.18//NONSGML v1.0//EN
CALSCALE:GREGORIAN
METHOD:PUBLISH
X-WR-CALNAME:Brain
X-ORIGINAL-URL:https://brain.uci.edu
X-WR-CALDESC:Events for Brain
REFRESH-INTERVAL;VALUE=DURATION:PT1H
X-Robots-Tag:noindex
X-PUBLISHED-TTL:PT1H
BEGIN:VTIMEZONE
TZID:America/Los_Angeles
BEGIN:DAYLIGHT
TZOFFSETFROM:-0800
TZOFFSETTO:-0700
TZNAME:PDT
DTSTART:20210314T100000
END:DAYLIGHT
BEGIN:STANDARD
TZOFFSETFROM:-0700
TZOFFSETTO:-0800
TZNAME:PST
DTSTART:20211107T090000
END:STANDARD
BEGIN:DAYLIGHT
TZOFFSETFROM:-0800
TZOFFSETTO:-0700
TZNAME:PDT
DTSTART:20220313T100000
END:DAYLIGHT
BEGIN:STANDARD
TZOFFSETFROM:-0700
TZOFFSETTO:-0800
TZNAME:PST
DTSTART:20221106T090000
END:STANDARD
BEGIN:DAYLIGHT
TZOFFSETFROM:-0800
TZOFFSETTO:-0700
TZNAME:PDT
DTSTART:20230312T100000
END:DAYLIGHT
BEGIN:STANDARD
TZOFFSETFROM:-0700
TZOFFSETTO:-0800
TZNAME:PST
DTSTART:20231105T090000
END:STANDARD
END:VTIMEZONE
BEGIN:VEVENT
DTSTART;TZID=America/Los_Angeles:20220913T160000
DTEND;TZID=America/Los_Angeles:20220913T170000
DTSTAMP:20260421T152947
CREATED:20220829T181639Z
LAST-MODIFIED:20220829T181834Z
UID:10000334-1663084800-1663088400@brain.uci.edu
SUMMARY:Susan B. Perlman\, PhD
DESCRIPTION:Neuroscientific Evaluation of Risk in Early Childhood Psychopathology: Integrating Proximal and Distal Factors. \n\n\n\nJoin the Conte Center at UCI for a seminar featuring Dr. Susan B. Perlman\, Associate Professor of Psychiatry at the Washington University of St. Louis. \nTo learn more\, please visit: https://contecenter.uci.edu/seminar-series/
URL:https://brain.uci.edu/event/susan-b-perlman-phd/
LOCATION:Virtual/Hybrid Event (In person at Gross Hall 4th Floor Conference Room)\, Irvine\, CA\, 92697\, United States
CATEGORIES:Faculty,Scientific,Staff
ATTACH;FMTTYPE=image/jpeg:https://brain.uci.edu/wp-content/uploads/sites/49/2022/08/image-1-e1661797027822.jpeg
END:VEVENT
END:VCALENDAR