BEGIN:VCALENDAR
VERSION:2.0
PRODID:-//Brain - ECPv6.15.18//NONSGML v1.0//EN
CALSCALE:GREGORIAN
METHOD:PUBLISH
X-WR-CALNAME:Brain
X-ORIGINAL-URL:https://brain.uci.edu
X-WR-CALDESC:Events for Brain
REFRESH-INTERVAL;VALUE=DURATION:PT1H
X-Robots-Tag:noindex
X-PUBLISHED-TTL:PT1H
BEGIN:VTIMEZONE
TZID:America/Los_Angeles
BEGIN:DAYLIGHT
TZOFFSETFROM:-0800
TZOFFSETTO:-0700
TZNAME:PDT
DTSTART:20210314T100000
END:DAYLIGHT
BEGIN:STANDARD
TZOFFSETFROM:-0700
TZOFFSETTO:-0800
TZNAME:PST
DTSTART:20211107T090000
END:STANDARD
BEGIN:DAYLIGHT
TZOFFSETFROM:-0800
TZOFFSETTO:-0700
TZNAME:PDT
DTSTART:20220313T100000
END:DAYLIGHT
BEGIN:STANDARD
TZOFFSETFROM:-0700
TZOFFSETTO:-0800
TZNAME:PST
DTSTART:20221106T090000
END:STANDARD
BEGIN:DAYLIGHT
TZOFFSETFROM:-0800
TZOFFSETTO:-0700
TZNAME:PDT
DTSTART:20230312T100000
END:DAYLIGHT
BEGIN:STANDARD
TZOFFSETFROM:-0700
TZOFFSETTO:-0800
TZNAME:PST
DTSTART:20231105T090000
END:STANDARD
END:VTIMEZONE
BEGIN:VEVENT
DTSTART;TZID=America/Los_Angeles:20220208T090000
DTEND;TZID=America/Los_Angeles:20220208T123000
DTSTAMP:20260423T155722
CREATED:20220125T220206Z
LAST-MODIFIED:20220128T171840Z
UID:10000292-1644310800-1644323400@brain.uci.edu
SUMMARY:19th Annual EpiCenter Symposium
DESCRIPTION:19th Annual EpiCenter Symposium Brain Development & Epilepsy \nThe 19th Annual EpCenter Symposium includes keynote speaker Bina Santoro\, PhD\, assistant research scientist at the Mortimer B. Zuckerman Mind Brain Behavior Institute at Columbia University.
URL:https://brain.uci.edu/event/19th-annual-epicenter-symposium/
LOCATION:Virtual Event
CATEGORIES:Faculty,Scientific,Staff,Students,Students, Faculty, Staff Only
ATTACH;FMTTYPE=image/jpeg:https://brain.uci.edu/wp-content/uploads/sites/49/2022/01/image-2.jpeg
END:VEVENT
BEGIN:VEVENT
DTSTART;TZID=America/Los_Angeles:20220210T100000
DTEND;TZID=America/Los_Angeles:20220210T110000
DTSTAMP:20260423T155722
CREATED:20220125T221957Z
LAST-MODIFIED:20220128T214002Z
UID:10000293-1644487200-1644490800@brain.uci.edu
SUMMARY:Bruce Herring\, Ph.D.
DESCRIPTION:Cell-specific expression of SAP97 links augmented glutamatergic synapse function to Schizophrenia \nJoin the Department of Anatomy & Neurobiology for a virtual seminar featuring Bruce Herring\, PhD\, assistant professor of neurobiology at the University of Southern California.
URL:https://brain.uci.edu/event/bruce-herring-phd/
LOCATION:Virtual Event
CATEGORIES:Faculty,Scientific,Staff,Students,Students, Faculty, Staff Only
ATTACH;FMTTYPE=image/jpeg:https://brain.uci.edu/wp-content/uploads/sites/49/2022/01/image-3.jpeg
END:VEVENT
END:VCALENDAR