BEGIN:VCALENDAR
VERSION:2.0
PRODID:-//Brain - ECPv6.15.18//NONSGML v1.0//EN
CALSCALE:GREGORIAN
METHOD:PUBLISH
X-WR-CALNAME:Brain
X-ORIGINAL-URL:https://brain.uci.edu
X-WR-CALDESC:Events for Brain
REFRESH-INTERVAL;VALUE=DURATION:PT1H
X-Robots-Tag:noindex
X-PUBLISHED-TTL:PT1H
BEGIN:VTIMEZONE
TZID:UTC
BEGIN:STANDARD
TZOFFSETFROM:+0000
TZOFFSETTO:+0000
TZNAME:UTC
DTSTART:20210101T000000
END:STANDARD
END:VTIMEZONE
BEGIN:VEVENT
DTSTART;TZID=UTC:20220503T110000
DTEND;TZID=UTC:20220503T120000
DTSTAMP:20260422T152925
CREATED:20210810T003441Z
LAST-MODIFIED:20220405T154906Z
UID:10000260-1651575600-1651579200@brain.uci.edu
SUMMARY:CNLM Colloquium with Duane Watson\, Ph.D.
DESCRIPTION:Understanding the link between language experience and language processing  \nThe CNLM will be hosting Duane Watson\, Ph.D.\, Professor of Psychology and Human Development at Vanderbilt University\, in a colloquium where he will present his latest research. \nAbstract: A speaker’s  language environment plays an important role in language use.  The language environment is critical for language learning and vocabulary growth in children\, and in predicting the difficulty of processing words and sentences in adults. In this talk I will present a set of studies that will show that the relationship between language exposure and language use is complex.  I will present experimental evidence suggesting that daily internet reading habits are linked to language processing skills.   On the other hand\, I will also present evidence showing that multiple exposures to complex sentences do not necessarily make these sentences easier to understand.  Finally\, I will discuss some of the ways in which the spoken language environment can play a role in language use\, and will present a pilot study showing that social factors\, such as a shared opinion with a conversational partner\, can influence subtle linguistic factors such as speech prosody. \n  \nThis year\, the series will be held in a virtual format with some speakers presenting in-person as well. We will keep registered participants updated on the possibility of an in-person event as the situation with COVID-19 evolves. \n 
URL:https://brain.uci.edu/event/cnlm-colloquium-with-duane-watson-ph-d/
LOCATION:CNLM Herklotz Conference Center\, Irvine\, CA\, 92697\, United States
CATEGORIES:Scientific,Staff,Students,Students, Faculty, Staff Only
ATTACH;FMTTYPE=image/png:https://brain.uci.edu/wp-content/uploads/sites/49/2021/08/image-3.png
ORGANIZER;CN="UCI Center for the Neurobiology of Learning and Memory":MAILTO:memory@uci.edu
END:VEVENT
END:VCALENDAR