BEGIN:VCALENDAR
VERSION:2.0
PRODID:-//Brain - ECPv6.15.18//NONSGML v1.0//EN
CALSCALE:GREGORIAN
METHOD:PUBLISH
X-WR-CALNAME:Brain
X-ORIGINAL-URL:https://brain.uci.edu
X-WR-CALDESC:Events for Brain
REFRESH-INTERVAL;VALUE=DURATION:PT1H
X-Robots-Tag:noindex
X-PUBLISHED-TTL:PT1H
BEGIN:VTIMEZONE
TZID:America/Los_Angeles
BEGIN:DAYLIGHT
TZOFFSETFROM:-0800
TZOFFSETTO:-0700
TZNAME:PDT
DTSTART:20220313T100000
END:DAYLIGHT
BEGIN:STANDARD
TZOFFSETFROM:-0700
TZOFFSETTO:-0800
TZNAME:PST
DTSTART:20221106T090000
END:STANDARD
BEGIN:DAYLIGHT
TZOFFSETFROM:-0800
TZOFFSETTO:-0700
TZNAME:PDT
DTSTART:20230312T100000
END:DAYLIGHT
BEGIN:STANDARD
TZOFFSETFROM:-0700
TZOFFSETTO:-0800
TZNAME:PST
DTSTART:20231105T090000
END:STANDARD
BEGIN:DAYLIGHT
TZOFFSETFROM:-0800
TZOFFSETTO:-0700
TZNAME:PDT
DTSTART:20240310T100000
END:DAYLIGHT
BEGIN:STANDARD
TZOFFSETFROM:-0700
TZOFFSETTO:-0800
TZNAME:PST
DTSTART:20241103T090000
END:STANDARD
END:VTIMEZONE
BEGIN:VEVENT
DTSTART;TZID=America/Los_Angeles:20230117T160000
DTEND;TZID=America/Los_Angeles:20230117T170000
DTSTAMP:20260422T092603
CREATED:20230105T171315Z
LAST-MODIFIED:20230105T171315Z
UID:10000382-1673971200-1673974800@brain.uci.edu
SUMMARY:Anastasios Tzingounis\, Ph.D.
DESCRIPTION:Join the UCI Epilepsy Research Center in a hybrid seminar featuring Professor Anastasios Tzingounis from the Department of Physiology & Neurobiology at the University of Connecticut. \nOf Mice and KCNQ Channels: Lessons Learned from Animal Models
URL:https://brain.uci.edu/event/anastasios-tzingounis-ph-d/
LOCATION:SSIHI Palmer Family Research and Conference Room\, Rm 2608\, 856 Health Sciences Rd. Rm 2608\, Irvine\, CA\, 92617\, United States
CATEGORIES:Faculty,Scientific,Staff,Students,Students, Faculty, Staff Only
ATTACH;FMTTYPE=image/jpeg:https://brain.uci.edu/wp-content/uploads/sites/49/2023/01/Tzingounis1crop3-2.jpg
END:VEVENT
END:VCALENDAR