BEGIN:VCALENDAR
VERSION:2.0
PRODID:-//Brain - ECPv6.15.18//NONSGML v1.0//EN
CALSCALE:GREGORIAN
METHOD:PUBLISH
X-ORIGINAL-URL:https://brain.uci.edu
X-WR-CALDESC:Events for Brain
REFRESH-INTERVAL;VALUE=DURATION:PT1H
X-Robots-Tag:noindex
X-PUBLISHED-TTL:PT1H
BEGIN:VTIMEZONE
TZID:America/Los_Angeles
BEGIN:DAYLIGHT
TZOFFSETFROM:-0800
TZOFFSETTO:-0700
TZNAME:PDT
DTSTART:20210314T100000
END:DAYLIGHT
BEGIN:STANDARD
TZOFFSETFROM:-0700
TZOFFSETTO:-0800
TZNAME:PST
DTSTART:20211107T090000
END:STANDARD
BEGIN:DAYLIGHT
TZOFFSETFROM:-0800
TZOFFSETTO:-0700
TZNAME:PDT
DTSTART:20220313T100000
END:DAYLIGHT
BEGIN:STANDARD
TZOFFSETFROM:-0700
TZOFFSETTO:-0800
TZNAME:PST
DTSTART:20221106T090000
END:STANDARD
BEGIN:DAYLIGHT
TZOFFSETFROM:-0800
TZOFFSETTO:-0700
TZNAME:PDT
DTSTART:20230312T100000
END:DAYLIGHT
BEGIN:STANDARD
TZOFFSETFROM:-0700
TZOFFSETTO:-0800
TZNAME:PST
DTSTART:20231105T090000
END:STANDARD
END:VTIMEZONE
BEGIN:VEVENT
DTSTART;TZID=America/Los_Angeles:20220909T080000
DTEND;TZID=America/Los_Angeles:20220909T153000
DTSTAMP:20260421T115801
CREATED:20220829T183218Z
LAST-MODIFIED:20220829T184251Z
UID:10000335-1662710400-1662737400@brain.uci.edu
SUMMARY:33rd Annual Southern California Alzheimer’s Disease Research Conference
DESCRIPTION:Dementia across the lifespan…\nJoin UCI MIND\, Alzheimer’s Orange County\, and Alzheimer’s Association for the 33rd Annual Southern California Alzheimer’s Disease Research Conference. This hybrid conference will cover a wide range of topics across the lifespan\, such as Down syndrome\, frontotemporal dementia\, early-onset Alzheimer’s\, the oldest-old\, and even more.To view the agenda\, see our exhibitors\, read about our esteemed speakers\, and more\, visit conference.mind.uci.edu. \nThis is a hybrid event\, taking place in person at the Irvine Marriott Hotel and virtually via Zoom.  \n  \n 
URL:https://brain.uci.edu/event/33rd-annual-southern-california-alzheimers-disease-research-conference/
LOCATION:Irvine Marriott Hotel\, 18000 Von Karman Ave\, Irvine\, CA\, 92612
CATEGORIES:All,Community,Faculty,Scientific,Staff,Students
ATTACH;FMTTYPE=image/jpeg:https://brain.uci.edu/wp-content/uploads/sites/49/2022/08/2022-Alzheimers-Conference.jpg
END:VEVENT
BEGIN:VEVENT
DTSTART;TZID=America/Los_Angeles:20220920T100000
DTEND;TZID=America/Los_Angeles:20220920T110000
DTSTAMP:20260421T115801
CREATED:20220829T180611Z
LAST-MODIFIED:20220829T180611Z
UID:10000333-1663668000-1663671600@brain.uci.edu
SUMMARY:Li Zhang\, Ph.D
DESCRIPTION:CNCM Seminar  \nJoin the UCI Center for Neural Circuit Mapping in a seminar featuring Dr. Li Zhang\, Professor of Physiology & Neuroscience and Director of the Center for Neural Circuits and Sensory Processing Disorders of the Keck School of Medicine of USC.
URL:https://brain.uci.edu/event/li-zhang-ph-d/
LOCATION:Virtual Event
CATEGORIES:Faculty,Scientific,Students
ATTACH;FMTTYPE=image/jpeg:https://brain.uci.edu/wp-content/uploads/sites/49/2022/08/image.jpeg
END:VEVENT
BEGIN:VEVENT
DTSTART;TZID=America/Los_Angeles:20220928T100000
DTEND;TZID=America/Los_Angeles:20220928T110000
DTSTAMP:20260421T115801
CREATED:20220913T183033Z
LAST-MODIFIED:20220913T183033Z
UID:10000338-1664359200-1664362800@brain.uci.edu
SUMMARY:CNCM Seminar: Peyman Golshani\, MD\, PhD
DESCRIPTION:New open-source tools for imaging neuronal activity in freely behaving animals \nJoin the UCI Center for Neural Circuit Mapping in a hybrid conference featuring Dr. Peyman Golshani\, Professor of Neurology at the David Geffen School of Medicine\, UCLA. \nAbstract: \nDr. Golshani obtained his MD/PhD from UC Irvine and UC Davis where he trained under the mentorship of Dr. Edward G. Jones on the development of corticothalamic synapse. He then completed his Neurology residency at UCLA and obtained postdoctoral training with Dr. Felix Schweizer and Dr. Guoping Fan where he studied the role of DNA methylation in development of cortical circuits. He then became faculty and in collaboration with Dr. Portera-Cailliau and Dr. Stelios Smirnakis studied the developmental desynchronization of internally generated activity in the cerebral cortex. His independent laboratory now investigates how cortical microcircuits in the awake behaving animal encode sensory input and how disorders such as autism and developmental epilepsies disrupt functional cortical connectivity. \nHybrid Seminar \nIn-Person: Interdisciplinary Science & Engineering Building ISEB 2020  \nVirtual: via Zoom
URL:https://brain.uci.edu/event/cncm-seminar-peyman-golshani-md-phd/
LOCATION:Interdisciplinary Science and Engineering Building (ISEB) and Virtually Via Zoom\, 419 Physical Sciences Quad\, Irvine\, 92697\, United States
CATEGORIES:Faculty,Scientific,Staff,Students
ATTACH;FMTTYPE=image/jpeg:https://brain.uci.edu/wp-content/uploads/sites/49/2022/09/Peyman-Golshani-400x400-1.jpg
END:VEVENT
END:VCALENDAR