BEGIN:VCALENDAR
VERSION:2.0
PRODID:-//Brain - ECPv6.15.18//NONSGML v1.0//EN
CALSCALE:GREGORIAN
METHOD:PUBLISH
X-ORIGINAL-URL:https://brain.uci.edu
X-WR-CALDESC:Events for Brain
REFRESH-INTERVAL;VALUE=DURATION:PT1H
X-Robots-Tag:noindex
X-PUBLISHED-TTL:PT1H
BEGIN:VTIMEZONE
TZID:America/Los_Angeles
BEGIN:DAYLIGHT
TZOFFSETFROM:-0800
TZOFFSETTO:-0700
TZNAME:PDT
DTSTART:20210314T100000
END:DAYLIGHT
BEGIN:STANDARD
TZOFFSETFROM:-0700
TZOFFSETTO:-0800
TZNAME:PST
DTSTART:20211107T090000
END:STANDARD
BEGIN:DAYLIGHT
TZOFFSETFROM:-0800
TZOFFSETTO:-0700
TZNAME:PDT
DTSTART:20220313T100000
END:DAYLIGHT
BEGIN:STANDARD
TZOFFSETFROM:-0700
TZOFFSETTO:-0800
TZNAME:PST
DTSTART:20221106T090000
END:STANDARD
BEGIN:DAYLIGHT
TZOFFSETFROM:-0800
TZOFFSETTO:-0700
TZNAME:PDT
DTSTART:20230312T100000
END:DAYLIGHT
BEGIN:STANDARD
TZOFFSETFROM:-0700
TZOFFSETTO:-0800
TZNAME:PST
DTSTART:20231105T090000
END:STANDARD
END:VTIMEZONE
BEGIN:VEVENT
DTSTART;TZID=America/Los_Angeles:20220614T100000
DTEND;TZID=America/Los_Angeles:20220614T110000
DTSTAMP:20260423T173745
CREATED:20220524T202757Z
LAST-MODIFIED:20220525T214025Z
UID:10000329-1655200800-1655204400@brain.uci.edu
SUMMARY:Xiaoyu Shi\, PhD & Weian Zhao\, PhD
DESCRIPTION:CNCM Seminar \nJoin the UCI Center for Neural Circuit Mapping in a hybrid seminar featuring Dr. Xiaoyu Shi and Dr. Weian Zhao of UC Irvine where they will be discussing: Molecular-resolution label-retention expansion microscopy (LR-ExM) and its application in brain mapping and Spatial omics using fluorescence spectral and lifetime imaging. 
URL:https://brain.uci.edu/event/xiaoyu-shi-phd-weian-zhao-phd/
CATEGORIES:Scientific,Staff,Students
ATTACH;FMTTYPE=image/jpeg:https://brain.uci.edu/wp-content/uploads/sites/49/2022/05/Dr.-Zhao-and-Dr.-Shi.jpg
END:VEVENT
BEGIN:VEVENT
DTSTART;TZID=America/Los_Angeles:20220614T130000
DTEND;TZID=America/Los_Angeles:20220614T140000
DTSTAMP:20260423T173745
CREATED:20220524T200759Z
LAST-MODIFIED:20220524T201123Z
UID:10000327-1655211600-1655215200@brain.uci.edu
SUMMARY:C. Neill Epperson\, M.D.
DESCRIPTION:Enduring Impact of Childhood Adversity: Multimodal Investigations Across the Lifespan \n\n\n\nJoin the Conte Center @ UCI in a virtual seminar featuring\, C. Neil Epperson\, M.D.\, Robert Freedman Endowed Chair and Professor of the Department of Psychiatry of the University of Colorado School of Medicine.
URL:https://brain.uci.edu/event/c-neill-epperson-m-d/
LOCATION:Virtual Event
CATEGORIES:Scientific,Staff,Students
ATTACH;FMTTYPE=image/jpeg:https://brain.uci.edu/wp-content/uploads/sites/49/2022/05/image-6.jpeg
END:VEVENT
END:VCALENDAR