BEGIN:VCALENDAR
VERSION:2.0
PRODID:-//Brain - ECPv6.15.18//NONSGML v1.0//EN
CALSCALE:GREGORIAN
METHOD:PUBLISH
X-WR-CALNAME:Brain
X-ORIGINAL-URL:https://brain.uci.edu
X-WR-CALDESC:Events for Brain
REFRESH-INTERVAL;VALUE=DURATION:PT1H
X-Robots-Tag:noindex
X-PUBLISHED-TTL:PT1H
BEGIN:VTIMEZONE
TZID:America/Los_Angeles
BEGIN:DAYLIGHT
TZOFFSETFROM:-0800
TZOFFSETTO:-0700
TZNAME:PDT
DTSTART:20180311T100000
END:DAYLIGHT
BEGIN:STANDARD
TZOFFSETFROM:-0700
TZOFFSETTO:-0800
TZNAME:PST
DTSTART:20181104T090000
END:STANDARD
BEGIN:DAYLIGHT
TZOFFSETFROM:-0800
TZOFFSETTO:-0700
TZNAME:PDT
DTSTART:20190310T100000
END:DAYLIGHT
BEGIN:STANDARD
TZOFFSETFROM:-0700
TZOFFSETTO:-0800
TZNAME:PST
DTSTART:20191103T090000
END:STANDARD
BEGIN:DAYLIGHT
TZOFFSETFROM:-0800
TZOFFSETTO:-0700
TZNAME:PDT
DTSTART:20200308T100000
END:DAYLIGHT
BEGIN:STANDARD
TZOFFSETFROM:-0700
TZOFFSETTO:-0800
TZNAME:PST
DTSTART:20201101T090000
END:STANDARD
BEGIN:DAYLIGHT
TZOFFSETFROM:-0800
TZOFFSETTO:-0700
TZNAME:PDT
DTSTART:20210314T100000
END:DAYLIGHT
BEGIN:STANDARD
TZOFFSETFROM:-0700
TZOFFSETTO:-0800
TZNAME:PST
DTSTART:20211107T090000
END:STANDARD
END:VTIMEZONE
BEGIN:VEVENT
DTSTART;TZID=America/Los_Angeles:20191004T090000
DTEND;TZID=America/Los_Angeles:20191004T100000
DTSTAMP:20260419T225148
CREATED:20190725T210702Z
LAST-MODIFIED:20190725T210702Z
UID:10000079-1570179600-1570183200@brain.uci.edu
SUMMARY:ASK THE DOC: Malcolm Dick\, Ph.D.
DESCRIPTION:ASK THE DOC: Alzheimer’s Research Today is an informative Facebook Live video series focused on the most pressing questions and latest research in the fight against Alzheimer’s disease. Presented by a panel of experts from UCI MIND\, this series is scheduled for the first Friday of each month from 9:00-9:30AM PST at @UCIrvineMIND on Facebook.
URL:https://brain.uci.edu/event/uci-mind-ask-the-doctor-series-with-dr-malcolm-dick/
LOCATION:Irvine\, CA\, 92697\, United States
CATEGORIES:Community
ATTACH;FMTTYPE=:
END:VEVENT
BEGIN:VEVENT
DTSTART;TZID=America/Los_Angeles:20191004T093000
DTEND;TZID=America/Los_Angeles:20191004T170000
DTSTAMP:20260419T225148
CREATED:20190923T205512Z
LAST-MODIFIED:20190923T205512Z
UID:10000088-1570181400-1570208400@brain.uci.edu
SUMMARY:Southern California Biomedical Imaging and Machine Learning Symposium
DESCRIPTION:This free\, one-day symposium includes talks by UCI\, UCLA and USC speakers. The Southern California Biomedical Imaging and Machine Learning Symposium is sponsored by UCI’s Institute for Genomics and Bioinformatics.
URL:https://brain.uci.edu/event/genoimicssymposium/
LOCATION:Irvine\, CA\, 92697\, United States
CATEGORIES:Faculty,Staff,Students
ATTACH;FMTTYPE=:
END:VEVENT
BEGIN:VEVENT
DTSTART;TZID=America/Los_Angeles:20191007T180000
DTEND;TZID=America/Los_Angeles:20191007T190000
DTSTAMP:20260419T225149
CREATED:20190725T211029Z
LAST-MODIFIED:20190725T211029Z
UID:10000080-1570471200-1570474800@brain.uci.edu
SUMMARY:ASK THE DOC @ Fullerton Public Library
DESCRIPTION:Do you have questions about brain health\, memory changes\, and Alzheimer’s disease? Ask the experts from UCI MIND\, Orange County’s only congressionally designated Alzheimer’s Disease Research Center. Panelists will answer your most pressing questions during this free community Q&A session. 
URL:https://brain.uci.edu/event/uci-mind-ask-the-doc-fullerton-public-library/
LOCATION:Irvine\, CA\, 92697\, United States
CATEGORIES:Community
ATTACH;FMTTYPE=:
END:VEVENT
BEGIN:VEVENT
DTSTART;TZID=America/Los_Angeles:20191014T080000
DTEND;TZID=America/Los_Angeles:20191014T170000
DTSTAMP:20260419T225149
CREATED:20190618T205817Z
LAST-MODIFIED:20190618T205817Z
UID:10000071-1571040000-1571072400@brain.uci.edu
SUMMARY:The Irvine Center for Addiction Neuroscience Symposium
DESCRIPTION:Join us for the Irvine Center for Addiction Neuroscience (ICAN) Symposium on October 14th\, 2019. Over a billion individuals have substance use disorders across the world .ICAN aims to reduce substance use disorders through the promotion and development of sustained translational addiction research.
URL:https://brain.uci.edu/event/ican-symposium/
LOCATION:Irvine\, CA\, 92697\, United States
CATEGORIES:Faculty,Staff,Students
ATTACH;FMTTYPE=:
END:VEVENT
BEGIN:VEVENT
DTSTART;TZID=America/Los_Angeles:20191014T160000
DTEND;TZID=America/Los_Angeles:20191014T170000
DTSTAMP:20260419T225149
CREATED:20191002T204059Z
LAST-MODIFIED:20191002T204059Z
UID:10000090-1571068800-1571072400@brain.uci.edu
SUMMARY:Kendall Lee\, MD\, PhD
DESCRIPTION:Dr. Kendall Lee\, Professor and Director at the Neural Engineering Laboratory in the Department of Neurosurgery at the Mayo Clinic\, will present ‘Neural Engineering: Next Generation of Electroceuticals.’
URL:https://brain.uci.edu/event/kendalllee/
LOCATION:Irvine\, CA\, 92697\, United States
CATEGORIES:Faculty,Staff,Students
ATTACH;FMTTYPE=:
END:VEVENT
BEGIN:VEVENT
DTSTART;TZID=America/Los_Angeles:20191014T193000
DTEND;TZID=America/Los_Angeles:20191014T203000
DTSTAMP:20260419T225149
CREATED:20190618T213549Z
LAST-MODIFIED:20190618T213549Z
UID:10000073-1571081400-1571085000@brain.uci.edu
SUMMARY:McGaugh-Gerard Lecture on Learning and Memory 2019
DESCRIPTION:Daniel L. Schacter is the William R. Kenan\, Jr. Professor of Psychology at Harvard University. Schacter’s research explores the relation between conscious and unconscious forms of memory\, the nature of memory distortions\, how individuals use memory to imagine possible future events\, enhancement of online learning\, as well as the effects of aging on memory. \nThe McGaugh-Gerard lectures are made possible by the McGaugh-Gerard Endowment that was established by Dr. James L. McGaugh and the family trust of the late Dr. Ralph W. Gerard. The lectures are free to the public and are intended to encourage public education\, scientific discourse and exposure to world class science.
URL:https://brain.uci.edu/event/danielschacter/
LOCATION:Irvine\, CA\, 92697\, United States
CATEGORIES:All
ATTACH;FMTTYPE=:
END:VEVENT
BEGIN:VEVENT
DTSTART;TZID=America/Los_Angeles:20191024T110000
DTEND;TZID=America/Los_Angeles:20191024T120000
DTSTAMP:20260419T225149
CREATED:20191017T184517Z
LAST-MODIFIED:20191017T184517Z
UID:10000094-1571914800-1571918400@brain.uci.edu
SUMMARY:Juan Fortea\, M.D.\, Ph.D.
DESCRIPTION:“Alzheimer’s disease in Down syndrome and familial Alzheimer’s disease: Unique opportunities to understand and prevent a devastating disease”\nJuan Fortea\, M.D.\, Ph.D.\nAlzheimer Down Unit Director\nHospital of Sant Pau and Catalan Foundation for Down Syndrome
URL:https://brain.uci.edu/event/juan-fortea-m-d-ph-d/
LOCATION:Irvine\, CA\, 92697\, United States
CATEGORIES:Faculty,Staff,Students
ATTACH;FMTTYPE=:
END:VEVENT
BEGIN:VEVENT
DTSTART;TZID=America/Los_Angeles:20191025T073000
DTEND;TZID=America/Los_Angeles:20191025T160000
DTSTAMP:20260419T225149
CREATED:20190725T211550Z
LAST-MODIFIED:20190725T211550Z
UID:10000081-1571988600-1572019200@brain.uci.edu
SUMMARY:30th Annual SoCal Alzheimer’s Disease Research Conference
DESCRIPTION:Join national experts for the 30th Annual SoCal Alzheimer’s Disease Research Conference on Friday\, October 25th at the Irvine Marriott Hotel.How close are we to solving Alzheimer’s disease? What have we learned so far? Where do we go from here? For 30 years\, the Annual SoCal Alzheimer’s Disease Research Conference has delivered the latest knowledge in dementia research and care to the Orange County community. In its Pearl Anniversary\, join national experts as they explore what we have discovered and charge forward with hope for solutions!
URL:https://brain.uci.edu/event/30th-annual-socal-alzheimers-disease-research-conference/
LOCATION:Irvine\, CA\, 92697\, United States
CATEGORIES:Faculty,Students
ATTACH;FMTTYPE=:
END:VEVENT
BEGIN:VEVENT
DTSTART;TZID=America/Los_Angeles:20191025T130000
DTEND;TZID=America/Los_Angeles:20191025T180000
DTSTAMP:20260419T225149
CREATED:20191002T164039Z
LAST-MODIFIED:20191002T164039Z
UID:10000089-1572008400-1572026400@brain.uci.edu
SUMMARY:UCI Interdisciplinary Research Showcase and Workshop
DESCRIPTION:Faculty and graduate students are invited to join in this new workshop designed to celebrate and promote effective collaboration in interdisciplinary research. \nWorkshop sessions will address a wide range of topics of interest to UCI researchers\, including hands-on tools for promoting effective cross-disciplinary collaboration and best practices for leading and sustaining interdisciplinary research and training programs.
URL:https://brain.uci.edu/event/interdisciplinaryworkshop/
LOCATION:Irvine\, CA\, 92697\, United States
CATEGORIES:Faculty,Students
ATTACH;FMTTYPE=:
END:VEVENT
BEGIN:VEVENT
DTSTART;TZID=America/Los_Angeles:20191028T120000
DTEND;TZID=America/Los_Angeles:20191028T130000
DTSTAMP:20260419T225149
CREATED:20191023T173742Z
LAST-MODIFIED:20191023T173742Z
UID:10000095-1572264000-1572267600@brain.uci.edu
SUMMARY:Learning and Using Two Languages May Change Your Mind
DESCRIPTION:Judith F. Kroll\n\nDistinguished Professor\nDepartment of Language Science\nUniversity of California\, Irvine\nMonday\, October 28\, 2019 12:00 – 1:15 pm\, Education 2010
URL:https://brain.uci.edu/event/judithkroll/
LOCATION:Irvine\, CA\, 92697\, United States
CATEGORIES:Faculty,Staff,Students
ATTACH;FMTTYPE=:
END:VEVENT
BEGIN:VEVENT
DTSTART;TZID=America/Los_Angeles:20191101T090000
DTEND;TZID=America/Los_Angeles:20191101T100000
DTSTAMP:20260419T225149
CREATED:20190923T201038Z
LAST-MODIFIED:20190923T201038Z
UID:10000086-1572598800-1572602400@brain.uci.edu
SUMMARY:ASK THE DOC: Maria Corrada\, ScM\, ScD
DESCRIPTION:ASK THE DOC: Alzheimer’s Research Today is an informative Facebook Live video series focused on the most pressing questions and latest research in the fight against Alzheimer’s disease. Presented by a panel of experts from UCI MIND\, this series is scheduled for the first Friday of each month from 9:00-9:30AM PST at @UCIrvineMIND on Facebook. \n\nWill I Get Alzheimer’s If I Live Long Enough?\nwith Maria Corrada
URL:https://brain.uci.edu/event/mariacorrada/
LOCATION:CA
CATEGORIES:All,Community
ATTACH;FMTTYPE=:
END:VEVENT
BEGIN:VEVENT
DTSTART;TZID=America/Los_Angeles:20191106T120000
DTEND;TZID=America/Los_Angeles:20191106T130000
DTSTAMP:20260419T225149
CREATED:20191031T213228Z
LAST-MODIFIED:20191031T213228Z
UID:10000099-1573041600-1573045200@brain.uci.edu
SUMMARY:Shreesh P. Mysore\, Ph.D.
DESCRIPTION:Despite the rich literature on the consequences of selective attention to behavior and to neural responses\, as well as a wealth of models of competitive selection\, little is known about the circuit mechanisms by which the brain actually selects the highest priority stimulus as the next target of spatial attention. Following a first principles approach that breaks down selection into computational primitives\, and with experiments in the barn owl midbrain selection network\, Dr. Mysore and team recently discovered neural circuit mechanisms for categorical (robust-to-noise) selection as well as location-invariant selection (selection at all possible pairs of locations). Dr. Mysore shall describe these findings\, and in doing so\, highlight (a) the identification of a new form of population coding in the brain\, namely\, combinatorially optimized coding (relating to classic np-hard optimization problems)\, as well as of (b) a novel\, multi-holed donut-like organization of inhibition in the brain. He shall then switch gears and describe their development of primate-like behavioral paradigms for the study of endogenous as well as exogenous control of visuospatial selective attention in freely behaving mice. He shall end with early results from their efforts involving endoscopic calcium imaging and optogenetic manipulations in mice that are aimed at identifying circuit mechanisms of selection for spatial attention in mammals.
URL:https://brain.uci.edu/event/mysore/
LOCATION:Irvine\, CA\, 92697\, United States
CATEGORIES:Faculty,Staff,Students
ATTACH;FMTTYPE=:
END:VEVENT
BEGIN:VEVENT
DTSTART;TZID=America/Los_Angeles:20191107T110000
DTEND;TZID=America/Los_Angeles:20191107T120000
DTSTAMP:20260419T225149
CREATED:20190618T211239Z
LAST-MODIFIED:20190618T211239Z
UID:10000072-1573124400-1573128000@brain.uci.edu
SUMMARY:Davide Dulcis\, Ph.D.
DESCRIPTION:Dr. Dulcis is an Associate Professor of Psychiatry at UCSD. He is a faculty member of the Neurosciences graduate program and the Center for Circadian Biology at UCSD. He received his B.S. from University of Cagliari  (Italy) double majoring in Physiology and Biology. While earning his Ph.D. from University of Arizona in Neuroscience\, he illustrated the role of neurotransmitters in cardiac function of neurogenic invertebrate hearts. During his post-doctoral training in Neurobiology at UCSD\, he discovered that neurotransmitters can be respecified by sensory stimuli\, with matching respecification of postsynaptic receptor expression and associated changes in behavior (Nature\, 2008; Science\, 2013; Neuron\, 2017).
URL:https://brain.uci.edu/event/davidedulcis/
LOCATION:Irvine\, CA\, 92697\, United States
CATEGORIES:Faculty,Staff,Students
ATTACH;FMTTYPE=:
END:VEVENT
BEGIN:VEVENT
DTSTART;TZID=America/Los_Angeles:20191112T110000
DTEND;TZID=America/Los_Angeles:20191112T120000
DTSTAMP:20260419T225149
CREATED:20190910T183204Z
LAST-MODIFIED:20190910T183204Z
UID:10000084-1573556400-1573560000@brain.uci.edu
SUMMARY:Robert Hunt\, Ph.D.
DESCRIPTION:Interneurons and the control of memory precision \nInhibitory interneurons govern the sparse activation of principal cells that permits appropriate behaviors\, and they are activated during specific memory processes. Our recent work has demonstrated important roles for interneurons in disorders of brain development and injury. These studies have motivated our ongoing efforts to understand how these cells operate at the synaptic\, circuit and behavioral levels and in designing new technologies targeting specific populations of interneurons for therapy. I will discuss our recent efforts examining the role of interneurons in memory disorders and in designing cell-based therapies that enable precise manipulation of inhibitory circuits in the brain.
URL:https://brain.uci.edu/event/roberthuntcolloquium/
LOCATION:Irvine\, CA\, 92697\, United States
CATEGORIES:Faculty,Staff,Students
ATTACH;FMTTYPE=:
END:VEVENT
BEGIN:VEVENT
DTSTART;TZID=America/Los_Angeles:20191114T110000
DTEND;TZID=America/Los_Angeles:20191114T120000
DTSTAMP:20260419T225149
CREATED:20191101T225407Z
LAST-MODIFIED:20191101T225407Z
UID:10000102-1573729200-1573732800@brain.uci.edu
SUMMARY:Francesco Battaglia\, Ph.D.
DESCRIPTION:Cortico-hippocampal interactions for memory\nFrancesco Battaglia\, PhD\, Donders Institute for Brain\, Cognition and Behaviour\, Radboud University Nijmegen \nMemory representations are evolving objects through the lifetime of a memory. The recording of large groups of neurons from behaving animals has been instrumental for investigating brain network dynamics supporting memory encoding consolidation and retrieval. Classically\, upon memory encoding during active behavior\, hippocampal activity is dominated by theta oscillations. During inactivity\, hippocampal neurons burst synchronously\, constituting sharp waves\, which can propagate to other structures\, theoretically supporting memory consolidation. The PFC is one prominent target. This ‘two-stage’ model has been updated by new data from high-density electrophysiological recordings in animals that shed light on how information is encoded and exchanged between hippocampus and PFC. I will present an overview of this field focusing on results from my lab on cortico-hippocampal dynamics\, including new theoretical and experimental developments.  I will show how functional connectivity reconstruction based on Maximum Entropy methods can uncover changes in the prefrontal neural network that are linked to learning\, and how these cortical functional network responds to hippocampal sharp waves.  The link between cortical functional networks and hippocampal sharp waves correlates with animal’s performance in the behavioral task. In order to better delineate this link\, we designed a novel behavioral task\, the “object-space” task\, which allows to compare episodic-like memory acquisition\, with memory acquired by accumulation across multiple episodes\, while the basic behavioral sequence is very similar and comparable across conditions.
URL:https://brain.uci.edu/event/battaglia/
LOCATION:Irvine\, CA\, 92697\, United States
CATEGORIES:Faculty,Scientific,Students, Faculty, Staff Only
ATTACH;FMTTYPE=:
END:VEVENT
BEGIN:VEVENT
DTSTART;TZID=America/Los_Angeles:20191115T170000
DTEND;TZID=America/Los_Angeles:20191115T193000
DTSTAMP:20260419T225149
CREATED:20191030T164325Z
LAST-MODIFIED:20191030T164325Z
UID:10000097-1573837200-1573846200@brain.uci.edu
SUMMARY:Richard G. Ellenbogen\, MD\, FACS
DESCRIPTION:The 3rd Annual John A. Kusske Lecture Series \nRichard G. Ellenbogen\, MD\, FACS\nThe Myth of Equipoise\nTheodore S. Roberts Professor\nChair and Residency Program Director Department of Neurological Surgery University of Washington \nRSVP to Cindy Wang at ucineurosurgery@hs.uci.edu or 714-456-3402. Seating is limited.
URL:https://brain.uci.edu/event/ellenbogen/
LOCATION:Irvine\, CA\, 92697\, United States
CATEGORIES:Faculty,Staff,Students
ATTACH;FMTTYPE=:
END:VEVENT
BEGIN:VEVENT
DTSTART;TZID=America/Los_Angeles:20191120T170000
DTEND;TZID=America/Los_Angeles:20191120T203000
DTSTAMP:20260419T225149
CREATED:20191104T184826Z
LAST-MODIFIED:20191104T184826Z
UID:10000104-1574269200-1574281800@brain.uci.edu
SUMMARY:The 9th Annual Arnold Starr Lecture and Exhibition
DESCRIPTION:Mechanisms of Auditory Neuropathy\nGuest Lecture by Maoli Duan\, MD\, PhD\, Karolinska Institute\, Sweden \nLecture (6:00 – 7:00 p.m.) will be live-streamed and has been approved for AMA PRA Category 1 Credit\nArtists & Friends Dinner (7:00 – 8:30 p.m.) $100 single; $150 couple
URL:https://brain.uci.edu/event/the-9th-annual-arnold-starr-lecture-and-exhibition/
LOCATION:Irvine\, CA\, 92697\, United States
CATEGORIES:Faculty,Scientific,Students, Faculty, Staff Only
ATTACH;FMTTYPE=:
END:VEVENT
BEGIN:VEVENT
DTSTART;TZID=America/Los_Angeles:20191121T080000
DTEND;TZID=America/Los_Angeles:20191121T200000
DTSTAMP:20260419T225149
CREATED:20191101T182442Z
LAST-MODIFIED:20191101T182442Z
UID:10000101-1574323200-1574366400@brain.uci.edu
SUMMARY:UCI Brain Initiative Launch Event
DESCRIPTION:UCI faculty\, staff\, and students are invited to join UCI Brain for a day of discussions about team science\, presentations by groups of UCI faculty and students\, along with a special keynote presentation by Dr. Ralph Greenspan\, associate director of the Kavli Institute for the Brain and Mind. \nDuring this event\, UCI Brain will be sharing two new opportunities for UCI faculty: \n\nPilot Grants of up to $25\,000\nDimensions Team Science Development Tool\n\nIn the evening\, the community will be invited to a fireside chat with UCI’s most distinguished neuroscience faculty. \nInvite your friends on Facebook! \n 
URL:https://brain.uci.edu/event/uci-brain-initiative-launch-event/
LOCATION:Irvine\, CA\, 92697\, United States
CATEGORIES:Faculty,Scientific,Students, Faculty, Staff Only
ATTACH;FMTTYPE=:
END:VEVENT
BEGIN:VEVENT
DTSTART;TZID=America/Los_Angeles:20191121T160000
DTEND;TZID=America/Los_Angeles:20191121T170000
DTSTAMP:20260419T225149
CREATED:20191007T195659Z
LAST-MODIFIED:20191007T195659Z
UID:10000091-1574352000-1574355600@brain.uci.edu
SUMMARY:Michael Halassa\, M.D.\, Ph.D.
DESCRIPTION:Networks Underlying Cognitive Control & Flexibility \nMichael Halassa is a MIT neuroscientist who aims to understand the basic circuit mechanisms of how information is routed in the brain and how disruptions in these circuits can lead to neurological and psychiatric disorders. As a practicing psychiatrist he aims to develop novel approaches to diagnosing and treating these illnesses guided by insights both from the lab and clinic.
URL:https://brain.uci.edu/event/michael-halassa-m-d-ph-d/
LOCATION:Irvine\, CA\, 92697\, United States
CATEGORIES:Faculty,Scientific,Staff,Students
ATTACH;FMTTYPE=:
END:VEVENT
BEGIN:VEVENT
DTSTART;TZID=America/Los_Angeles:20191121T180000
DTEND;TZID=America/Los_Angeles:20191121T200000
DTSTAMP:20260419T225149
CREATED:20191016T185904Z
LAST-MODIFIED:20191016T185904Z
UID:10000093-1574359200-1574366400@brain.uci.edu
SUMMARY:How Will Brain Science Shape Your Future?
DESCRIPTION:How Will Brain Science Shape Your Future?\nFireside chat with UCI’s leading brain scientists \n6-8 p.m. with a reception beginning at 5 p.m.\nThe Beckman Center of the National Academies of Sciences and Engineering (directions) \nPlease note that registering online does not guarantee a seat. Early arrival is strongly encouraged.
URL:https://brain.uci.edu/event/how-will-brain-science-shape-your-future/
LOCATION:Irvine\, CA\, 92697\, United States
CATEGORIES:All,Community
ATTACH;FMTTYPE=:
END:VEVENT
BEGIN:VEVENT
DTSTART;TZID=America/Los_Angeles:20191123T080000
DTEND;TZID=America/Los_Angeles:20191123T130000
DTSTAMP:20260419T225149
CREATED:20191104T185441Z
LAST-MODIFIED:20191104T185441Z
UID:10000105-1574496000-1574514000@brain.uci.edu
SUMMARY:2019 Parkinson’s Symposium
DESCRIPTION:Treatment Options in Parkinson’s Disease: From Behavior to Movement \nJoin UCI Health for a special symposium about Parkinson’s disease\, including a discussion\non behavioral symptoms\, current and recent developments in medical and surgical therapies for Parkinson’s Disease. Visit ucihealth.org/parkinsonsevent to register.
URL:https://brain.uci.edu/event/2019-parkinsons-symposium/
LOCATION:Irvine\, CA\, 92697\, United States
CATEGORIES:Faculty,Scientific,Students, Faculty, Staff Only
ATTACH;FMTTYPE=:
END:VEVENT
BEGIN:VEVENT
DTSTART;TZID=America/Los_Angeles:20191125T090000
DTEND;TZID=America/Los_Angeles:20191125T100000
DTSTAMP:20260419T225149
CREATED:20191119T215045Z
LAST-MODIFIED:20191119T215045Z
UID:10000108-1574672400-1574676000@brain.uci.edu
SUMMARY:Elena Blanco-Suárez\, PhD
DESCRIPTION:
URL:https://brain.uci.edu/event/blanco-suarez/
LOCATION:Irvine\, CA\, 92697\, United States
CATEGORIES:Faculty,Scientific,Students, Faculty, Staff Only
ATTACH;FMTTYPE=:
END:VEVENT
BEGIN:VEVENT
DTSTART;TZID=America/Los_Angeles:20191125T100000
DTEND;TZID=America/Los_Angeles:20191125T113000
DTSTAMP:20260419T225149
CREATED:20191119T213259Z
LAST-MODIFIED:20191119T213259Z
UID:10000107-1574676000-1574681400@brain.uci.edu
SUMMARY:Javier Diaz Alonso\, PhD
DESCRIPTION:
URL:https://brain.uci.edu/event/diazalonso/
LOCATION:Irvine\, CA\, 92697\, United States
CATEGORIES:Faculty,Scientific,Students, Faculty, Staff Only
ATTACH;FMTTYPE=:
END:VEVENT
BEGIN:VEVENT
DTSTART;TZID=America/Los_Angeles:20191125T113000
DTEND;TZID=America/Los_Angeles:20191125T123000
DTSTAMP:20260419T225149
CREATED:20191119T212756Z
LAST-MODIFIED:20191119T212756Z
UID:10000106-1574681400-1574685000@brain.uci.edu
SUMMARY:Gucan Dai\, PhD
DESCRIPTION:
URL:https://brain.uci.edu/event/dai/
LOCATION:Irvine\, CA\, 92697\, United States
CATEGORIES:Faculty,Scientific,Students, Faculty, Staff Only
ATTACH;FMTTYPE=:
END:VEVENT
BEGIN:VEVENT
DTSTART;TZID=America/Los_Angeles:20191202T110000
DTEND;TZID=America/Los_Angeles:20191202T123000
DTSTAMP:20260419T225149
CREATED:20191126T175609Z
LAST-MODIFIED:20191126T175609Z
UID:10000109-1575284400-1575289800@brain.uci.edu
SUMMARY:Distinguished Language Scientist Colloquium
DESCRIPTION:The Neurobiology of reading in deaf and hearing adults \nThe UCI Program in Language Science will host Karen Emmorey from the School of Speech\, Language\, and Hearing Sciences at San Diego State University. \nRecent neuroimaging and neurophysiological evidence reveals how the reading system successfully adapts when phonological codes are relatively coarse-grained due to reduced or distorted auditory input. Our research focuses on deaf adults who have achieved reading success and how use sign language in their everyday lives.
URL:https://brain.uci.edu/event/karenemmorey/
LOCATION:Irvine\, CA\, 92697\, United States
CATEGORIES:Faculty,Scientific,Students, Faculty, Staff Only
ATTACH;FMTTYPE=:
END:VEVENT
BEGIN:VEVENT
DTSTART;TZID=America/Los_Angeles:20191206T090000
DTEND;TZID=America/Los_Angeles:20191206T093000
DTSTAMP:20260419T225149
CREATED:20190923T204331Z
LAST-MODIFIED:20190923T204331Z
UID:10000087-1575622800-1575624600@brain.uci.edu
SUMMARY:ASK THE DOC: Ira Lott\, MD
DESCRIPTION:ASK THE DOC: Alzheimer’s Research Today is an informative Facebook Live video series focused on the most pressing questions and latest research in the fight against Alzheimer’s disease. Presented by a panel of experts from UCI MIND\, this series is scheduled for the first Friday of each month from 9:00-9:30AM PST at @UCIrvineMIND on Facebook. \nWhat Is the Link Between Down Syndrome and Alzheimer’s?\nwith Ira Lott\, MD
URL:https://brain.uci.edu/event/iralott/
LOCATION:CA
CATEGORIES:Community
ATTACH;FMTTYPE=:
END:VEVENT
BEGIN:VEVENT
DTSTART;TZID=America/Los_Angeles:20191209T090000
DTEND;TZID=America/Los_Angeles:20191209T163000
DTSTAMP:20260419T225149
CREATED:20191204T174055Z
LAST-MODIFIED:20191204T174055Z
UID:10000113-1575882000-1575909000@brain.uci.edu
SUMMARY:Stem Cell and Regenerative Medicine Symposium
DESCRIPTION:
URL:https://brain.uci.edu/event/stem-cell-and-regenerative-medicine-symposium/
LOCATION:Irvine\, CA\, 92697\, United States
CATEGORIES:Faculty,Scientific,Students, Faculty, Staff Only
END:VEVENT
BEGIN:VEVENT
DTSTART;TZID=America/Los_Angeles:20191212T160000
DTEND;TZID=America/Los_Angeles:20191212T170000
DTSTAMP:20260419T225149
CREATED:20191007T200244Z
LAST-MODIFIED:20191007T200244Z
UID:10000092-1576166400-1576170000@brain.uci.edu
SUMMARY:Stephan Feske\, MD.
DESCRIPTION:UCI Medical Scientist Training Program Distinguished Lecture Series \nIon Channels as Critical Regulators of Immunity \nDr. Stephan Feske’s research focuses on signaling pathways in cells of the immune system\, particularly store-operated calcium entry (SOCE)\, mediated by the calcium release–activated calcium (CRAC) channel\, and other ion channels. \nThe Feske lab investigates how CRAC channels are activated\, how they affect cell physiology\, and how calcium signals control immune function in the contexts of infection\, autoimmunity\, and cancer.
URL:https://brain.uci.edu/event/stephan-feske-md/
LOCATION:Irvine\, CA\, 92697\, United States
CATEGORIES:Faculty,Staff,Students
ATTACH;FMTTYPE=:
END:VEVENT
BEGIN:VEVENT
DTSTART;TZID=America/Los_Angeles:20200110T110000
DTEND;TZID=America/Los_Angeles:20200110T113000
DTSTAMP:20260419T225149
CREATED:20191202T213355Z
LAST-MODIFIED:20191202T213355Z
UID:10000111-1578654000-1578655800@brain.uci.edu
SUMMARY:Why do Alzheimer's disease clinical trials fail?
DESCRIPTION:Live online Q&A with Joshua Grill\, PhD\, Associate Professor of Psychiatry & Human Behavior and Neurobiology & Behavior.  Attend the video live on our Facebook page or view archived episodes on our YouTube channel.
URL:https://brain.uci.edu/event/why-do-alzheimers-disease-clinical-trials-fail/
LOCATION:Irvine\, CA\, 92697\, United States
CATEGORIES:Community
ATTACH;FMTTYPE=:
END:VEVENT
BEGIN:VEVENT
DTSTART;TZID=America/Los_Angeles:20200113T160000
DTEND;TZID=America/Los_Angeles:20200113T170000
DTSTAMP:20260419T225149
CREATED:20200106T182357Z
LAST-MODIFIED:20200106T182357Z
UID:10000114-1578931200-1578934800@brain.uci.edu
SUMMARY:MSTP 35th Annual Distinguished Lecture Series
DESCRIPTION:A critical role for lysomes in neurodegenerative disease. \nThe 35th MSTP Annual Distinguished Lecture will feature Aimee Kao\, MD\, PhD\, a professor of neurobiology at the  University of California\, San Francisco.
URL:https://brain.uci.edu/event/mstp-35th-annual-distinguished-lecture-series/
LOCATION:Irvine\, CA\, 92697\, United States
CATEGORIES:Faculty,Scientific,Students, Faculty, Staff Only
ATTACH;FMTTYPE=:
END:VEVENT
END:VCALENDAR