BEGIN:VCALENDAR
VERSION:2.0
PRODID:-//Brain - ECPv6.15.18//NONSGML v1.0//EN
CALSCALE:GREGORIAN
METHOD:PUBLISH
X-WR-CALNAME:Brain
X-ORIGINAL-URL:https://brain.uci.edu
X-WR-CALDESC:Events for Brain
REFRESH-INTERVAL;VALUE=DURATION:PT1H
X-Robots-Tag:noindex
X-PUBLISHED-TTL:PT1H
BEGIN:VTIMEZONE
TZID:America/Los_Angeles
BEGIN:DAYLIGHT
TZOFFSETFROM:-0800
TZOFFSETTO:-0700
TZNAME:PDT
DTSTART:20190310T100000
END:DAYLIGHT
BEGIN:STANDARD
TZOFFSETFROM:-0700
TZOFFSETTO:-0800
TZNAME:PST
DTSTART:20191103T090000
END:STANDARD
BEGIN:DAYLIGHT
TZOFFSETFROM:-0800
TZOFFSETTO:-0700
TZNAME:PDT
DTSTART:20200308T100000
END:DAYLIGHT
BEGIN:STANDARD
TZOFFSETFROM:-0700
TZOFFSETTO:-0800
TZNAME:PST
DTSTART:20201101T090000
END:STANDARD
BEGIN:DAYLIGHT
TZOFFSETFROM:-0800
TZOFFSETTO:-0700
TZNAME:PDT
DTSTART:20210314T100000
END:DAYLIGHT
BEGIN:STANDARD
TZOFFSETFROM:-0700
TZOFFSETTO:-0800
TZNAME:PST
DTSTART:20211107T090000
END:STANDARD
END:VTIMEZONE
BEGIN:VEVENT
DTSTART;TZID=America/Los_Angeles:20200416T090000
DTEND;TZID=America/Los_Angeles:20200416T133000
DTSTAMP:20260420T175139
CREATED:20200302T183145Z
LAST-MODIFIED:20200302T183145Z
UID:10000131-1587027600-1587043800@brain.uci.edu
SUMMARY:Dimensions Training Session
DESCRIPTION:The UCI Brain Initiative is pleased to offer training sessions on the Dimensions Team Science Development Tool.\nThese training sessions are designed to help users better understand the interface\, the capabilities\, and opportunities in Dimensions. Participants are encouraged to apply for Dimensions access prior to attending the training session. \nFind out more!
URL:https://brain.uci.edu/event/dimensions-training-session/
LOCATION:Irvine\, CA\, 92697\, United States
CATEGORIES:Faculty,Scientific,Students, Faculty, Staff Only
ATTACH;FMTTYPE=:
END:VEVENT
BEGIN:VEVENT
DTSTART;TZID=America/Los_Angeles:20200501T110000
DTEND;TZID=America/Los_Angeles:20200501T113000
DTSTAMP:20260420T175139
CREATED:20200429T210807Z
LAST-MODIFIED:20200429T210807Z
UID:10000135-1588330800-1588332600@brain.uci.edu
SUMMARY:Alzheimer's disease\, clinical trials\, & COVID-19: Ask Dr. Daniel Gillen
DESCRIPTION:Join UCI MIND for a live Q&A on Facebook with Dr. Daniel Gillen\, Professor and Chair of Statistics at UC Irvine.
URL:https://brain.uci.edu/event/alzheimers-disease-clinical-trials-covid-19-ask-dr-daniel-gillen/
LOCATION:Irvine\, CA\, 92697\, United States
CATEGORIES:All,Community,Faculty,Scientific,Students, Faculty, Staff Only
ATTACH;FMTTYPE=:
END:VEVENT
BEGIN:VEVENT
DTSTART;TZID=America/Los_Angeles:20200501T110000
DTEND;TZID=America/Los_Angeles:20200501T120000
DTSTAMP:20260420T175139
CREATED:20200413T190013Z
LAST-MODIFIED:20200413T190013Z
UID:10000133-1588330800-1588334400@brain.uci.edu
SUMMARY:Sleep in the COVID Crisis: Maintaining Emotional Stability\, Cognition and Immune Function Under Stress
DESCRIPTION:The School of Social Sciences is hosting a  Zoom lecture series on timely topics related to COVID-19 moderated by Bill Maurer\, Dean\, Social Sciences\, UC Irvine.
URL:https://brain.uci.edu/event/sleep-in-the-covid-crisis-maintaining-emotional-stability-cognition-and-immune-function-under-stress/
LOCATION:Irvine\, CA\, 92697\, United States
CATEGORIES:All,Community,Faculty,Scientific,Staff,Students,Students, Faculty, Staff Only
ATTACH;FMTTYPE=:
END:VEVENT
BEGIN:VEVENT
DTSTART;TZID=America/Los_Angeles:20200508T080000
DTEND;TZID=America/Los_Angeles:20200508T170000
DTSTAMP:20260420T175139
CREATED:20200501T163324Z
LAST-MODIFIED:20200501T163324Z
UID:10000136-1588924800-1588957200@brain.uci.edu
SUMMARY:Brain and Kidney Symposium
DESCRIPTION:The Department of Medicine in the UCI School of Medicine will host the world’s first all-day virtual International Conference highlighting the interface between neuroscience\, neurology\, and nephrology. The multidisciplinary panel of speakers and moderators includes experts from the fields of neurology\, nephrology\, pathology\, and psychiatry.
URL:https://brain.uci.edu/event/brain-and-kidney-symposium/
LOCATION:Irvine\, CA\, 92697\, United States
CATEGORIES:Faculty,Scientific,Students, Faculty, Staff Only
ATTACH;FMTTYPE=:
END:VEVENT
BEGIN:VEVENT
DTSTART;TZID=America/Los_Angeles:20200513T130000
DTEND;TZID=America/Los_Angeles:20200513T140000
DTSTAMP:20260420T175139
CREATED:20200505T183204Z
LAST-MODIFIED:20200505T183204Z
UID:10000137-1589374800-1589378400@brain.uci.edu
SUMMARY:Virtual Colloquium with Andrew P. Maurer\, PhD
DESCRIPTION:Using “Model-Result” Interactions  to Understand Hippocampal LFPs: Implications for Cognitive Disorders
URL:https://brain.uci.edu/event/colloquium-maurer/
LOCATION:Irvine\, CA\, 92697\, United States
CATEGORIES:Faculty,Scientific,Staff,Students,Students, Faculty, Staff Only
ATTACH;FMTTYPE=:
END:VEVENT
BEGIN:VEVENT
DTSTART;TZID=America/Los_Angeles:20200520T160000
DTEND;TZID=America/Los_Angeles:20200520T180000
DTSTAMP:20260420T175139
CREATED:20200429T195011Z
LAST-MODIFIED:20200429T195011Z
UID:10000134-1589990400-1589997600@brain.uci.edu
SUMMARY:2020 CNLM Award Ceremony
DESCRIPTION:Each year\, the Center for the Neurobiology of Learning and Memory (CNLM) offers awards to exceptional postdoctoral researchers\, graduate trainees\, and undergraduates students. Recipients receive awards of up to $1\,000 and will present their work in brief\, elevator pitch format to the CNLM community.
URL:https://brain.uci.edu/event/2020-cnlm-award-ceremony/
LOCATION:Irvine\, CA\, 92697\, United States
CATEGORIES:Community,Faculty,Scientific,Staff,Students,Students, Faculty, Staff Only
ATTACH;FMTTYPE=:
END:VEVENT
BEGIN:VEVENT
DTSTART;TZID=America/Los_Angeles:20200528T160000
DTEND;TZID=America/Los_Angeles:20200528T180000
DTSTAMP:20260420T175139
CREATED:20200511T162143Z
LAST-MODIFIED:20200511T162143Z
UID:10000138-1590681600-1590688800@brain.uci.edu
SUMMARY:Achieving Precision Health in Neuropsychiatry
DESCRIPTION:Keynote Speaker: Dr. Dan Geschwind\nUCI Precision Health through Artificial Intelligence Initiative presents an online lecture program Thursday\, May 28 from 4-6 p.m. \nAttendees can watch the lecture via Zoom Webinar or YouTube and can submit questions in both platforms’ Q&A boxes.\nRegistration is required.
URL:https://brain.uci.edu/event/achieving-precision-health-in-neuropsychiatry/
LOCATION:Irvine\, CA\, 92697\, United States
ATTACH;FMTTYPE=:
END:VEVENT
BEGIN:VEVENT
DTSTART;TZID=America/Los_Angeles:20200605T110000
DTEND;TZID=America/Los_Angeles:20200605T120000
DTSTAMP:20260420T175139
CREATED:20200529T180344Z
LAST-MODIFIED:20200529T180344Z
UID:10000139-1591354800-1591358400@brain.uci.edu
SUMMARY:Facebook LIVE Q&A: Why are animal models used to study Alzheimer’s disease? with Dean Frank LaFerla
DESCRIPTION:Dean of the School of Biological Sciences\, Frank LaFerla\, Ph\,D.\, will be answering questions about the use of animal models in the study of Alzheimer’s disease. \nTune in on Facebook this upcoming June 5th at 11AM
URL:https://brain.uci.edu/event/facebook-live-qa-why-are-animal-models-used-to-study-alzheimers-disease-with-frank-laferla/
LOCATION:Irvine\, CA\, 92697\, United States
CATEGORIES:Community
ATTACH;FMTTYPE=:
END:VEVENT
BEGIN:VEVENT
DTSTART;TZID=America/Los_Angeles:20200630T130000
DTEND;TZID=America/Los_Angeles:20200630T140000
DTSTAMP:20260420T175140
CREATED:20200612T202000Z
LAST-MODIFIED:20200612T202000Z
UID:10000146-1593522000-1593525600@brain.uci.edu
SUMMARY:Disrupted Maturation of Primate Brain Circuits by Early-life Adversity: A Multimodal Approach
DESCRIPTION:Join the Conte Center in this upcoming seminar by Mar Sanchez\, Ph.D.\, professor of Psychiatry and Behavioral Sciences at Emory University School of Medicine\, where she will be presenting her latest research on brain development and adversity. \nMore information!
URL:https://brain.uci.edu/event/disrupted-maturation-of-primate-brain-circuits-by-early-life-adversity-a-multimodal-approach/
LOCATION:Irvine\, CA\, 92697\, United States
CATEGORIES:Faculty,Scientific,Staff,Students,Students, Faculty, Staff Only
ATTACH;FMTTYPE=:
END:VEVENT
BEGIN:VEVENT
DTSTART;TZID=America/Los_Angeles:20200710T110000
DTEND;TZID=America/Los_Angeles:20200710T120000
DTSTAMP:20260420T175140
CREATED:20200529T180819Z
LAST-MODIFIED:20200529T180819Z
UID:10000140-1594378800-1594382400@brain.uci.edu
SUMMARY:Facebook LIVE Q&A: How does exercise (or lack thereof) impact the brain? with Dr. Nicole Berchtold
DESCRIPTION:Nicole C. Berchtold\, Ph\,D.\, associate project scientist at UCI MIND\, will be answering questions live on the effects of exercise on the brain.
URL:https://brain.uci.edu/event/facebook-live-qa-how-does-exercise-or-lack-thereof-impact-the-brain-with-dr-nicole-berchtold/
LOCATION:Irvine\, CA\, 92697\, United States
CATEGORIES:Community
ATTACH;FMTTYPE=:
END:VEVENT
BEGIN:VEVENT
DTSTART;TZID=America/Los_Angeles:20200727T080000
DTEND;TZID=America/Los_Angeles:20200802T170000
DTSTAMP:20260420T175140
CREATED:20200728T205418Z
LAST-MODIFIED:20200728T205418Z
UID:10000150-1595836800-1596387600@brain.uci.edu
SUMMARY:#BlackInNeuro Week
DESCRIPTION:#BlackinNeuroWeek is a weeklong celebration of Black excellence in neuroscience and related disciplines. BlackinNeuro is an international grassroots effort led by a brilliant group of Black scholars including UCI’s very own Elena Dominguez and Angeline Dukes. It is hosting the first BlackinNeuroWeek July 27-August 2\, 2020. In addition to daily themed hashtags and conversations\, the group is hosting live events on zoom. The schedule and event flyer is below. You can also find more information about individual sessions here. \n  \n[fusion_button link=”https://cnlm.formstack.com/forms/blackinneuroweek” text_transform=”” title=”” target=”_self” link_attributes=”” alignment=”” modal=”” hide_on_mobile=”small-visibility\,medium-visibility\,large-visibility” class=”” id=”” color=”default” button_gradient_top_color=”” button_gradient_bottom_color=”” button_gradient_top_color_hover=”” button_gradient_bottom_color_hover=”” accent_color=”” accent_hover_color=”” type=”” bevel_color=”” border_width=”” border_radius=”” border_color=”” border_hover_color=”” size=”” stretch=”default” icon=”” icon_position=”left” icon_divider=”no” animation_type=”” animation_direction=”left” animation_speed=”0.3″ animation_offset=””]RSVP Today[/fusion_button]
URL:https://brain.uci.edu/event/blackinneuro-week/
LOCATION:Irvine\, CA\, 92697\, United States
CATEGORIES:All,Community,Faculty,Scientific,Staff,Students,Students, Faculty, Staff Only
ATTACH;FMTTYPE=:
END:VEVENT
BEGIN:VEVENT
DTSTART;TZID=America/Los_Angeles:20200804T120000
DTEND;TZID=America/Los_Angeles:20200804T140000
DTSTAMP:20260420T175140
CREATED:20200730T202158Z
LAST-MODIFIED:20200730T202158Z
UID:10000151-1596542400-1596549600@brain.uci.edu
SUMMARY:Vince Calhoun | Conte Center Seminar
DESCRIPTION:Dr. Vince Calhoun\, distinguished university professor and founding director of the Tri-institutional Center for Translation Research in Neuroimaging and Data Science (TReNDS) at Georgia State University\, will present a virtual lecture titled\, Towards the development of brain imaging bookmarks: A network based approach.
URL:https://brain.uci.edu/event/vince-calhoun-conte-center-seminar/
LOCATION:Irvine\, CA\, 92697\, United States
CATEGORIES:Faculty,Scientific,Staff,Students,Students, Faculty, Staff Only
ATTACH;FMTTYPE=:
END:VEVENT
BEGIN:VEVENT
DTSTART;TZID=America/Los_Angeles:20200821T110000
DTEND;TZID=America/Los_Angeles:20200821T113000
DTSTAMP:20260420T175140
CREATED:20200529T181200Z
LAST-MODIFIED:20200529T181200Z
UID:10000141-1598007600-1598009400@brain.uci.edu
SUMMARY:Facebook LIVE Q&A: Do all people with Down syndrome get Alzheimer’s disease? with Eric Doran\, MS.
DESCRIPTION:Eric Doran\, MS\, Manager\, Down Syndrome Program\, UC Irvine\, will be answering questions about the connection of Down Syndrome and Alzheimer’s disease. \nJoin the UCI Mind broadcast this August 21st at 11AM
URL:https://brain.uci.edu/event/facebook-live-qa-do-all-people-with-down-syndrome-get-alzheimers-disease-with-eric-doran-ms/
LOCATION:Irvine\, CA\, 92697\, United States
CATEGORIES:Community
ATTACH;FMTTYPE=:
END:VEVENT
BEGIN:VEVENT
DTSTART;TZID=America/Los_Angeles:20200828T150000
DTEND;TZID=America/Los_Angeles:20200828T160000
DTSTAMP:20260420T175140
CREATED:20200812T232106Z
LAST-MODIFIED:20200812T232106Z
UID:10000165-1598626800-1598630400@brain.uci.edu
SUMMARY:Takao Hensch\, Ph.D.
DESCRIPTION:Balancing Brain Plasticity/Stability \nThe Conte Center @ UCI welcomes Dr. Takao Hensch\, Professor of Molecular and Cellular Biology at Harvard University.
URL:https://brain.uci.edu/event/takao-hensch-ph-d/
LOCATION:Irvine\, CA\, 92697\, United States
CATEGORIES:Faculty,Scientific,Staff,Students, Faculty, Staff Only
ATTACH;FMTTYPE=:
END:VEVENT
BEGIN:VEVENT
DTSTART;TZID=America/Los_Angeles:20200904T110000
DTEND;TZID=America/Los_Angeles:20200904T113000
DTSTAMP:20260420T175140
CREATED:20200529T182045Z
LAST-MODIFIED:20200529T182045Z
UID:10000142-1599217200-1599219000@brain.uci.edu
SUMMARY:Facebook LIVE Q&A: What role do immune cells play in Alzheimer’s disease? with Dr. Lindsay Hohsfield
DESCRIPTION:Lindsay Hohsfield\, Ph.D.\, from the Green Lab\, will be talking about the role of immune cells in Alzheimer’s disease. \nJoin this Facebook Q&A on September 4th at 11AM
URL:https://brain.uci.edu/event/facebook-live-qa-what-role-do-immune-cells-play-in-alzheimers-disease-with-dr-lindsay-hohsfield/
LOCATION:Irvine\, CA\, 92697\, United States
CATEGORIES:Community
ATTACH;FMTTYPE=:
END:VEVENT
BEGIN:VEVENT
DTSTART;TZID=America/Los_Angeles:20200910T080000
DTEND;TZID=America/Los_Angeles:20200910T120000
DTSTAMP:20260420T175140
CREATED:20200731T201244Z
LAST-MODIFIED:20200731T201244Z
UID:10000153-1599724800-1599739200@brain.uci.edu
SUMMARY:31st Annual SoCal Alzheimer's Research Conference
DESCRIPTION:Learn how new technologies are being used to accelerate science and care for Alzheimer’s disease and related dementias. Join international experts for UCI MIND and Alzheimer’s Orange County’s first-ever free virtual conference in its 30-year history.
URL:https://brain.uci.edu/event/31st-annual-socal-alzheimers-research-conference/
LOCATION:Irvine\, CA\, 92697\, United States
CATEGORIES:All,Community,Faculty,Scientific,Staff,Students,Students, Faculty, Staff Only
ATTACH;FMTTYPE=:
END:VEVENT
BEGIN:VEVENT
DTSTART;TZID=America/Los_Angeles:20200916T080000
DTEND;TZID=America/Los_Angeles:20200916T123000
DTSTAMP:20260420T175140
CREATED:20200804T220307Z
LAST-MODIFIED:20200804T220307Z
UID:10000163-1600243200-1600259400@brain.uci.edu
SUMMARY:Cannabis in a Changing Brain
DESCRIPTION:Join the Center for the Study of Cannabis for their virtual symposium on Cannabis in a Changing Brain: The Evolving Impact of Cannabinoids Across the Lifespan. This event will include lectures from international researchers and UCI Impact of Cannabis Across the Lifespan (ICAL) members as well as a round table on “The Challenge of Cannabis Use in Adolescence.” \n[fusion_button link=”https://cannabis.uci.edu/news-views/cannabis-in-a-changing-brain/” text_transform=”” title=”” target=”_self” link_attributes=”” alignment_medium=”” alignment_small=”” alignment=”” modal=”” hide_on_mobile=”small-visibility\,medium-visibility\,large-visibility” sticky_display=”normal\,sticky” class=”” id=”” color=”default” button_gradient_top_color=”” button_gradient_bottom_color=”” button_gradient_top_color_hover=”” button_gradient_bottom_color_hover=”” accent_color=”” accent_hover_color=”” type=”” bevel_color=”” border_width=”” border_radius=”” border_color=”” border_hover_color=”” size=”” stretch=”default” margin_top=”” margin_right=”” margin_bottom=”” margin_left=”” icon=”” icon_position=”left” icon_divider=”no” animation_type=”” animation_direction=”left” animation_speed=”0.3″ animation_offset=””]Register Today[/fusion_button]
URL:https://brain.uci.edu/event/cannabis-in-a-changing-brain/
LOCATION:Irvine\, CA\, 92697\, United States
CATEGORIES:Faculty,Scientific,Staff,Students, Faculty, Staff Only
ATTACH;FMTTYPE=:
END:VEVENT
BEGIN:VEVENT
DTSTART;TZID=America/Los_Angeles:20200917T100000
DTEND;TZID=America/Los_Angeles:20200917T110000
DTSTAMP:20260420T175140
CREATED:20200820T190552Z
LAST-MODIFIED:20200820T190552Z
UID:10000167-1600336800-1600340400@brain.uci.edu
SUMMARY:NextGen Epilepsy Seminars - Precision models of ARX-associated genetic epilepsies
DESCRIPTION:Vanesa Nieto-Estevez\, a postdoc in Jenny Hsieh’s lab at UTSA\, will present her latest epilepsy-related research. This event is part of the NextGen Epilepsy Seminar Series which features postdocs and graduate students. This event is sponsored by the Epilepsy Research Center and the Department of Anatomy & Neurobiology.
URL:https://brain.uci.edu/event/nextgen-epilepsy-seminars-precision-models-of-arx-associated-genetic-epilepsies/
LOCATION:Irvine\, CA\, 92697\, United States
CATEGORIES:All,Community
ATTACH;FMTTYPE=:
END:VEVENT
BEGIN:VEVENT
DTSTART;TZID=America/Los_Angeles:20200922T110000
DTEND;TZID=America/Los_Angeles:20200922T120000
DTSTAMP:20260420T175140
CREATED:20200805T183838Z
LAST-MODIFIED:20200805T183838Z
UID:10000164-1600772400-1600776000@brain.uci.edu
SUMMARY:Bing Ren\, Ph.D.
DESCRIPTION:Applications of Single Cell Epigenomics to Neuroscience \nDr. Bing Ren is a Member of the Ludwig Institute for Cancer Research (LICR) and Professor of Molecular Medicine at the University of California\, San Diego. He will present the inaugural seminar of the UCI Center for the Neural Circuit Mapping.
URL:https://brain.uci.edu/event/applications-of-single-cell-epigenomics-to-neuroscience/
LOCATION:Irvine\, CA\, 92697\, United States
CATEGORIES:Faculty,Scientific,Staff,Students,Students, Faculty, Staff Only
ATTACH;FMTTYPE=:
END:VEVENT
BEGIN:VEVENT
DTSTART;TZID=America/Los_Angeles:20200922T110000
DTEND;TZID=America/Los_Angeles:20200922T120000
DTSTAMP:20260420T175140
CREATED:20200918T231600Z
LAST-MODIFIED:20200918T231600Z
UID:10000181-1600772400-1600776000@brain.uci.edu
SUMMARY:Sounds in silence: How glial cells in the ear promote maturation of the central auditory system
DESCRIPTION:The Department of Neurobiology and Behavior & UCI Center Hearing Research Seminar presents “Sounds in silence: How glial cells in the ear promote maturation of the central auditory system” featuring Dr. Dwight Bergles\, John Hopkins University. \nNeural pathways that process sensory information rely on both genetically preprogrammed events and active refinement to establish proper connectivity. Remarkably\, active processes begin prior to the onset of sensory experience\, when neurons fire spontaneous periodic bursts of action potentials. This highly stereotyped\, intrinsically generated activity promotes neuronal survival\, maturation and initial refinement of their connections. In the auditory system\, spontaneous activity arises within the cochlea prior to hearing onset. During this critical developmental stage\, glia-like supporting cells that surround inner hair cells spontaneously release ATP\, triggering a cascade of events that ultimately results in hair cell depolarization\, glutamate release and bursts of activity in groups of auditory neurons that will ultimately process similar frequencies of sound. We used electrophysiological recordings in isolated cochleae and in vivo imaging of auditory neuron activity from pre-hearing mice to uncover the complex molecular steps used to activate hair cells before hearing onset and the macroscopic patterns of activity exhibited by auditory neurons before hearing begins. I will discuss our recent evidence that osmotic changes in supporting cell shape regulate hair cell excitability\, and describe the effects of connexin 26 deletion\, a leading cause of inherited deafness\, on early patterned activity in the developing auditory system. \nZoom Meeting\nhttps://uci.zoom.us/j/94865809429\nMeeting ID: 948 6580 9429
URL:https://brain.uci.edu/event/sounds-in-silence-how-glial-cells-in-the-ear-promote-maturation-of-the-central-auditory-system/
LOCATION:Irvine\, CA\, 92697\, United States
CATEGORIES:Faculty,Scientific,Staff,Students,Students, Faculty, Staff Only
ATTACH;FMTTYPE=:
END:VEVENT
BEGIN:VEVENT
DTSTART;TZID=America/Los_Angeles:20200922T130000
DTEND;TZID=America/Los_Angeles:20200922T140000
DTSTAMP:20260420T175140
CREATED:20200731T200740Z
LAST-MODIFIED:20200731T200740Z
UID:10000152-1600779600-1600783200@brain.uci.edu
SUMMARY:Boris Bernhardt\, Ph.D.
DESCRIPTION:Boris Bernhardt is a cognitive scientist with expertise in neuroimaging\, network neuroscience\, and statistical learning. He is an assistant professor of neurology and neurosurgery at McGill University and heads the Multimodal Imaging and Connectome Analysis Lab.
URL:https://brain.uci.edu/event/bernhardt-boris-ph-d/
LOCATION:Irvine\, CA\, 92697\, United States
CATEGORIES:Faculty,Scientific,Students, Faculty, Staff Only
ATTACH;FMTTYPE=:
END:VEVENT
BEGIN:VEVENT
DTSTART;TZID=America/Los_Angeles:20200923T160000
DTEND;TZID=America/Los_Angeles:20200923T170000
DTSTAMP:20260420T175140
CREATED:20200908T193627Z
LAST-MODIFIED:20200908T193627Z
UID:10000179-1600876800-1600880400@brain.uci.edu
SUMMARY:Action Selection Gone Awry: Circuit Mechanisms of Parkinson's Disease and Dyskinesia
DESCRIPTION:Tune in to UCI MSTP’s Distinguished Lecture series on September 23rd\, 4-5pm for “Action Selection Gone Awry: Circuit Mechanisms of Parkinson’s Disease and Dyskinesia” featuring guest speaker Dr. Alexandra Nelson from UCSF department of Neurology. \nRSVP here to recieve the Zoom meeting link!
URL:https://brain.uci.edu/event/action-selection-gone-awry-circuit-mechanisms-of-parkinsons-disease-and-dyskinesia/
LOCATION:Irvine\, CA\, 92697\, United States
CATEGORIES:All,Community,Scientific
ATTACH;FMTTYPE=:
END:VEVENT
BEGIN:VEVENT
DTSTART;TZID=America/Los_Angeles:20200929T110000
DTEND;TZID=America/Los_Angeles:20200929T120000
DTSTAMP:20260420T175140
CREATED:20200917T200233Z
LAST-MODIFIED:20200917T200233Z
UID:10000180-1601377200-1601380800@brain.uci.edu
SUMMARY:CNLM Virtual Colloquium with Julian F. Thayer\, Ph.D.
DESCRIPTION:CNLM Virtual Colloquium with Julian F. Thayer\, Ph.D.\, Distinguished Professor Department of Psychological Science\, University of California\, Irvine \n \n Invite your friends on Facebook
URL:https://brain.uci.edu/event/cnlm-virtual-colloquium-with-julian-f-thayer-ph-d/
LOCATION:Irvine\, CA\, 92697\, United States
CATEGORIES:All,Community
ATTACH;FMTTYPE=:
END:VEVENT
BEGIN:VEVENT
DTSTART;TZID=America/Los_Angeles:20201001T100000
DTEND;TZID=America/Los_Angeles:20201001T110000
DTSTAMP:20260420T175140
CREATED:20200820T200739Z
LAST-MODIFIED:20200820T200739Z
UID:10000168-1601546400-1601550000@brain.uci.edu
SUMMARY:NextGen Epilepsy Seminars - Lauren Lau
DESCRIPTION:Lauren Lau\, PhD\, a postdoc in Kevin Staley’s lab at Harvard / Mass General\, will present her latest epilepsy-related research. This event is part of the NextGen Epilepsy Seminar Series which features postdocs and graduate students. This event is sponsored by the Epilepsy Research Center and the Department of Anatomy & Neurobiology.
URL:https://brain.uci.edu/event/nextgen-epilepsy-seminars-lauren-lau/
LOCATION:Irvine\, CA\, 92697\, United States
CATEGORIES:All,Community
ATTACH;FMTTYPE=:
END:VEVENT
BEGIN:VEVENT
DTSTART;TZID=America/Los_Angeles:20201002T110000
DTEND;TZID=America/Los_Angeles:20201002T120000
DTSTAMP:20260420T175140
CREATED:20200529T182832Z
LAST-MODIFIED:20200529T182832Z
UID:10000143-1601636400-1601640000@brain.uci.edu
SUMMARY:Facebook LIVE Q&A: Can you change your genes and risk for brain diseases? with Dr. Marcelo Wood
DESCRIPTION:The Chair of the department of Neurobiology and Behavior\, Marcelo Wood\, Ph.D.\, where he will answering questions about genes and brain disease risk on this live broadcast. \nJoin this live Q&A on October 2nd at 11AM \n 
URL:https://brain.uci.edu/event/facebook-live-qa-can-you-change-your-genes-and-risk-for-brain-diseases-with-dr-marcelo-wood/
LOCATION:Irvine\, CA\, 92697\, United States
CATEGORIES:Community
ATTACH;FMTTYPE=:
END:VEVENT
BEGIN:VEVENT
DTSTART;TZID=America/Los_Angeles:20201006T110000
DTEND;TZID=America/Los_Angeles:20201006T120000
DTSTAMP:20260420T175140
CREATED:20200624T200315Z
LAST-MODIFIED:20200624T200315Z
UID:10000147-1601982000-1601985600@brain.uci.edu
SUMMARY:CNLM Virtual Colloquium with Dr. Judith F. Kroll
DESCRIPTION:Join the Center for the Neurobiology of Learning and Memory for the virtual event where Dr. Kroll\, from the Department of Language Science\, will be presenting her research on the the consequences of bilingualism for the mind and the brain.
URL:https://brain.uci.edu/event/judithkroll-2/
LOCATION:Irvine\, CA\, 92697\, United States
CATEGORIES:Faculty,Scientific,Staff,Students, Faculty, Staff Only
ATTACH;FMTTYPE=:
END:VEVENT
BEGIN:VEVENT
DTSTART;TZID=America/Los_Angeles:20201013T110000
DTEND;TZID=America/Los_Angeles:20201013T120000
DTSTAMP:20260420T175140
CREATED:20201005T170105Z
LAST-MODIFIED:20201005T170105Z
UID:10000185-1602586800-1602590400@brain.uci.edu
SUMMARY:CNCM Seminar: Dr. Daniel B. Aharoni
DESCRIPTION:Developing New Tools For Imaging Network Dynamics in Freely Behaving Animals \nDr. Daniel B. Aharoni is an Assistant Professor in the department of Neurology at the University of California\, Los Angeles (UCLA). Dr. Aharoni’s research focuses on the development and design of novel tools with application to modern neuroscience. During his graduate career he designed\, build\, and operated a high-speed imaging system with applications in neuroscience and particle physics. During his time as a Post-Doctoral Fellow at UCLA\, Dr. Aharoni developed a novel open-source platform capable of capturing large-scale neural activity in awake\, freely behaving animals. This culminated in the formation of the UCLA Miniscope Project\, which his research group leads. The platform has been disseminated to many labs and is openly shared at miniscope.org. \nPlease register to the Zoom talk at: https://uci.co1.qualtrics.com/jfe/form/SV_5b7OxN2uc6QyHAx
URL:https://brain.uci.edu/event/cncm-seminar-dr-daniel-b-aharoni/
LOCATION:Irvine\, CA\, 92697\, United States
CATEGORIES:Faculty,Scientific,Staff,Students,Students, Faculty, Staff Only
ATTACH;FMTTYPE=:
END:VEVENT
BEGIN:VEVENT
DTSTART;TZID=America/Los_Angeles:20201015T100000
DTEND;TZID=America/Los_Angeles:20201015T110000
DTSTAMP:20260420T175140
CREATED:20200820T201238Z
LAST-MODIFIED:20200820T201238Z
UID:10000169-1602756000-1602759600@brain.uci.edu
SUMMARY:NextGen Epilepsy Seminars – Eda Erata
DESCRIPTION:Eda Erata a Graduate Student in Scott Soderling’s lab at Duke University\, will present her latest epilepsy-related research. This event is part of the NextGen Epilepsy Seminar Series which features postdocs and graduate students. This event is sponsored by the Epilepsy Research Center and the Department of Anatomy & Neurobiology.
URL:https://brain.uci.edu/event/nextgen-epilepsy-seminars-eda-erata/
LOCATION:Irvine\, CA\, 92697\, United States
CATEGORIES:All,Community
ATTACH;FMTTYPE=:
END:VEVENT
BEGIN:VEVENT
DTSTART;TZID=America/Los_Angeles:20201020T100000
DTEND;TZID=America/Los_Angeles:20201020T110000
DTSTAMP:20260420T175140
CREATED:20200731T210419Z
LAST-MODIFIED:20200731T210419Z
UID:10000154-1603188000-1603191600@brain.uci.edu
SUMMARY:David Henshall\, Ph.D.
DESCRIPTION:Dr. David Henshall is a professor in the department of molecular physiology and neuroscience in the Royal College of Surgeons (RCSI) in Ireland. He is one of the speakers in the 2020/21 EpiCenter Seminar Series.
URL:https://brain.uci.edu/event/david-henshall-ph-d/
LOCATION:Irvine\, CA\, 92697\, United States
CATEGORIES:Faculty,Scientific,Staff,Students, Faculty, Staff Only
ATTACH;FMTTYPE=:
END:VEVENT
BEGIN:VEVENT
DTSTART;TZID=America/Los_Angeles:20201027T110000
DTEND;TZID=America/Los_Angeles:20201027T120000
DTSTAMP:20260420T175140
CREATED:20200624T200642Z
LAST-MODIFIED:20200624T200642Z
UID:10000148-1603796400-1603800000@brain.uci.edu
SUMMARY:POSTPONED: CNLM Virtual Colloquium with Dr. Kate M. Wassum
DESCRIPTION:Our thoughts are with those who are impacted by the Silverado Canyon and Blue Ridge Fire which are currently burning in Orange County. \nIn light of the evacuations and lives impacted\, we have decided to postpone this event. \nJoin the Center for the Neurobiology of Learning and Memory in a virtual colloquium with Kate Wassum\, Ph.D.\, from UCLA\, who will be presenting her latest research on amygdala-cortical circuitry in reward learning and pursuit.
URL:https://brain.uci.edu/event/katewassum/
LOCATION:Irvine\, CA\, 92697\, United States
CATEGORIES:Faculty,Scientific,Staff,Students,Students, Faculty, Staff Only
ATTACH;FMTTYPE=:
END:VEVENT
END:VCALENDAR