BEGIN:VCALENDAR
VERSION:2.0
PRODID:-//Brain - ECPv6.15.18//NONSGML v1.0//EN
CALSCALE:GREGORIAN
METHOD:PUBLISH
X-WR-CALNAME:Brain
X-ORIGINAL-URL:https://brain.uci.edu
X-WR-CALDESC:Events for Brain
REFRESH-INTERVAL;VALUE=DURATION:PT1H
X-Robots-Tag:noindex
X-PUBLISHED-TTL:PT1H
BEGIN:VTIMEZONE
TZID:America/Los_Angeles
BEGIN:DAYLIGHT
TZOFFSETFROM:-0800
TZOFFSETTO:-0700
TZNAME:PDT
DTSTART:20240310T100000
END:DAYLIGHT
BEGIN:STANDARD
TZOFFSETFROM:-0700
TZOFFSETTO:-0800
TZNAME:PST
DTSTART:20241103T090000
END:STANDARD
BEGIN:DAYLIGHT
TZOFFSETFROM:-0800
TZOFFSETTO:-0700
TZNAME:PDT
DTSTART:20250309T100000
END:DAYLIGHT
BEGIN:STANDARD
TZOFFSETFROM:-0700
TZOFFSETTO:-0800
TZNAME:PST
DTSTART:20251102T090000
END:STANDARD
BEGIN:DAYLIGHT
TZOFFSETFROM:-0800
TZOFFSETTO:-0700
TZNAME:PDT
DTSTART:20260308T100000
END:DAYLIGHT
BEGIN:STANDARD
TZOFFSETFROM:-0700
TZOFFSETTO:-0800
TZNAME:PST
DTSTART:20261101T090000
END:STANDARD
END:VTIMEZONE
BEGIN:VEVENT
DTSTART;TZID=America/Los_Angeles:20250515T090000
DTEND;TZID=America/Los_Angeles:20250515T100000
DTSTAMP:20260422T214939
CREATED:20241029T192721Z
LAST-MODIFIED:20241030T170852Z
UID:10000618-1747299600-1747303200@brain.uci.edu
SUMMARY:Brinley Kantorski\, Ph.D.
DESCRIPTION:The Center for the Neurobiology of Learning & Memory (CNLM) will host guest speaker Dr. Brinley Kantorski\, Director of Education and Multimedia Development at Duquesne University’s Partnership in Education\, for their CONNECT Series. \nAddressing Vaccine Hesitancy through a Game: A N.O.V.E.L. approach \nJoin Dr. Brinley Kantorski\, a seasoned game designer and educator\, as she shares her hands-on experience in creating\, designing\, and testing an innovative educational game. This presentation will take you behind the scenes of the educational game development process\, highlighting key stages from initial concept to final testing. Whether you’re an educator\, game designer\, or simply curious about the intersection of gaming and education\, this talk will equip you with valuable knowledge and inspiration to explore
URL:https://brain.uci.edu/event/brinley-kantorski-ph-d/
LOCATION:Virtual via Zoom\, CA
ATTACH;FMTTYPE=image/png:https://brain.uci.edu/wp-content/uploads/sites/49/2024/10/Untitled-design-45.png
ORGANIZER;CN="UC Irvine Center for the Neurobiology of Learning &amp%3B Memory":MAILTO:memory@uci.edu
END:VEVENT
BEGIN:VEVENT
DTSTART;TZID=America/Los_Angeles:20250520T100000
DTEND;TZID=America/Los_Angeles:20250520T110000
DTSTAMP:20260422T214939
CREATED:20240827T165415Z
LAST-MODIFIED:20240827T165551Z
UID:10000573-1747735200-1747738800@brain.uci.edu
SUMMARY:Peter Adams\, PhD
DESCRIPTION:The Center for Neural Circuit Mapping will host guest speaker Dr. Peter Adams\, Director & Professor in the NCI-designated Cancer Genome and Epigenetics Program at University of California\, San Diego
URL:https://brain.uci.edu/event/peter-adams-phd/
LOCATION:Interdisciplinary Science and Engineering Building (ISEB) and Virtually Via Zoom\, 419 Physical Sciences Quad\, Irvine\, 92697\, United States
ATTACH;FMTTYPE=image/png:https://brain.uci.edu/wp-content/uploads/sites/49/2024/08/Untitled-design-16.png
END:VEVENT
BEGIN:VEVENT
DTSTART;TZID=America/Los_Angeles:20250527T100000
DTEND;TZID=America/Los_Angeles:20250527T110000
DTSTAMP:20260422T214939
CREATED:20241030T182458Z
LAST-MODIFIED:20241030T182458Z
UID:10000621-1748340000-1748343600@brain.uci.edu
SUMMARY:Ting Wang\, PhD
DESCRIPTION:The Center for Neural Circuit Mapping will host guest speaker Dr. Ting Wang\, Distinguished Professor of Medicine and Head of Department of Genetics at Washington University School of Medicine. \nTransposable elements and cancer epigenome evolution
URL:https://brain.uci.edu/event/ting-wang-phd/
LOCATION:Interdisciplinary Science and Engineering Building (ISEB) 1200\, Irvine\, CA\, 92697\, United States
CATEGORIES:Faculty,Scientific,Staff,Students,Students, Faculty, Staff Only
ATTACH;FMTTYPE=image/png:https://brain.uci.edu/wp-content/uploads/sites/49/2024/10/Untitled-design-47.png
END:VEVENT
END:VCALENDAR