BEGIN:VCALENDAR
VERSION:2.0
PRODID:-//Brain - ECPv6.15.18//NONSGML v1.0//EN
CALSCALE:GREGORIAN
METHOD:PUBLISH
X-ORIGINAL-URL:https://brain.uci.edu
X-WR-CALDESC:Events for Brain
REFRESH-INTERVAL;VALUE=DURATION:PT1H
X-Robots-Tag:noindex
X-PUBLISHED-TTL:PT1H
BEGIN:VTIMEZONE
TZID:America/Los_Angeles
BEGIN:DAYLIGHT
TZOFFSETFROM:-0800
TZOFFSETTO:-0700
TZNAME:PDT
DTSTART:20190310T100000
END:DAYLIGHT
BEGIN:STANDARD
TZOFFSETFROM:-0700
TZOFFSETTO:-0800
TZNAME:PST
DTSTART:20191103T090000
END:STANDARD
BEGIN:DAYLIGHT
TZOFFSETFROM:-0800
TZOFFSETTO:-0700
TZNAME:PDT
DTSTART:20200308T100000
END:DAYLIGHT
BEGIN:STANDARD
TZOFFSETFROM:-0700
TZOFFSETTO:-0800
TZNAME:PST
DTSTART:20201101T090000
END:STANDARD
BEGIN:DAYLIGHT
TZOFFSETFROM:-0800
TZOFFSETTO:-0700
TZNAME:PDT
DTSTART:20210314T100000
END:DAYLIGHT
BEGIN:STANDARD
TZOFFSETFROM:-0700
TZOFFSETTO:-0800
TZNAME:PST
DTSTART:20211107T090000
END:STANDARD
END:VTIMEZONE
BEGIN:VEVENT
DTSTART;TZID=America/Los_Angeles:20201105T100000
DTEND;TZID=America/Los_Angeles:20201105T110000
DTSTAMP:20260421T022937
CREATED:20200820T201639Z
LAST-MODIFIED:20200820T201639Z
UID:10000170-1604570400-1604574000@brain.uci.edu
SUMMARY:NextGen Epilepsy Seminar - Anastasia Brodovskaya
DESCRIPTION:Anastasia Brodovskaya a Graduate Student in Jaideep Kapur’s lab at University of Virginia\, will present her latest epilepsy-related research. This event is part of the NextGen Epilepsy Seminar Series which features postdocs and graduate students. This event is sponsored by the Epilepsy Research Center and the Department of Anatomy & Neurobiology.
URL:https://brain.uci.edu/event/nextgen-epilepsy-seminar-anastasia-brodovskaya/
LOCATION:Irvine\, CA\, 92697\, United States
CATEGORIES:All,Community
ATTACH;FMTTYPE=:
END:VEVENT
BEGIN:VEVENT
DTSTART;TZID=America/Los_Angeles:20201106T110000
DTEND;TZID=America/Los_Angeles:20201106T113000
DTSTAMP:20260421T022937
CREATED:20200529T183138Z
LAST-MODIFIED:20200529T183138Z
UID:10000144-1604660400-1604662200@brain.uci.edu
SUMMARY:Facebook LIVE Q&A: How does heart health impact the brain? with Dr. Daniel Nation
DESCRIPTION:Dr. Daniel Nation\, professor at USC\, will be discussing the relation between heart health and the brain. \n 
URL:https://brain.uci.edu/event/facebook-live-qa-how-does-heart-health-impact-the-brain-with-dr-daniel-nation/
LOCATION:Irvine\, CA\, 92697\, United States
CATEGORIES:All,Community,Faculty,Scientific,Staff,Students,Students, Faculty, Staff Only
ATTACH;FMTTYPE=:
END:VEVENT
BEGIN:VEVENT
DTSTART;TZID=America/Los_Angeles:20201110T110000
DTEND;TZID=America/Los_Angeles:20201110T120000
DTSTAMP:20260421T022937
CREATED:20201029T172344Z
LAST-MODIFIED:20201029T172344Z
UID:10000192-1605006000-1605009600@brain.uci.edu
SUMMARY:Gina Poe\, Ph.D.
DESCRIPTION:Sleep to reframe your perspective: neural mechanisms at work to reconsolidate memories in light of new information \nDr. Gina Poe is a Professor in the Department of Integrative Biology and Physiology at UCLA. She is one of the speakers in the UCI Center for Neural Circuit Mapping 2020 -2021 Seminars.
URL:https://brain.uci.edu/event/gina-poe-ph-d/
LOCATION:Irvine\, CA\, 92697\, United States
CATEGORIES:All,Faculty,Scientific,Students
ATTACH;FMTTYPE=:
END:VEVENT
BEGIN:VEVENT
DTSTART;TZID=America/Los_Angeles:20201110T160000
DTEND;TZID=America/Los_Angeles:20201110T173000
DTSTAMP:20260421T022938
CREATED:20201029T173359Z
LAST-MODIFIED:20201029T173359Z
UID:10000193-1605024000-1605029400@brain.uci.edu
SUMMARY:Caring for the Caregiver
DESCRIPTION:Join UCI School of Nursing and UCI MIND for a virtual discussion and Q&A with experts on the unique challenges facing dementia caregivers during the COVID-19 pandemic.
URL:https://brain.uci.edu/event/caring-for-the-caregiver/
LOCATION:Irvine\, CA\, 92697\, United States
CATEGORIES:All,Community,Faculty,Staff,Students
ATTACH;FMTTYPE=:
END:VEVENT
BEGIN:VEVENT
DTSTART;TZID=America/Los_Angeles:20201117T130000
DTEND;TZID=America/Los_Angeles:20201117T140000
DTSTAMP:20260421T022938
CREATED:20200731T211407Z
LAST-MODIFIED:20200731T211407Z
UID:10000155-1605618000-1605621600@brain.uci.edu
SUMMARY:Catherine Woolley\, Ph.D.
DESCRIPTION:Dr. Catherine Woolley is a William Deering Professor in the department of neurobiology at Northwestern University. She is one of the speakers in the 2020/21 EpiCenter Seminar Series.
URL:https://brain.uci.edu/event/catherine-woolley-ph-d/
LOCATION:Irvine\, CA\, 92697\, United States
CATEGORIES:Faculty,Scientific,Staff,Students, Faculty, Staff Only
ATTACH;FMTTYPE=:
END:VEVENT
BEGIN:VEVENT
DTSTART;TZID=America/Los_Angeles:20201118T120000
DTEND;TZID=America/Los_Angeles:20201118T130000
DTSTAMP:20260421T022938
CREATED:20201113T173543Z
LAST-MODIFIED:20201113T173543Z
UID:10000195-1605700800-1605704400@brain.uci.edu
SUMMARY:Cognitive Sciences Virtual Colloquia Series - Josh McDermott\, Ph.D.
DESCRIPTION:Understanding Auditory Cortical Computation \nJust by listening\, humans can determine who is talking to them\, whether a window in their house is open or shut\, or what their child dropped on the floor in the next room. This ability to derive information from sound is enabled by a cascade of neuronal processing stages that transform the sound waveform entering the ear into cortical representations that are presumed to make behaviorally important sound properties explicit. Although much is known about the peripheral processing of sound\, the subsequent computations that support behavior are less understood. This talk will describe our recent efforts to develop new models of auditory computation that can account for auditory behavior\, illuminate function within auditory cortex\, and help people hear better. \nSpeaker Bio \nJosh McDermott studies sound and hearing in the Department of Brain and Cognitive Sciences at MIT\, where he is an Associate Professor and heads the Laboratory for Computational Audition. His research addresses human and machine audition using tools from experimental psychology\, engineering\, and neuroscience. McDermott obtained a BA in Brain and Cognitive Science from Harvard\, an MPhil in Computational Neuroscience from University College London\, a PhD in Brain and Cognitive Science from MIT\, and postdoctoral training in psychoacoustics at the University of Minnesota and in computational neuroscience at NYU. He is the recipient of a James S. McDonnell Foundation Scholar Award\, an NSF CAREER Award\, a Troland Research Award\, and the BCS Award For Excellence in Undergraduate Advising. \n  \n 
URL:https://brain.uci.edu/event/cognitive-sciences-virtual-colloquia-series-josh-mcdermott-ph-d/
LOCATION:Irvine\, CA\, 92697\, United States
CATEGORIES:All,Community,Scientific,Staff,Students
ATTACH;FMTTYPE=:
END:VEVENT
END:VCALENDAR